BEGIN:VCALENDAR
VERSION:2.0
PRODID:-//Angier Chamber of Commerce - ECPv6.15.18//NONSGML v1.0//EN
CALSCALE:GREGORIAN
METHOD:PUBLISH
X-WR-CALNAME:Angier Chamber of Commerce
X-ORIGINAL-URL:https://www.angierchamber.org
X-WR-CALDESC:Events for Angier Chamber of Commerce
REFRESH-INTERVAL;VALUE=DURATION:PT1H
X-Robots-Tag:noindex
X-PUBLISHED-TTL:PT1H
BEGIN:VTIMEZONE
TZID:UTC
BEGIN:STANDARD
TZOFFSETFROM:+0000
TZOFFSETTO:+0000
TZNAME:UTC
DTSTART:20240101T000000
END:STANDARD
END:VTIMEZONE
BEGIN:VEVENT
DTSTART;TZID=UTC:20251025T160000
DTEND;TZID=UTC:20251025T200000
DTSTAMP:20260424T235516
CREATED:20251009T174412Z
LAST-MODIFIED:20251009T174414Z
UID:10000909-1761408000-1761422400@www.angierchamber.org
SUMMARY:Ink and Incantations with Wildflower Cottage Bookstore
DESCRIPTION:
URL:https://www.angierchamber.org/event/ink-and-incantations-with-wildflower-cottage-bookstore/
LOCATION:Wildflower Cottage Bookstore\, 12 East Depot Street\, Angier\, NC\, 27501
ATTACH;FMTTYPE=image/jpeg:https://www.angierchamber.org/wp-content/uploads/2025/10/557632633_122169987380768098_7501089417948602926_n-1.jpg
END:VEVENT
BEGIN:VEVENT
DTSTART;TZID=UTC:20250814T180000
DTEND;TZID=UTC:20250814T190000
DTSTAMP:20260424T235516
CREATED:20250401T185755Z
LAST-MODIFIED:20250401T185756Z
UID:10000305-1755194400-1755198000@www.angierchamber.org
SUMMARY:Business After Hours
DESCRIPTION:Angier Chamber of Commerce members\, you’re invited to join us for Business After Hours at Wildflower Cottage Bookstore\, one of Angier’s newest small businesses!\nCome out and mingle with fellow Chamber members while exploring this cozy\, local gem in the heart of Angier. Enjoy light refreshments\, great company\, and discover all the unique books and gifts that Wildflower Cottage has to offer. \nWildflower Cottage is where creativity and community come together. Not only will you find the latest books and gently loved titles\, but you’ll also get a chance to learn about their fun book clubs\, community nights\, and creative classes that bring people together. \nThis event is exclusive to Angier Chamber of Commerce members\, so don’t miss this opportunity to network and support one of our wonderful local small businesses.\nIf you’re not a member of the Chamber\, we would love to have you join us. \nhttps://www.angierchamber.org/join-online/
URL:https://www.angierchamber.org/event/business-after-hours-4/
LOCATION:Wildflower Cottage Bookstore\, 12 East Depot Street\, Angier\, NC\, 27501
ATTACH;FMTTYPE=image/png:https://www.angierchamber.org/wp-content/uploads/2025/04/BAH.png
ORGANIZER;CN="Angier Chamber of Commerce":MAILTO:angiercc@angierchamber.org
END:VEVENT
BEGIN:VEVENT
DTSTART;TZID=UTC:20250719T120000
DTEND;TZID=UTC:20250719T170000
DTSTAMP:20260424T235516
CREATED:20250624T175430Z
LAST-MODIFIED:20250624T175431Z
UID:10000588-1752926400-1752944400@www.angierchamber.org
SUMMARY:Romance and Fantasy Book Fair with Wildflower Cottage Bookstore
DESCRIPTION:Calling all romantasy lovers — your next epic tale awaits! Join us (FOR FREE!) as we celebrate the magic of love\, legends\, and literature with featured authors:\n Jessica Leigh (Chronicles of Tuatha)\n Hayley Turner (Heirs of Esran) H. E. Bauman (The Darkened Skies) Harper Hawthorne (Harbingers)\n\n Plus:\nGiveaways for adults and children\nGoodie bags for the first 100 visitors\nAnd a little surprise for all you wildflowers… \n\nGet swept away in a storybook day of enchantment and meet the brilliant minds behind your next favorite series!
URL:https://www.angierchamber.org/event/romance-and-fantasy-book-fair-with-wildflower-cottage-bookstore/
LOCATION:Wildflower Cottage Bookstore\, 12 East Depot Street\, Angier\, NC\, 27501
ATTACH;FMTTYPE=image/jpeg:https://www.angierchamber.org/wp-content/uploads/2025/06/509935237_122148239222768098_8530334094263580105_n.jpg
END:VEVENT
BEGIN:VEVENT
DTSTART;TZID=UTC:20250628T120000
DTEND;TZID=UTC:20250628T130000
DTSTAMP:20260424T235516
CREATED:20250619T210010Z
LAST-MODIFIED:20250619T210013Z
UID:10000567-1751112000-1751115600@www.angierchamber.org
SUMMARY:Whimsy Workshop: Color-shifting Potions with Wildflower Cottage Bookstore
DESCRIPTION:This magical craft is beginner-friendly and packed with whimsy!\n✨ Ages 8+ (All children must be accompanied by a guardian for the entire event)\n✨ $15 per person\n✨ Pre-registration required — sign up online or in-store!\n✨ Limited spots available!
URL:https://www.angierchamber.org/event/whimsy-workshop-color-shifting-potions-with-wildflower-cottage-bookstore/
LOCATION:Wildflower Cottage Bookstore\, 12 East Depot Street\, Angier\, NC\, 27501
ATTACH;FMTTYPE=image/jpeg:https://www.angierchamber.org/wp-content/uploads/2025/05/482023042_122115374936768098_4746402585048410201_n.jpg
END:VEVENT
BEGIN:VEVENT
DTSTART;TZID=UTC:20250625T183000
DTEND;TZID=UTC:20250625T185500
DTSTAMP:20260424T235516
CREATED:20250624T175632Z
LAST-MODIFIED:20250624T175633Z
UID:10000589-1750876200-1750877700@www.angierchamber.org
SUMMARY:Read 25 Day with Wildflower Cottage Bookstore
DESCRIPTION:Sorry for being so quiet! We had a loss in the Cottage Family (thanks to all who reached out and gave condolences!) But we have exciting news!Join us in-store at 6:30 PM this Wednesday\, June 25 \,(tomorrow) for a special 25-minute silent bookclub experience to celebrate nationwide Read 25 Day. We’ll have raffles and lively conversation about the books you’re reading. We can’t wait to see you!
URL:https://www.angierchamber.org/event/read-25-day-with-wildflower-cottage-bookstore/
LOCATION:Wildflower Cottage Bookstore\, 12 East Depot Street\, Angier\, NC\, 27501
ATTACH;FMTTYPE=image/jpeg:https://www.angierchamber.org/wp-content/uploads/2025/06/509440624_122148239942768098_97873182865942200_n.jpg
END:VEVENT
BEGIN:VEVENT
DTSTART;TZID=UTC:20250531T140000
DTEND;TZID=UTC:20250531T150000
DTSTAMP:20260424T235516
CREATED:20250529T203715Z
LAST-MODIFIED:20250529T203716Z
UID:10000460-1748700000-1748703600@www.angierchamber.org
SUMMARY:Whimsy Workshop: Watercolor Bookmarks
DESCRIPTION:Join us for a magical afternoon of creativity at Wildflower Cottage! In this Whimsy Workshop\, we’ll be painting dreamy\, nature-inspired watercolor bookmarks—perfect for adding a touch of beauty to your current read or gifting to a fellow book lover. \nThis workshop is $10 per person and is open to ages 14+. All supplies will be provided\, and no prior experience is needed—just bring your imagination & creativity! \nTo register\, please use our sign-up link or visit us in-store. Spaces are limited\, so don’t wait to claim your seat at the crafting table! \nhttps://forms.gle/K6zUiuh2g3zNt9nTA
URL:https://www.angierchamber.org/event/whimsy-workshop-watercolor-bookmarks/
LOCATION:Wildflower Cottage Bookstore\, 12 East Depot Street\, Angier\, NC\, 27501
ATTACH;FMTTYPE=image/jpeg:https://www.angierchamber.org/wp-content/uploads/2025/05/482023042_122115374936768098_4746402585048410201_n.jpg
END:VEVENT
BEGIN:VEVENT
DTSTART;TZID=UTC:20250426T100000
DTEND;TZID=UTC:20250426T190000
DTSTAMP:20260424T235516
CREATED:20250401T210651Z
LAST-MODIFIED:20250401T210651Z
UID:10000311-1745661600-1745694000@www.angierchamber.org
SUMMARY:Storybook Soirée: A Celebration of Independent Bookstore Day
DESCRIPTION:
URL:https://www.angierchamber.org/event/storybook-soiree-a-celebration-of-independent-bookstore-day/
LOCATION:Wildflower Cottage Bookstore\, 12 East Depot Street\, Angier\, NC\, 27501
ATTACH;FMTTYPE=image/jpeg:https://www.angierchamber.org/wp-content/uploads/2025/04/th-1.jpg
END:VEVENT
BEGIN:VEVENT
DTSTART;TZID=UTC:20250425T120000
DTEND;TZID=UTC:20250425T130000
DTSTAMP:20260424T235516
CREATED:20250319T192133Z
LAST-MODIFIED:20250319T194658Z
UID:10000149-1745582400-1745586000@www.angierchamber.org
SUMMARY:Wildflower Cottage Bookstore Ribbon Cutting
DESCRIPTION:
URL:https://www.angierchamber.org/event/wildflower-cottage-bookstore/
LOCATION:Wildflower Cottage Bookstore\, 12 East Depot Street\, Angier\, NC\, 27501
ATTACH;FMTTYPE=image/png:https://www.angierchamber.org/wp-content/uploads/2025/03/Wildflower-Cottage.png
END:VEVENT
END:VCALENDAR