BEGIN:VCALENDAR
VERSION:2.0
PRODID:-//Angier Chamber of Commerce - ECPv6.15.18//NONSGML v1.0//EN
CALSCALE:GREGORIAN
METHOD:PUBLISH
X-ORIGINAL-URL:https://www.angierchamber.org
X-WR-CALDESC:Events for Angier Chamber of Commerce
REFRESH-INTERVAL;VALUE=DURATION:PT1H
X-Robots-Tag:noindex
X-PUBLISHED-TTL:PT1H
BEGIN:VTIMEZONE
TZID:UTC
BEGIN:STANDARD
TZOFFSETFROM:+0000
TZOFFSETTO:+0000
TZNAME:UTC
DTSTART:20240101T000000
END:STANDARD
END:VTIMEZONE
BEGIN:VEVENT
DTSTART;TZID=UTC:20260219T163000
DTEND;TZID=UTC:20260219T173000
DTSTAMP:20260423T111427
CREATED:20260206T210048Z
LAST-MODIFIED:20260206T210050Z
UID:10001253-1771518600-1771522200@www.angierchamber.org
SUMMARY:Pismarillo’s Empanadas & More Ribbon Cutting
DESCRIPTION:
URL:https://www.angierchamber.org/event/pismarillos-empanadas-more-ribbon-cutting/
LOCATION:Town of Angier\, 55 North Broad Street West\, Angier\, NC\, 27501\, United States
ATTACH;FMTTYPE=image/jpeg:https://www.angierchamber.org/wp-content/uploads/2026/02/Pimmarillos-Empandas-and-More-Ribbon-Cutting.jpg
END:VEVENT
BEGIN:VEVENT
DTSTART;TZID=UTC:20260109T120000
DTEND;TZID=UTC:20260109T123000
DTSTAMP:20260423T111427
CREATED:20251112T221459Z
LAST-MODIFIED:20251209T154418Z
UID:10001045-1767960000-1767961800@www.angierchamber.org
SUMMARY:Mighty Fine Concessions Ribbon Cutting
DESCRIPTION:
URL:https://www.angierchamber.org/event/mighty-fine-concessions-ribbon-cutting/
LOCATION:Town of Angier\, 55 North Broad Street West\, Angier\, NC\, 27501\, United States
ATTACH;FMTTYPE=image/jpeg:https://www.angierchamber.org/wp-content/uploads/2025/11/Might-Fine-Concessions.jpg
ORGANIZER;CN="Angier Chamber of Commerce":MAILTO:angiercc@angierchamber.org
END:VEVENT
BEGIN:VEVENT
DTSTART;TZID=UTC:20251024T120000
DTEND;TZID=UTC:20251024T123000
DTSTAMP:20260423T111427
CREATED:20250925T193725Z
LAST-MODIFIED:20250925T193726Z
UID:10000819-1761307200-1761309000@www.angierchamber.org
SUMMARY:Sunny Sips Lemonade Ribbon Cutting
DESCRIPTION:
URL:https://www.angierchamber.org/event/sunny-sips-lemonade-ribbon-cutting/
LOCATION:Town of Angier\, 55 North Broad Street West\, Angier\, NC\, 27501\, United States
ORGANIZER;CN="Angier Chamber of Commerce":MAILTO:angiercc@angierchamber.org
END:VEVENT
BEGIN:VEVENT
DTSTART;TZID=UTC:20250815T120000
DTEND;TZID=UTC:20250815T123000
DTSTAMP:20260423T111427
CREATED:20250728T170553Z
LAST-MODIFIED:20250728T170554Z
UID:10000696-1755259200-1755261000@www.angierchamber.org
SUMMARY:B'Wiched Gourmet Sandwiches Ribbon Cutting
DESCRIPTION:
URL:https://www.angierchamber.org/event/bwiched-gourmet-sandwiches-ribbon-cutting/
LOCATION:Town of Angier\, 55 North Broad Street West\, Angier\, NC\, 27501\, United States
ORGANIZER;CN="Angier Chamber of Commerce":MAILTO:angiercc@angierchamber.org
END:VEVENT
BEGIN:VEVENT
DTSTART;TZID=UTC:20250730T180000
DTEND;TZID=UTC:20250730T193000
DTSTAMP:20260423T111427
CREATED:20250715T174349Z
LAST-MODIFIED:20250715T174350Z
UID:10000657-1753898400-1753903800@www.angierchamber.org
SUMMARY:Angier Comprehensive Plan Meeting
DESCRIPTION:
URL:https://www.angierchamber.org/event/angier-comprehensive-plan-meeting/
LOCATION:Town of Angier\, 55 North Broad Street West\, Angier\, NC\, 27501\, United States
END:VEVENT
BEGIN:VEVENT
DTSTART;TZID=UTC:20250708T090000
DTEND;TZID=UTC:20250708T100000
DTSTAMP:20260423T111427
CREATED:20250707T194508Z
LAST-MODIFIED:20250707T194510Z
UID:10000599-1751965200-1751968800@www.angierchamber.org
SUMMARY:Special Called Town of Angier Board Meeting
DESCRIPTION:
URL:https://www.angierchamber.org/event/special-called-town-of-angier-board-meeting/
LOCATION:Town of Angier\, 55 North Broad Street West\, Angier\, NC\, 27501\, United States
END:VEVENT
BEGIN:VEVENT
DTSTART;TZID=UTC:20250613T120000
DTEND;TZID=UTC:20250613T123000
DTSTAMP:20260423T111427
CREATED:20250521T193401Z
LAST-MODIFIED:20250521T193404Z
UID:10000451-1749816000-1749817800@www.angierchamber.org
SUMMARY:Whiskers & Tails Mobile Grooming Ribbon Cutting
DESCRIPTION:
URL:https://www.angierchamber.org/event/whiskers-tails-mobile-grooming-ribbon-cutting/
LOCATION:Town of Angier\, 55 North Broad Street West\, Angier\, NC\, 27501\, United States
ATTACH;FMTTYPE=image/jpeg:https://www.angierchamber.org/wp-content/uploads/2025/05/ReVive-at-the-Ridge.jpg
ORGANIZER;CN="Angier Chamber of Commerce":MAILTO:angiercc@angierchamber.org
END:VEVENT
BEGIN:VEVENT
DTSTART;TZID=UTC:20250127T170000
DTEND;TZID=UTC:20250127T170000
DTSTAMP:20260423T111427
CREATED:20241212T222718Z
LAST-MODIFIED:20241216T140613Z
UID:10000024-1737997200-1737997200@www.angierchamber.org
SUMMARY:Town of Angier Community Development Advisory Board Meeting
DESCRIPTION:
URL:https://www.angierchamber.org/event/town-of-angier-community-development-advisory-board-meeting-6/
LOCATION:Town of Angier\, 55 North Broad Street West\, Angier\, NC\, 27501\, United States
ATTACH;FMTTYPE=image/jpeg:https://www.angierchamber.org/wp-content/uploads/2023/02/Downtown-Angier.jpg
END:VEVENT
BEGIN:VEVENT
DTSTART;TZID=UTC:20250114T183000
DTEND;TZID=UTC:20250114T183000
DTSTAMP:20260423T111427
CREATED:20241216T140329Z
LAST-MODIFIED:20241216T140408Z
UID:10000022-1736879400-1736879400@www.angierchamber.org
SUMMARY:Town of Angier Planning Board Meeting
DESCRIPTION:
URL:https://www.angierchamber.org/event/town-of-angier-planning-board-meeting-22/
LOCATION:Town of Angier\, 55 North Broad Street West\, Angier\, NC\, 27501\, United States
ATTACH;FMTTYPE=image/jpeg:https://www.angierchamber.org/wp-content/uploads/2023/02/Angier-Clock.jpg
END:VEVENT
BEGIN:VEVENT
DTSTART;TZID=UTC:20250107T183000
DTEND;TZID=UTC:20250107T183000
DTSTAMP:20260423T111427
CREATED:20241216T140219Z
LAST-MODIFIED:20241216T140528Z
UID:10000023-1736274600-1736274600@www.angierchamber.org
SUMMARY:Town of Angier Board of Commissioners Meeting
DESCRIPTION:
URL:https://www.angierchamber.org/event/town-of-angier-board-of-commissioners-meeting-8/
LOCATION:Town of Angier\, 55 North Broad Street West\, Angier\, NC\, 27501\, United States
ATTACH;FMTTYPE=image/jpeg:https://www.angierchamber.org/wp-content/uploads/2023/02/Downtown-Angier.jpg
END:VEVENT
END:VCALENDAR