BEGIN:VCALENDAR
VERSION:2.0
PRODID:-//Angier Chamber of Commerce - ECPv6.15.18//NONSGML v1.0//EN
CALSCALE:GREGORIAN
METHOD:PUBLISH
X-ORIGINAL-URL:https://www.angierchamber.org
X-WR-CALDESC:Events for Angier Chamber of Commerce
REFRESH-INTERVAL;VALUE=DURATION:PT1H
X-Robots-Tag:noindex
X-PUBLISHED-TTL:PT1H
BEGIN:VTIMEZONE
TZID:UTC
BEGIN:STANDARD
TZOFFSETFROM:+0000
TZOFFSETTO:+0000
TZNAME:UTC
DTSTART:20240101T000000
END:STANDARD
END:VTIMEZONE
BEGIN:VEVENT
DTSTART;TZID=UTC:20250211T183000
DTEND;TZID=UTC:20250211T200000
DTSTAMP:20260422T123429
CREATED:20250124T143424Z
LAST-MODIFIED:20250124T143425Z
UID:10000089-1739298600-1739304000@www.angierchamber.org
SUMMARY:Town of Angier Planning Board Meeting
DESCRIPTION:
URL:https://www.angierchamber.org/event/town-of-angier-planning-board-meeting-21/
LOCATION:Town of Angier Municipal Building\, 28 North Raleigh Street\, Angier\, NC\, 27501\, United States
ATTACH;FMTTYPE=image/jpeg:https://www.angierchamber.org/wp-content/uploads/2023/02/Angier-Clock.jpg
END:VEVENT
BEGIN:VEVENT
DTSTART;TZID=UTC:20250204T183000
DTEND;TZID=UTC:20250204T200000
DTSTAMP:20260422T123429
CREATED:20250124T143254Z
LAST-MODIFIED:20250124T143317Z
UID:10000088-1738693800-1738699200@www.angierchamber.org
SUMMARY:Town of Angier BOC Meeting
DESCRIPTION:
URL:https://www.angierchamber.org/event/town-of-angier-boc-meeting/
LOCATION:Town of Angier Municipal Building\, 28 North Raleigh Street\, Angier\, NC\, 27501\, United States
ATTACH;FMTTYPE=image/jpeg:https://www.angierchamber.org/wp-content/uploads/2023/02/Angier-Clock-1.jpg
END:VEVENT
END:VCALENDAR