BEGIN:VCALENDAR
VERSION:2.0
PRODID:-//Angier Chamber of Commerce - ECPv6.15.18//NONSGML v1.0//EN
CALSCALE:GREGORIAN
METHOD:PUBLISH
X-WR-CALNAME:Angier Chamber of Commerce
X-ORIGINAL-URL:https://www.angierchamber.org
X-WR-CALDESC:Events for Angier Chamber of Commerce
REFRESH-INTERVAL;VALUE=DURATION:PT1H
X-Robots-Tag:noindex
X-PUBLISHED-TTL:PT1H
BEGIN:VTIMEZONE
TZID:UTC
BEGIN:STANDARD
TZOFFSETFROM:+0000
TZOFFSETTO:+0000
TZNAME:UTC
DTSTART:20240101T000000
END:STANDARD
END:VTIMEZONE
BEGIN:VEVENT
DTSTART;TZID=UTC:20250721T090000
DTEND;TZID=UTC:20250724T123000
DTSTAMP:20260423T001522
CREATED:20250710T201747Z
LAST-MODIFIED:20250710T201748Z
UID:10000639-1753088400-1753360200@www.angierchamber.org
SUMMARY:A Bugs Life Camp with Soul & Spirit
DESCRIPTION:
URL:https://www.angierchamber.org/event/a-bugs-life-camp-with-soul-spirit/
LOCATION:Soul & Spirit School of Performing Arts\, 227 Fish Drive\, Angier\, NC\, 27501
END:VEVENT
BEGIN:VEVENT
DTSTART;TZID=UTC:20250321T160000
DTEND;TZID=UTC:20250321T170000
DTSTAMP:20260423T001522
CREATED:20250224T202409Z
LAST-MODIFIED:20250224T202410Z
UID:10000142-1742572800-1742576400@www.angierchamber.org
SUMMARY:Soul & Spirit School of the Performing Arts Ribbon Cutting and Open House
DESCRIPTION:
URL:https://www.angierchamber.org/event/soul-spirit-school-of-the-performing-arts-ribbon-cutting-and-open-house/
LOCATION:Soul & Spirit School of Performing Arts\, 227 Fish Drive\, Angier\, NC\, 27501
ATTACH;FMTTYPE=image/png:https://www.angierchamber.org/wp-content/uploads/2025/02/ReVive-at-the-Ridge.png
ORGANIZER;CN="Angier Chamber of Commerce":MAILTO:angiercc@angierchamber.org
END:VEVENT
END:VCALENDAR