BEGIN:VCALENDAR
VERSION:2.0
PRODID:-//Angier Chamber of Commerce - ECPv6.15.18//NONSGML v1.0//EN
CALSCALE:GREGORIAN
METHOD:PUBLISH
X-WR-CALNAME:Angier Chamber of Commerce
X-ORIGINAL-URL:https://www.angierchamber.org
X-WR-CALDESC:Events for Angier Chamber of Commerce
REFRESH-INTERVAL;VALUE=DURATION:PT1H
X-Robots-Tag:noindex
X-PUBLISHED-TTL:PT1H
BEGIN:VTIMEZONE
TZID:UTC
BEGIN:STANDARD
TZOFFSETFROM:+0000
TZOFFSETTO:+0000
TZNAME:UTC
DTSTART:20240101T000000
END:STANDARD
END:VTIMEZONE
BEGIN:VEVENT
DTSTART;TZID=UTC:20250506T190000
DTEND;TZID=UTC:20250506T200000
DTSTAMP:20260423T163458
CREATED:20250514T152908Z
LAST-MODIFIED:20250514T155820Z
UID:10000433-1746558000-1746561600@www.angierchamber.org
SUMMARY:Grief Share with Providence Presbyterian Church
DESCRIPTION:
URL:https://www.angierchamber.org/event/grief-share-with-providence-presbyterian-church/
LOCATION:Providence Presbyterian Church\, 14664 NC-210\, Angier\, 27501\, United States
ATTACH;FMTTYPE=image/jpeg:https://www.angierchamber.org/wp-content/uploads/2025/05/497838722_1004938491796478_6488435447755600334_n.jpg
END:VEVENT
BEGIN:VEVENT
DTSTART;TZID=UTC:20250221T113000
DTEND;TZID=UTC:20250221T190000
DTSTAMP:20260423T163458
CREATED:20250124T143839Z
LAST-MODIFIED:20250124T143840Z
UID:10000092-1740137400-1740164400@www.angierchamber.org
SUMMARY:Chicken Pastry Fundraiser with Providence Presbyterian Church
DESCRIPTION:
URL:https://www.angierchamber.org/event/chicken-pastry-fundraiser-with-providence-presbyterian-church/
LOCATION:Providence Presbyterian Church\, 14664 NC-210\, Angier\, 27501\, United States
ATTACH;FMTTYPE=image/jpeg:https://www.angierchamber.org/wp-content/uploads/2025/01/474704848_923084456648549_1313271682964759018_n.jpg
END:VEVENT
END:VCALENDAR