BEGIN:VCALENDAR
VERSION:2.0
PRODID:-//Angier Chamber of Commerce - ECPv6.15.18//NONSGML v1.0//EN
CALSCALE:GREGORIAN
METHOD:PUBLISH
X-WR-CALNAME:Angier Chamber of Commerce
X-ORIGINAL-URL:https://www.angierchamber.org
X-WR-CALDESC:Events for Angier Chamber of Commerce
REFRESH-INTERVAL;VALUE=DURATION:PT1H
X-Robots-Tag:noindex
X-PUBLISHED-TTL:PT1H
BEGIN:VTIMEZONE
TZID:UTC
BEGIN:STANDARD
TZOFFSETFROM:+0000
TZOFFSETTO:+0000
TZNAME:UTC
DTSTART:20240101T000000
END:STANDARD
END:VTIMEZONE
BEGIN:VEVENT
DTSTART;TZID=UTC:20260409T090000
DTEND;TZID=UTC:20260409T100000
DTSTAMP:20260422T154740
CREATED:20251010T173924Z
LAST-MODIFIED:20251010T173926Z
UID:10000916-1775725200-1775728800@www.angierchamber.org
SUMMARY:Networking @ 9 hosted by Oak Hill Assisted Living Community
DESCRIPTION:
URL:https://www.angierchamber.org/event/networking-9-hosted-by-oak-hill-assisted-living-community-3/
LOCATION:Oak Hill Assisted Living\, 9767 NC 210 North\, Angier\, NC\, 27501\, United States
ATTACH;FMTTYPE=image/jpeg:https://www.angierchamber.org/wp-content/uploads/2025/10/561182285_1208714741275722_3088366684535555611_n.jpg
ORGANIZER;CN="Angier Chamber of Commerce":MAILTO:angiercc@angierchamber.org
END:VEVENT
BEGIN:VEVENT
DTSTART;TZID=UTC:20260108T090000
DTEND;TZID=UTC:20260108T100000
DTSTAMP:20260422T154740
CREATED:20251010T173739Z
LAST-MODIFIED:20251010T173742Z
UID:10000915-1767862800-1767866400@www.angierchamber.org
SUMMARY:Networking @ 9 hosted by Oak Hill Assisted Living Community
DESCRIPTION:
URL:https://www.angierchamber.org/event/networking-9-hosted-by-oak-hill-assisted-living-community-2/
LOCATION:Oak Hill Assisted Living\, 9767 NC 210 North\, Angier\, NC\, 27501\, United States
ATTACH;FMTTYPE=image/jpeg:https://www.angierchamber.org/wp-content/uploads/2025/10/558859619_1208701204610409_4514348497068789166_n.jpg
ORGANIZER;CN="Angier Chamber of Commerce":MAILTO:angiercc@angierchamber.org
END:VEVENT
BEGIN:VEVENT
DTSTART;TZID=UTC:20251217T100000
DTEND;TZID=UTC:20251217T110000
DTSTAMP:20260422T154740
CREATED:20251028T174656Z
LAST-MODIFIED:20251028T174658Z
UID:10001041-1765965600-1765969200@www.angierchamber.org
SUMMARY:Coffee with a Angier First Responder
DESCRIPTION:
URL:https://www.angierchamber.org/event/coffee-with-a-angier-first-responder/
LOCATION:Oak Hill Assisted Living\, 9767 NC 210 North\, Angier\, NC\, 27501\, United States
ATTACH;FMTTYPE=image/jpeg:https://www.angierchamber.org/wp-content/uploads/2025/10/571334282_847510831134612_7469718464783344723_n.jpg
END:VEVENT
BEGIN:VEVENT
DTSTART;TZID=UTC:20251030T150000
DTEND;TZID=UTC:20251030T170000
DTSTAMP:20260422T154740
CREATED:20250723T132535Z
LAST-MODIFIED:20250723T132537Z
UID:10000695-1761836400-1761843600@www.angierchamber.org
SUMMARY:Trick-or-Treat with the residents of Oak Hill Assisted Living
DESCRIPTION:
URL:https://www.angierchamber.org/event/trick-or-treat-with-the-residents-of-oak-hill-assisted-living/
LOCATION:Oak Hill Assisted Living\, 9767 NC 210 North\, Angier\, NC\, 27501\, United States
ATTACH;FMTTYPE=image/jpeg:https://www.angierchamber.org/wp-content/uploads/2025/07/Trick-Or-Treating-2025-Flyer_page-0001.jpg
END:VEVENT
BEGIN:VEVENT
DTSTART;TZID=UTC:20251005T150000
DTEND;TZID=UTC:20251005T170000
DTSTAMP:20260422T154740
CREATED:20250827T190546Z
LAST-MODIFIED:20250827T190547Z
UID:10000809-1759676400-1759683600@www.angierchamber.org
SUMMARY:Oak Hill Assisted Living Fall Festival
DESCRIPTION:
URL:https://www.angierchamber.org/event/oak-hill-assisted-living-fall-festival-2/
LOCATION:Oak Hill Assisted Living\, 9767 NC 210 North\, Angier\, NC\, 27501\, United States
END:VEVENT
BEGIN:VEVENT
DTSTART;TZID=UTC:20250918T100000
DTEND;TZID=UTC:20250918T233000
DTSTAMP:20260422T154740
CREATED:20250826T195500Z
LAST-MODIFIED:20250826T195537Z
UID:10000732-1758189600-1758238200@www.angierchamber.org
SUMMARY:Senior Brunch with Oak Hill Assisted Living
DESCRIPTION:
URL:https://www.angierchamber.org/event/senior-brunch-with-oak-hill-assisted-living/
LOCATION:Oak Hill Assisted Living\, 9767 NC 210 North\, Angier\, NC\, 27501\, United States
END:VEVENT
BEGIN:VEVENT
DTSTART;TZID=UTC:20250612T090000
DTEND;TZID=UTC:20250612T100000
DTSTAMP:20260422T154740
CREATED:20250325T160002Z
LAST-MODIFIED:20250325T160005Z
UID:10000262-1749718800-1749722400@www.angierchamber.org
SUMMARY:Networking @ 9 hosted by Oak Hill Assisted Living Community
DESCRIPTION:
URL:https://www.angierchamber.org/event/networking-9-hosted-by-oak-hill-assisted-living-community/
LOCATION:Oak Hill Assisted Living\, 9767 NC 210 North\, Angier\, NC\, 27501\, United States
ATTACH;FMTTYPE=image/png:https://www.angierchamber.org/wp-content/uploads/2025/03/GOOD-MORNING-1-1.png
ORGANIZER;CN="Angier Chamber of Commerce":MAILTO:angiercc@angierchamber.org
END:VEVENT
BEGIN:VEVENT
DTSTART;TZID=UTC:20250326T180000
DTEND;TZID=UTC:20250326T193000
DTSTAMP:20260422T154740
CREATED:20250321T175505Z
LAST-MODIFIED:20250321T175506Z
UID:10000184-1743012000-1743017400@www.angierchamber.org
SUMMARY:BINGO Night at Oak Hill Assisted Living Community
DESCRIPTION:
URL:https://www.angierchamber.org/event/bingo-night-at-oak-hill-assisted-living-community/
LOCATION:Oak Hill Assisted Living\, 9767 NC 210 North\, Angier\, NC\, 27501\, United States
ATTACH;FMTTYPE=image/jpeg:https://www.angierchamber.org/wp-content/uploads/2025/03/8D5F9190-2B36-4109-AF22-17B3D88CC522.jpeg
END:VEVENT
END:VCALENDAR