BEGIN:VCALENDAR
VERSION:2.0
PRODID:-//Angier Chamber of Commerce - ECPv6.15.18//NONSGML v1.0//EN
CALSCALE:GREGORIAN
METHOD:PUBLISH
X-WR-CALNAME:Angier Chamber of Commerce
X-ORIGINAL-URL:https://www.angierchamber.org
X-WR-CALDESC:Events for Angier Chamber of Commerce
REFRESH-INTERVAL;VALUE=DURATION:PT1H
X-Robots-Tag:noindex
X-PUBLISHED-TTL:PT1H
BEGIN:VTIMEZONE
TZID:UTC
BEGIN:STANDARD
TZOFFSETFROM:+0000
TZOFFSETTO:+0000
TZNAME:UTC
DTSTART:20250101T000000
END:STANDARD
END:VTIMEZONE
BEGIN:VEVENT
DTSTART;TZID=UTC:20260514T090000
DTEND;TZID=UTC:20260514T100000
DTSTAMP:20260422T081122
CREATED:20260105T184935Z
LAST-MODIFIED:20260105T184938Z
UID:10001131-1778749200-1778752800@www.angierchamber.org
SUMMARY:Networking @ 9 hosted by Nils Mediterranean Cuisine Angier
DESCRIPTION:
URL:https://www.angierchamber.org/event/networking-9-hosted-by-nils-mediterranean-cuisine-angier/
LOCATION:Nils Mediterranean Cuisine\, 16 N. Broad Street East\, Angier\, NC\, 27501
ATTACH;FMTTYPE=image/png:https://www.angierchamber.org/wp-content/uploads/2026/01/GOOD-MORNING.png
END:VEVENT
END:VCALENDAR