BEGIN:VCALENDAR
VERSION:2.0
PRODID:-//Angier Chamber of Commerce - ECPv6.15.18//NONSGML v1.0//EN
CALSCALE:GREGORIAN
METHOD:PUBLISH
X-WR-CALNAME:Angier Chamber of Commerce
X-ORIGINAL-URL:https://www.angierchamber.org
X-WR-CALDESC:Events for Angier Chamber of Commerce
REFRESH-INTERVAL;VALUE=DURATION:PT1H
X-Robots-Tag:noindex
X-PUBLISHED-TTL:PT1H
BEGIN:VTIMEZONE
TZID:UTC
BEGIN:STANDARD
TZOFFSETFROM:+0000
TZOFFSETTO:+0000
TZNAME:UTC
DTSTART:20240101T000000
END:STANDARD
END:VTIMEZONE
BEGIN:VEVENT
DTSTART;TZID=UTC:20251020T160000
DTEND;TZID=UTC:20251020T170000
DTSTAMP:20260422T101101
CREATED:20250925T193601Z
LAST-MODIFIED:20250925T193605Z
UID:10000818-1760976000-1760979600@www.angierchamber.org
SUMMARY:Nils Mediterranean Cuisine Ribbon Cutting
DESCRIPTION:
URL:https://www.angierchamber.org/event/nils-mediterranean-cuisine-ribbon-cutting/
LOCATION:Nils Mediterranean Cuisine\, 16 N. Broad Street East\, Angier\, NC\, 27501
END:VEVENT
END:VCALENDAR