BEGIN:VCALENDAR
VERSION:2.0
PRODID:-//Angier Chamber of Commerce - ECPv6.15.18//NONSGML v1.0//EN
CALSCALE:GREGORIAN
METHOD:PUBLISH
X-ORIGINAL-URL:https://www.angierchamber.org
X-WR-CALDESC:Events for Angier Chamber of Commerce
REFRESH-INTERVAL;VALUE=DURATION:PT1H
X-Robots-Tag:noindex
X-PUBLISHED-TTL:PT1H
BEGIN:VTIMEZONE
TZID:UTC
BEGIN:STANDARD
TZOFFSETFROM:+0000
TZOFFSETTO:+0000
TZNAME:UTC
DTSTART:20240101T000000
END:STANDARD
END:VTIMEZONE
BEGIN:VEVENT
DTSTART;TZID=UTC:20250517T110000
DTEND;TZID=UTC:20250517T160000
DTSTAMP:20260423T160902
CREATED:20250401T201108Z
LAST-MODIFIED:20250401T201109Z
UID:10000306-1747479600-1747497600@www.angierchamber.org
SUMMARY:Food Truck Rodeo
DESCRIPTION:No joke – we’re so excited to announce the Town of Angier Food Truck Rodeo! \nGet ready for a delicious day of food and fun as we bring 20 incredible food trucks to town! Each truck will be offering sample-sized portions for $5 or less\, so you can try a little bit of everything. \n It’s the perfect opportunity to explore new flavors and support local food vendors. \nMark your calendars\, bring your appetite\, and come join us for a food-filled adventure!
URL:https://www.angierchamber.org/event/food-truck-rodeo/
LOCATION:Jack Marley Park\, 249 East Williams Street\, Angier\, NC\, 27501\, United States
ATTACH;FMTTYPE=image/jpeg:https://www.angierchamber.org/wp-content/uploads/2025/04/5AF295BE-B8CD-4B25-8BF3-F67FE5B04C38.jpeg
END:VEVENT
BEGIN:VEVENT
DTSTART;TZID=UTC:20250503T090000
DTEND;TZID=UTC:20250503T110000
DTSTAMP:20260423T160902
CREATED:20250401T202511Z
LAST-MODIFIED:20250401T202511Z
UID:10000310-1746262800-1746270000@www.angierchamber.org
SUMMARY:Fishing with a First Responder
DESCRIPTION:
URL:https://www.angierchamber.org/event/fishing-with-a-first-responder/
LOCATION:Jack Marley Park\, 249 East Williams Street\, Angier\, NC\, 27501\, United States
ATTACH;FMTTYPE=image/jpeg:https://www.angierchamber.org/wp-content/uploads/2025/04/eyJidWNrZXQiOiJpbXBhY3QtcHJvZHVjdGlvbiIsImtleSI6Il9sb2dvcy83MGU4MDBjZS05ODRkLTRjNzktYjAzOS0wZGNhNWNiOGZiZTAvNTU4MTcxNDhfNTg3MTg2ODI4NDY0OTI1XzE5MDM4NjI1NTg4MjYxNjgzMjBfby5qcGciLCJlZGl0cyI.jpg
END:VEVENT
BEGIN:VEVENT
DTSTART;TZID=UTC:20250413T140000
DTEND;TZID=UTC:20250413T170000
DTSTAMP:20260423T160902
CREATED:20250224T203311Z
LAST-MODIFIED:20250224T203312Z
UID:10000145-1744552800-1744563600@www.angierchamber.org
SUMMARY:Town of Angier Easter Egg Hunt
DESCRIPTION:
URL:https://www.angierchamber.org/event/town-of-angier-easter-egg-hunt/
LOCATION:Jack Marley Park\, 249 East Williams Street\, Angier\, NC\, 27501\, United States
ATTACH;FMTTYPE=image/jpeg:https://www.angierchamber.org/wp-content/uploads/2025/02/476827667_930102072634482_8041715314260148731_n.jpg
END:VEVENT
END:VCALENDAR