BEGIN:VCALENDAR
VERSION:2.0
PRODID:-//Angier Chamber of Commerce - ECPv6.15.18//NONSGML v1.0//EN
CALSCALE:GREGORIAN
METHOD:PUBLISH
X-ORIGINAL-URL:https://www.angierchamber.org
X-WR-CALDESC:Events for Angier Chamber of Commerce
REFRESH-INTERVAL;VALUE=DURATION:PT1H
X-Robots-Tag:noindex
X-PUBLISHED-TTL:PT1H
BEGIN:VTIMEZONE
TZID:UTC
BEGIN:STANDARD
TZOFFSETFROM:+0000
TZOFFSETTO:+0000
TZNAME:UTC
DTSTART:20240101T000000
END:STANDARD
END:VTIMEZONE
BEGIN:VEVENT
DTSTART;TZID=UTC:20260319T113000
DTEND;TZID=UTC:20260319T133000
DTSTAMP:20260422T051511
CREATED:20251211T191237Z
LAST-MODIFIED:20251211T191240Z
UID:10001054-1773919800-1773927000@www.angierchamber.org
SUMMARY:FREE Learning Lab: Stone Soup: Gaining more business with a ZERO Marketing Budget
DESCRIPTION:
URL:https://www.angierchamber.org/event/free-learning-lab-stone-soup-gaining-more-business-with-a-zero-marketing-budget/
LOCATION:Harnett Regional Jetport\, 615 Airport Road\, Erwin\, NC\, 28339
ATTACH;FMTTYPE=image/jpeg:https://www.angierchamber.org/wp-content/uploads/2025/12/584873695_1242435117903684_1140540222701620944_n.jpg
END:VEVENT
BEGIN:VEVENT
DTSTART;TZID=UTC:20260219T113000
DTEND;TZID=UTC:20260219T133000
DTSTAMP:20260422T051511
CREATED:20251211T191005Z
LAST-MODIFIED:20251211T191010Z
UID:10001053-1771500600-1771507800@www.angierchamber.org
SUMMARY:FREE Learning Lab: Canva Video Lab for Small Business
DESCRIPTION:Take your Canva skills to the next level! This hands-on\, interactive class will teach you how to create dynamic and engaging video content for social media platforms like Instagram and TikTok.\nLearn to harness the power of Canva’s video editing tools\, including trimming\, transitions\, animation\, and special effects\, to produce eye-catching Reels and Stories that captivate your audience. In this course\, you will – Master Canva’s video editing interface and essential tools\, import and edit video clips\, add music and sound effects\, and incorporate text and titles with stylish animations. You’ll also\, understand the nuances of Reels and Stories formats\, including aspect ratios and optimal sizing for each platform\, explore advanced techniques like background removal\, animation combinations\, and trending video features to elevate your content\, practice your skills through hands-on exercises and create your own Reel or Story project. No prior video editing experience is required. This course is designed for those with basic Canva knowledge who are comfortable creating simple designs and want to expand their skills in video creation.\n\nThis course is perfect for small business owners and entrepreneurs. Software Requirements- A free Canva account. (Canva Pro is not required\, but some features will be demonstrated with Pro and free alternatives will be provided.\n\nCost: FREEInstructor: Katie StokesTime: 11:30 AM – 1:30 PMBuilding Location: Harnett Regional Jetport\n\nRegistration: https://www.ncsbc.net/workshop.aspx?ekey=110460019
URL:https://www.angierchamber.org/event/free-learning-lab-canva-video-lab-for-small-business/
LOCATION:Harnett Regional Jetport\, 615 Airport Road\, Erwin\, NC\, 28339
ATTACH;FMTTYPE=image/jpeg:https://www.angierchamber.org/wp-content/uploads/2025/12/584543664_1242432477903948_2252045762245381398_n.jpg
END:VEVENT
BEGIN:VEVENT
DTSTART;TZID=UTC:20260115T113000
DTEND;TZID=UTC:20260115T133000
DTSTAMP:20260422T051511
CREATED:20251211T190116Z
LAST-MODIFIED:20251211T190118Z
UID:10001050-1768476600-1768483800@www.angierchamber.org
SUMMARY:FREE Learning Lab: Google Tools
DESCRIPTION:This class provides a comprehensive overview of the core tools within Google Workspace\, focusing on practical application\, collaboration\, and efficiency. Participants will learn to leverage cloud-based applications to create\, communicate\, and manage information effectively in a work or educational environment.\n\nCost: FREEInstructor: Katie StokesBuilding Location: Harnett Regional JetportTime: 11:30am – 1:30pm\n\nRegistration Link: https://www.ncsbc.net/workshop.aspx?ekey=110460029
URL:https://www.angierchamber.org/event/free-learning-lab-google-tools/
LOCATION:Harnett Regional Jetport\, 615 Airport Road\, Erwin\, NC\, 28339
ATTACH;FMTTYPE=image/jpeg:https://www.angierchamber.org/wp-content/uploads/2025/12/584754627_1242426044571258_8519060561887850443_n.jpg
END:VEVENT
BEGIN:VEVENT
DTSTART;TZID=UTC:20251120T113000
DTEND;TZID=UTC:20251120T133000
DTSTAMP:20260422T051512
CREATED:20250710T200721Z
LAST-MODIFIED:20250710T200722Z
UID:10000637-1763638200-1763645400@www.angierchamber.org
SUMMARY:FREE Learning Lab: Canva for Beginners
DESCRIPTION:Boost your brand and marketing with eye-catching graphics! In this Canva session\, you’ll unlock the secrets to stunning visuals. We’ll break down design basics like layouts and fonts\, but with a focus on using Canva’s powerful tools. Get ready to create eye-catching social media graphics\, presentations\, and more. Bring your laptop and Canva login credentials for some hands-on experience at this workshop.\n\nCost: FREE\nLink to Register: https://www.ncsbc.net/workshop.aspx?ekey=110450087 \n\nThe free Learning Labs are brought to you by: Central Carolina Community College\, Angier Chamber of Commerce\, Coats Area Chamber of Commerce\, Erwin Chamber of Commerce\, Lillington Chamber of Commerce\, Dunn Chamber of Commerce
URL:https://www.angierchamber.org/event/free-learning-lab-canva-for-beginners/
LOCATION:Harnett Regional Jetport\, 615 Airport Road\, Erwin\, NC\, 28339
END:VEVENT
BEGIN:VEVENT
DTSTART;TZID=UTC:20251016T113000
DTEND;TZID=UTC:20251016T133000
DTSTAMP:20260422T051512
CREATED:20250710T200417Z
LAST-MODIFIED:20250710T200418Z
UID:10000636-1760614200-1760621400@www.angierchamber.org
SUMMARY:FREE Learning Lab: Networking That Works: Connect\, Learn and Grow Your Business
DESCRIPTION:
URL:https://www.angierchamber.org/event/free-learning-lab-networking-that-works-connect-learn-and-grow-your-business/
LOCATION:Harnett Regional Jetport\, 615 Airport Road\, Erwin\, NC\, 28339
END:VEVENT
BEGIN:VEVENT
DTSTART;TZID=UTC:20250918T113000
DTEND;TZID=UTC:20250918T133000
DTSTAMP:20260422T051512
CREATED:20250710T200209Z
LAST-MODIFIED:20250710T200210Z
UID:10000635-1758195000-1758202200@www.angierchamber.org
SUMMARY:FREE Learning Lab: Introduction to QuickBooks Online
DESCRIPTION:In this learning lab\, attendees will be introduced to the cloud-based software QuickBooks Online. You will discover ways this popular online software can help small business owners save time\, simplify bookkeeping\, and avoid costly errors. You’ll learn account setup\, how to track business income and expenses\, and generate financial reports\n\nCost: FREESpeaker(s): Crystal Wambeke\nLink to Register: https://www.ncsbc.net/workshop.aspx?ekey=110450062 \n\nThe free Learning Labs are brought to you by: Central Carolina Community College\, Angier Chamber of Commerce\, Coats Area Chamber of Commerce\, Erwin Chamber of Commerce\, Lillington Chamber of Commerce\, Dunn Chamber of Commerce 
URL:https://www.angierchamber.org/event/free-learning-lab-introduction-to-quickbooks-online/
LOCATION:Harnett Regional Jetport\, 615 Airport Road\, Erwin\, NC\, 28339
END:VEVENT
BEGIN:VEVENT
DTSTART;TZID=UTC:20250821T113000
DTEND;TZID=UTC:20250821T130000
DTSTAMP:20260422T051512
CREATED:20250710T195936Z
LAST-MODIFIED:20250710T195937Z
UID:10000634-1755775800-1755781200@www.angierchamber.org
SUMMARY:FREE Learning Lab: Psychology-Infused Advertising
DESCRIPTION:Psychology-Infused Advertising equips marketers and brand leaders with the science and strategy to build trust\, influence behavior\, and create lasting customer connections. Featuring Clicksuasion’s reTRUST Framework\, this session explores emotional branding\, persuasive communication\, and how to design advertising that resonates authentically. Attendees walk away with actionable tools to navigate today’s skeptical consumer landscape and craft campaigns that are both ethical and effective.\n\nCost: FREESpeaker(s): Dr. Michael Barbera\nLink to Register: https://www.ncsbc.net/reg.aspx?mode=event&event=110450054\n\nThe free Learning Labs are brought to you by: Central Carolina Community College\, Angier Chamber of Commerce\, Coats Area Chamber of Commerce\, Erwin Chamber of Commerce\, Lillington Chamber of Commerce\, Dunn Chamber of Commerce
URL:https://www.angierchamber.org/event/free-learning-lab-psychology-infused-advertising/
LOCATION:Harnett Regional Jetport\, 615 Airport Road\, Erwin\, NC\, 28339
ATTACH;FMTTYPE=image/jpeg:https://www.angierchamber.org/wp-content/uploads/2025/07/503639674_1107130414767489_8748349017824639255_n.jpg
END:VEVENT
BEGIN:VEVENT
DTSTART;TZID=UTC:20250417T100000
DTEND;TZID=UTC:20250417T130000
DTSTAMP:20260422T051512
CREATED:20250319T195922Z
LAST-MODIFIED:20250319T195923Z
UID:10000161-1744884000-1744894800@www.angierchamber.org
SUMMARY:Learning Lab: Canva Video: Story and Reels Edition
DESCRIPTION:
URL:https://www.angierchamber.org/event/learning-lab-canva-video-story-and-reels-edition/
LOCATION:Harnett Regional Jetport\, 615 Airport Road\, Erwin\, NC\, 28339
ATTACH;FMTTYPE=image/jpeg:https://www.angierchamber.org/wp-content/uploads/2025/03/480221455_1028015549345643_8699988677486538581_n.jpg
END:VEVENT
BEGIN:VEVENT
DTSTART;TZID=UTC:20250327T113000
DTEND;TZID=UTC:20250327T133000
DTSTAMP:20260422T051512
CREATED:20250103T184115Z
LAST-MODIFIED:20250103T184115Z
UID:10000076-1743075000-1743082200@www.angierchamber.org
SUMMARY:Learning Lab: Unlocking Consumer Psychology in Search Engine Marketing
DESCRIPTION:Unlock the power of consumer psychology to elevate your Search Engine Marketing (SEM) and retargeting strategies in this dynamic two-hour session. \nThis session will explore how psychological insights can transform your approach to SEM\, allowing you to craft campaigns that resonate deeply with audiences and drive meaningful engagement. During this seminar\, participants will gain insights into key cognitive biases that affect how consumers interact with search engine ads\, enabling more targeted and effective SEM strategies. \n Attendees will also learn to identify and integrate consumer motivations and behavioral patterns in the creation of search ad copy and retargeting messages for enhanced audience engagement. Participants will learn to design and implement retargeting campaigns that use psychology-based strategies to capture attention and boost conversions effectively. \nInstructor: Dr. Michael Barbera \nClick here to register. \nFree learning labs are brought to you by the Angier\, Coats\, Erwin\, Dunn\, and Lillington Chambers of Commerce and the Central Carolina Community College Small Business Center.
URL:https://www.angierchamber.org/event/learning-lab-unlocking-consumer-psychology-in-search-engine-marketing/
LOCATION:Harnett Regional Jetport\, 615 Airport Road\, Erwin\, NC\, 28339
ATTACH;FMTTYPE=image/png:https://www.angierchamber.org/wp-content/uploads/2025/01/Consumer-Psychology.png
ORGANIZER;CN="Angier Chamber of Commerce":MAILTO:angiercc@angierchamber.org
END:VEVENT
BEGIN:VEVENT
DTSTART;TZID=UTC:20250318T113000
DTEND;TZID=UTC:20250318T133000
DTSTAMP:20260422T051512
CREATED:20241212T211558Z
LAST-MODIFIED:20241212T211558Z
UID:10000003-1742297400-1742304600@www.angierchamber.org
SUMMARY:Unlocking Consumer Psychology in Search Engine Marketing
DESCRIPTION:Unlock the power of consumer psychology to elevate your Search Engine Marketing (SEM) and retargeting strategies in this dynamic two-hour session. This session will explore how psychological insights can transform your approach to SEM\, allowing you to craft campaigns that resonate deeply with audiences and drive meaningful engagement. During this seminar\, participants will gain insights into key cognitive biases that affect how consumers interact with search engine ads\, enabling more targeted and effective SEM strategies.Attendees will also learn to identify and integrate consumer motivations and behavioral patterns in the creation of search ad copy and retargeting messages for enhanced audience engagement. Participants will learn to design and implement retargeting campaigns that use psychology-based strategies to capture attention and boost conversions effectively. \nStart • End Date: 03/18/2025 • 03/18/2025\nDay: Tu\nTime: 11:30 AM – 1:30 PM\nCost: Free\nInstructor: Dr. Michael Barbera
URL:https://www.angierchamber.org/event/unlocking-consumer-psychology-in-search-engine-marketing/
LOCATION:Harnett Regional Jetport\, 615 Airport Road\, Erwin\, NC\, 28339
ATTACH;FMTTYPE=image/jpeg:https://www.angierchamber.org/wp-content/uploads/2024/12/b2ap3_large_Free-Seminar.jpg
END:VEVENT
BEGIN:VEVENT
DTSTART;TZID=UTC:20250218T090000
DTEND;TZID=UTC:20250218T130000
DTSTAMP:20260422T051512
CREATED:20241212T211431Z
LAST-MODIFIED:20241212T211432Z
UID:10000002-1739869200-1739883600@www.angierchamber.org
SUMMARY:Canva for Beginners
DESCRIPTION:Boost your brand and marketing with eye-catching graphics! In this Canva session\, you’ll unlock the secrets to stunning visuals. We’ll break down design basics like layouts and fonts\, but with a focus on using Canva’s powerful tools. Get ready to create eye-catching social media graphics\, presentations\, and more. Bring your laptop and Canva login credentials for some hands-on experience at this workshop. \n\nStart • End Date: 02/18/2025 • 02/18/2025\nDay: Tu\nTime: 9:00 AM – 1:00 PM\nCost: Free\nInstructor: Melanie Diehl
URL:https://www.angierchamber.org/event/canva-for-beginners/
LOCATION:Harnett Regional Jetport\, 615 Airport Road\, Erwin\, NC\, 28339
ATTACH;FMTTYPE=image/jpeg:https://www.angierchamber.org/wp-content/uploads/2024/12/b2ap3_large_Free-Seminar.jpg
END:VEVENT
BEGIN:VEVENT
DTSTART;TZID=UTC:20250203T100000
DTEND;TZID=UTC:20250203T130000
DTSTAMP:20260422T051512
CREATED:20241219T171916Z
LAST-MODIFIED:20241219T171917Z
UID:10000031-1738576800-1738587600@www.angierchamber.org
SUMMARY:Learning Lab: Canva for Beginners
DESCRIPTION:Join us in February for another incredible learning experience courtesy of the CCCC Small Business Center and your local Harnett Chambers.  \nIt is FREE but please register so we have a general headcount! https://www.leesbc.com/seminars/?county=harnett \nNote that the date\, time\, and location on this flyer is CORRECT. The website will be updated to reflect these details after the CCCC holiday break.
URL:https://www.angierchamber.org/event/learning-lab-canva-for-beginners/
LOCATION:Harnett Regional Jetport\, 615 Airport Road\, Erwin\, NC\, 28339
ATTACH;FMTTYPE=image/jpeg:https://www.angierchamber.org/wp-content/uploads/2024/12/470668305_615423884149455_8216335228334082579_n.jpg
ORGANIZER;CN="Angier Chamber of Commerce":MAILTO:angiercc@angierchamber.org
END:VEVENT
END:VCALENDAR