BEGIN:VCALENDAR
VERSION:2.0
PRODID:-//Angier Chamber of Commerce - ECPv6.15.18//NONSGML v1.0//EN
CALSCALE:GREGORIAN
METHOD:PUBLISH
X-WR-CALNAME:Angier Chamber of Commerce
X-ORIGINAL-URL:https://www.angierchamber.org
X-WR-CALDESC:Events for Angier Chamber of Commerce
REFRESH-INTERVAL;VALUE=DURATION:PT1H
X-Robots-Tag:noindex
X-PUBLISHED-TTL:PT1H
BEGIN:VTIMEZONE
TZID:UTC
BEGIN:STANDARD
TZOFFSETFROM:+0000
TZOFFSETTO:+0000
TZNAME:UTC
DTSTART:20240101T000000
END:STANDARD
END:VTIMEZONE
BEGIN:VEVENT
DTSTART;TZID=UTC:20251115T110000
DTEND;TZID=UTC:20251115T150000
DTSTAMP:20260423T165750
CREATED:20251016T142323Z
LAST-MODIFIED:20251016T142325Z
UID:10001017-1763204400-1763218800@www.angierchamber.org
SUMMARY:Christmas Wander Fest hosted by GypsySoul
DESCRIPTION:
URL:https://www.angierchamber.org/event/christmas-wander-fest-hosted-by-gypsysoul/
LOCATION:GypsySoul Boutique\, 1179 N Main Street\, Lillington\, NC\, 27546
ATTACH;FMTTYPE=image/jpeg:https://www.angierchamber.org/wp-content/uploads/2025/10/561289889_792021683722692_8673033368865432243_n-1.jpg
END:VEVENT
BEGIN:VEVENT
DTSTART;TZID=UTC:20251108T110000
DTEND;TZID=UTC:20251108T130000
DTSTAMP:20260423T165750
CREATED:20251027T203405Z
LAST-MODIFIED:20251027T203407Z
UID:10001039-1762599600-1762606800@www.angierchamber.org
SUMMARY:Christmas Greeting Card Making Event with GypsySoul
DESCRIPTION:
URL:https://www.angierchamber.org/event/christmas-greeting-card-making-event-with-gypsysoul-2/
LOCATION:GypsySoul Boutique\, 1179 N Main Street\, Lillington\, NC\, 27546
ATTACH;FMTTYPE=image/jpeg:https://www.angierchamber.org/wp-content/uploads/2025/10/565229723_830800769633893_6030977175387753466_n.jpg
END:VEVENT
BEGIN:VEVENT
DTSTART;TZID=UTC:20251101T140000
DTEND;TZID=UTC:20251101T170000
DTSTAMP:20260423T165750
CREATED:20251027T203100Z
LAST-MODIFIED:20251027T203102Z
UID:10001038-1762005600-1762016400@www.angierchamber.org
SUMMARY:Adult Field Trip with GypsySoul (Kitchen Herb Garden)
DESCRIPTION:
URL:https://www.angierchamber.org/event/adult-field-trip-with-gypsysoul-kitchen-herb-garden/
LOCATION:GypsySoul Boutique\, 1179 N Main Street\, Lillington\, NC\, 27546
ATTACH;FMTTYPE=image/jpeg:https://www.angierchamber.org/wp-content/uploads/2025/10/558209008_777930325232972_6492418559156246962_n.jpg
END:VEVENT
BEGIN:VEVENT
DTSTART;TZID=UTC:20251018T110000
DTEND;TZID=UTC:20251018T130000
DTSTAMP:20260423T165750
CREATED:20250930T201119Z
LAST-MODIFIED:20250930T201125Z
UID:10000906-1760785200-1760792400@www.angierchamber.org
SUMMARY:Christmas Greeting Card Making Event with GypsySoul
DESCRIPTION:
URL:https://www.angierchamber.org/event/christmas-greeting-card-making-event-with-gypsysoul/
LOCATION:GypsySoul Boutique\, 1179 N Main Street\, Lillington\, NC\, 27546
ATTACH;FMTTYPE=image/jpeg:https://www.angierchamber.org/wp-content/uploads/2025/09/544807971_799065039474133_179939640686279562_n.jpg
END:VEVENT
BEGIN:VEVENT
DTSTART;TZID=UTC:20251016T180000
DTEND;TZID=UTC:20251016T210000
DTSTAMP:20260423T165750
CREATED:20250930T200818Z
LAST-MODIFIED:20250930T200820Z
UID:10000905-1760637600-1760648400@www.angierchamber.org
SUMMARY:Christmas Tree Chunky Blanket or a Multi-Color Chunky Blanket Workshop with GypsySoul
DESCRIPTION:
URL:https://www.angierchamber.org/event/christmas-tree-chunky-blanket-or-a-multi-color-chunky-blanket-workshop-with-gypsysoul/
LOCATION:GypsySoul Boutique\, 1179 N Main Street\, Lillington\, NC\, 27546
ATTACH;FMTTYPE=image/jpeg:https://www.angierchamber.org/wp-content/uploads/2025/09/557616811_817224470991523_7621196793578132262_n.jpg
END:VEVENT
BEGIN:VEVENT
DTSTART;TZID=UTC:20251003T180000
DTEND;TZID=UTC:20251003T200000
DTSTAMP:20260423T165750
CREATED:20250930T200443Z
LAST-MODIFIED:20250930T200445Z
UID:10000904-1759514400-1759521600@www.angierchamber.org
SUMMARY:Nightmare Before Christmas Jack And Sally Couples Workshop with GypsySoul
DESCRIPTION:
URL:https://www.angierchamber.org/event/nightmare-before-christmas-jack-and-sally-couples-workshop-with-gypsysoul/
LOCATION:GypsySoul Boutique\, 1179 N Main Street\, Lillington\, NC\, 27546
ATTACH;FMTTYPE=image/jpeg:https://www.angierchamber.org/wp-content/uploads/2025/09/549257444_807301118650525_7572242292358357370_n.jpg
END:VEVENT
BEGIN:VEVENT
DTSTART;TZID=UTC:20250918T130000
DTEND;TZID=UTC:20250918T150000
DTSTAMP:20260423T165750
CREATED:20250826T195910Z
LAST-MODIFIED:20250826T195911Z
UID:10000733-1758200400-1758207600@www.angierchamber.org
SUMMARY:Paint a Haunted House with GypsySoul
DESCRIPTION:
URL:https://www.angierchamber.org/event/paint-a-haunted-house-with-gypsysoul/
LOCATION:GypsySoul Boutique\, 1179 N Main Street\, Lillington\, NC\, 27546
END:VEVENT
BEGIN:VEVENT
DTSTART;TZID=UTC:20250913T090000
DTEND;TZID=UTC:20250913T170000
DTSTAMP:20260423T165750
CREATED:20250619T174352Z
LAST-MODIFIED:20250619T174353Z
UID:10000544-1757754000-1757782800@www.angierchamber.org
SUMMARY:Wanderfest with Gypsy Soul
DESCRIPTION:
URL:https://www.angierchamber.org/event/wanderfest-with-gypsy-soul/
LOCATION:GypsySoul Boutique\, 1179 N Main Street\, Lillington\, NC\, 27546
END:VEVENT
BEGIN:VEVENT
DTSTART;TZID=UTC:20250829T120000
DTEND;TZID=UTC:20250829T170000
DTSTAMP:20260423T165750
CREATED:20250718T153703Z
LAST-MODIFIED:20250718T153704Z
UID:10000683-1756468800-1756486800@www.angierchamber.org
SUMMARY:Psychic Readings with GypsySoul
DESCRIPTION:
URL:https://www.angierchamber.org/event/psychic-readings-with-gypsysoul-5/
LOCATION:GypsySoul Boutique\, 1179 N Main Street\, Lillington\, NC\, 27546
ATTACH;FMTTYPE=image/jpeg:https://www.angierchamber.org/wp-content/uploads/2025/07/516942424_711732581751603_5170579058366752694_n.jpg
END:VEVENT
BEGIN:VEVENT
DTSTART;TZID=UTC:20250822T120000
DTEND;TZID=UTC:20250822T170000
DTSTAMP:20260423T165750
CREATED:20250718T153633Z
LAST-MODIFIED:20250718T153634Z
UID:10000682-1755864000-1755882000@www.angierchamber.org
SUMMARY:Psychic Readings with GypsySoul
DESCRIPTION:
URL:https://www.angierchamber.org/event/psychic-readings-with-gypsysoul-4/
LOCATION:GypsySoul Boutique\, 1179 N Main Street\, Lillington\, NC\, 27546
ATTACH;FMTTYPE=image/jpeg:https://www.angierchamber.org/wp-content/uploads/2025/07/516942424_711732581751603_5170579058366752694_n.jpg
END:VEVENT
BEGIN:VEVENT
DTSTART;TZID=UTC:20250820T110000
DTEND;TZID=UTC:20250820T130000
DTSTAMP:20260423T165750
CREATED:20250826T200343Z
LAST-MODIFIED:20250826T200344Z
UID:10000735-1755687600-1755694800@www.angierchamber.org
SUMMARY:Turkish Mosaic Lamp with GypsySoul
DESCRIPTION:
URL:https://www.angierchamber.org/event/turkish-mosaic-lamp-with-gypsysoul/
LOCATION:GypsySoul Boutique\, 1179 N Main Street\, Lillington\, NC\, 27546
END:VEVENT
BEGIN:VEVENT
DTSTART;TZID=UTC:20250815T120000
DTEND;TZID=UTC:20250815T170000
DTSTAMP:20260423T165750
CREATED:20250718T153756Z
LAST-MODIFIED:20250718T153757Z
UID:10000684-1755259200-1755277200@www.angierchamber.org
SUMMARY:Psychic Readings with GypsySoul
DESCRIPTION:
URL:https://www.angierchamber.org/event/psychic-readings-with-gypsysoul-6/
LOCATION:GypsySoul Boutique\, 1179 N Main Street\, Lillington\, NC\, 27546
ATTACH;FMTTYPE=image/jpeg:https://www.angierchamber.org/wp-content/uploads/2025/07/516942424_711732581751603_5170579058366752694_n.jpg
END:VEVENT
BEGIN:VEVENT
DTSTART;TZID=UTC:20250808T120000
DTEND;TZID=UTC:20250808T170000
DTSTAMP:20260423T165750
CREATED:20250718T153434Z
LAST-MODIFIED:20250718T153435Z
UID:10000679-1754654400-1754672400@www.angierchamber.org
SUMMARY:Psychic Readings with GypsySoul
DESCRIPTION:
URL:https://www.angierchamber.org/event/psychic-readings-with-gypsysoul/
LOCATION:GypsySoul Boutique\, 1179 N Main Street\, Lillington\, NC\, 27546
ATTACH;FMTTYPE=image/jpeg:https://www.angierchamber.org/wp-content/uploads/2025/07/516942424_711732581751603_5170579058366752694_n.jpg
END:VEVENT
BEGIN:VEVENT
DTSTART;TZID=UTC:20250807T173000
DTEND;TZID=UTC:20250807T200000
DTSTAMP:20260423T165750
CREATED:20250708T160405Z
LAST-MODIFIED:20250708T160407Z
UID:10000600-1754587800-1754596800@www.angierchamber.org
SUMMARY:GypsySoul’s 1-Year Anniversary Celebration with Ribbon Cutting\, Chamber Networking\, and Student Art Gallery
DESCRIPTION:You’re Invited: GypsySoul’s 1-Year Anniversary Celebration with Ribbon Cutting\, Chamber Networking\, and Student Art Gallery! \nRibbon Cutting at 5:30pm\nNetworking from 6:00 – 7:00pm\nStudent Art Reception from 6:00–8:00pm \nCome celebrate one incredible year of GypsySoul! We’re marking the occasion with a joint Ribbon Cutting hosted by the Angier and Coats Area Chambers of Commerce—and you’re invited. \nChamber Networking (6:00–7:00pm)\nConnect with members of the Angier\, Coats\, and Lillington Chambers. Bring your business cards and get to know other small business owners\, entrepreneurs\, and community leaders. \nStudent Art Gallery Opening Night (6:00 –8:00pm)\nGypsySoul is showcasing talented local\, young artists working in a variety of mediums. Stop by to support emerging artists and enjoy a creative evening. If you know a student artist who’d like to participate\, they’d love to hear from them! \nExplore GypsySoul (5:30 – 8:00pm)\nCelebrate with us as you browse vintage finds\, global décor\, handmade gifts\, fashion\, and more—plus enjoy refreshments and a warm welcome.
URL:https://www.angierchamber.org/event/gypsysouls-1-year-anniversary-celebration-with-ribbon-cutting-chamber-networking-and-student-art-gallery/
LOCATION:GypsySoul Boutique\, 1179 N Main Street\, Lillington\, NC\, 27546
ORGANIZER;CN="Angier Chamber of Commerce":MAILTO:angiercc@angierchamber.org
END:VEVENT
BEGIN:VEVENT
DTSTART;TZID=UTC:20250801T120000
DTEND;TZID=UTC:20250801T170000
DTSTAMP:20260423T165750
CREATED:20250718T153345Z
LAST-MODIFIED:20250718T153346Z
UID:10000678-1754049600-1754067600@www.angierchamber.org
SUMMARY:Psychic Reading with GypsySoul
DESCRIPTION:
URL:https://www.angierchamber.org/event/psychic-reading-with-gypsysoul/
LOCATION:GypsySoul Boutique\, 1179 N Main Street\, Lillington\, NC\, 27546
ATTACH;FMTTYPE=image/jpeg:https://www.angierchamber.org/wp-content/uploads/2025/07/516942424_711732581751603_5170579058366752694_n.jpg
END:VEVENT
BEGIN:VEVENT
DTSTART;TZID=UTC:20250726T140000
DTEND;TZID=UTC:20250726T160000
DTSTAMP:20260423T165750
CREATED:20250718T154109Z
LAST-MODIFIED:20250718T154111Z
UID:10000685-1753538400-1753545600@www.angierchamber.org
SUMMARY:Water Color Sip and Paint with GypsySoul
DESCRIPTION:
URL:https://www.angierchamber.org/event/water-color-sip-and-paint-with-gypsysoul/
LOCATION:GypsySoul Boutique\, 1179 N Main Street\, Lillington\, NC\, 27546
END:VEVENT
BEGIN:VEVENT
DTSTART;TZID=UTC:20250726T110000
DTEND;TZID=UTC:20250726T130000
DTSTAMP:20260423T165750
CREATED:20250619T174231Z
LAST-MODIFIED:20250619T174232Z
UID:10000543-1753527600-1753534800@www.angierchamber.org
SUMMARY:Christmas in July Ceramic Christmas Tree with Gypsy Soul
DESCRIPTION:
URL:https://www.angierchamber.org/event/christmas-in-july-ceramic-christmas-tree-with-gypsy-soul/
LOCATION:GypsySoul Boutique\, 1179 N Main Street\, Lillington\, NC\, 27546
END:VEVENT
BEGIN:VEVENT
DTSTART;TZID=UTC:20250723T130000
DTEND;TZID=UTC:20250723T150000
DTSTAMP:20260423T165750
CREATED:20250619T173750Z
LAST-MODIFIED:20250619T173752Z
UID:10000541-1753275600-1753282800@www.angierchamber.org
SUMMARY:Gut and Brain Health Wellness with Gypsy Soul
DESCRIPTION:
URL:https://www.angierchamber.org/event/gut-and-brain-health-wellness-with-gypsy-soul/
LOCATION:GypsySoul Boutique\, 1179 N Main Street\, Lillington\, NC\, 27546
END:VEVENT
BEGIN:VEVENT
DTSTART;TZID=UTC:20250718T120000
DTEND;TZID=UTC:20250718T170000
DTSTAMP:20260423T165750
CREATED:20250718T153516Z
LAST-MODIFIED:20250718T153517Z
UID:10000680-1752840000-1752858000@www.angierchamber.org
SUMMARY:Psychic Readings with GypsySoul
DESCRIPTION:
URL:https://www.angierchamber.org/event/psychic-readings-with-gypsysoul-2/
LOCATION:GypsySoul Boutique\, 1179 N Main Street\, Lillington\, NC\, 27546
ATTACH;FMTTYPE=image/jpeg:https://www.angierchamber.org/wp-content/uploads/2025/07/516942424_711732581751603_5170579058366752694_n.jpg
END:VEVENT
BEGIN:VEVENT
DTSTART;TZID=UTC:20250712T110000
DTEND;TZID=UTC:20250712T130000
DTSTAMP:20260423T165750
CREATED:20250619T141904Z
LAST-MODIFIED:20250619T141905Z
UID:10000481-1752318000-1752325200@www.angierchamber.org
SUMMARY:Kid's Journaling Class with Gypsy Soul
DESCRIPTION:
URL:https://www.angierchamber.org/event/kids-journaling-class-with-gypsy-soul-2/
LOCATION:GypsySoul Boutique\, 1179 N Main Street\, Lillington\, NC\, 27546
END:VEVENT
BEGIN:VEVENT
DTSTART;TZID=UTC:20250710T180000
DTEND;TZID=UTC:20250710T191500
DTSTAMP:20260423T165750
CREATED:20250710T202125Z
LAST-MODIFIED:20250710T202126Z
UID:10000640-1752170400-1752174900@www.angierchamber.org
SUMMARY:Full Moon Gathering with GypsySoul
DESCRIPTION:
URL:https://www.angierchamber.org/event/full-moon-gathering-with-gypsysoul/
LOCATION:GypsySoul Boutique\, 1179 N Main Street\, Lillington\, NC\, 27546
END:VEVENT
BEGIN:VEVENT
DTSTART;TZID=UTC:20250710T110000
DTEND;TZID=UTC:20250710T130000
DTSTAMP:20260423T165750
CREATED:20250619T141816Z
LAST-MODIFIED:20250619T141818Z
UID:10000480-1752145200-1752152400@www.angierchamber.org
SUMMARY:Kid's Journaling Class with Gypsy Soul
DESCRIPTION:
URL:https://www.angierchamber.org/event/kids-journaling-class-with-gypsy-soul/
LOCATION:GypsySoul Boutique\, 1179 N Main Street\, Lillington\, NC\, 27546
END:VEVENT
BEGIN:VEVENT
DTSTART;TZID=UTC:20250709T130000
DTEND;TZID=UTC:20250709T150000
DTSTAMP:20260423T165750
CREATED:20250619T173600Z
LAST-MODIFIED:20250619T173602Z
UID:10000540-1752066000-1752073200@www.angierchamber.org
SUMMARY:Procrastination Wellness Wednesday with Gypsy Soul
DESCRIPTION:Do you procrastinate? \nWhat is procrastination? \nWhy does this happen to us? \nWhat are the negative effects of this? \nHow can we overcome? \nLet’s make an aromatherapy roller ball formula to take home to help us move forward! \nProcrastination is not a mental health disorder but could be a symptom of anxiety or depression. \n$25 incudes session with Lynette Reagan\, Q&A\, personalized essential oil roller ball.
URL:https://www.angierchamber.org/event/procrastination-wellness-wednesday-with-gypsy-soul/
LOCATION:GypsySoul Boutique\, 1179 N Main Street\, Lillington\, NC\, 27546
END:VEVENT
BEGIN:VEVENT
DTSTART;TZID=UTC:20250621T130000
DTEND;TZID=UTC:20250621T150000
DTSTAMP:20260423T165750
CREATED:20250619T172926Z
LAST-MODIFIED:20250619T172927Z
UID:10000538-1750510800-1750518000@www.angierchamber.org
SUMMARY:Create Atmospheric Charcoal Shapes with Gypsy Soul
DESCRIPTION:
URL:https://www.angierchamber.org/event/create-atmospheric-charcoal-shapes-with-gypsy-soul/
LOCATION:GypsySoul Boutique\, 1179 N Main Street\, Lillington\, NC\, 27546
END:VEVENT
BEGIN:VEVENT
DTSTART;TZID=UTC:20250621T103000
DTEND;TZID=UTC:20250621T123000
DTSTAMP:20260423T165750
CREATED:20250619T173316Z
LAST-MODIFIED:20250619T173317Z
UID:10000539-1750501800-1750509000@www.angierchamber.org
SUMMARY:Learn to Felt with Gypsy Soul
DESCRIPTION:Always wanted to learn how to feel but were afraid? Or didn’t know how to get started? I’ll walk you through step-by-step and how to form and felt your little Byrd. All supplies will be provided. Please feel free to bring a beverage and snack. Lots of fun to be had and laughter and learning a new craft. \nMinimum of 5 people ~ maximum of 10\nCost: $40\nLocation: 1179 N. Main St.\, Lillington at Gypsy Soul\nTime: 10:30 AM to 12:30 PM \nDeadline to register June 19 .\nAfter the event\, feel free to wander and shop at this wonderful\, unique shop.
URL:https://www.angierchamber.org/event/learn-to-felt-with-gypsy-soul/
LOCATION:GypsySoul Boutique\, 1179 N Main Street\, Lillington\, NC\, 27546
END:VEVENT
BEGIN:VEVENT
DTSTART;TZID=UTC:20250604T170000
DTEND;TZID=UTC:20250604T200000
DTSTAMP:20260423T165750
CREATED:20250529T202615Z
LAST-MODIFIED:20250529T202616Z
UID:10000458-1749056400-1749067200@www.angierchamber.org
SUMMARY:Art Exhibition Special Event with GypsySoul Boutique
DESCRIPTION:
URL:https://www.angierchamber.org/event/art-exhibition-special-event-with-gypsysoul-boutique/
LOCATION:GypsySoul Boutique\, 1179 N Main Street\, Lillington\, NC\, 27546
ATTACH;FMTTYPE=image/jpeg:https://www.angierchamber.org/wp-content/uploads/2025/05/501225298_18304960525241488_6223084308446190977_n.jpg
END:VEVENT
END:VCALENDAR