BEGIN:VCALENDAR
VERSION:2.0
PRODID:-//Angier Chamber of Commerce - ECPv6.15.18//NONSGML v1.0//EN
CALSCALE:GREGORIAN
METHOD:PUBLISH
X-ORIGINAL-URL:https://www.angierchamber.org
X-WR-CALDESC:Events for Angier Chamber of Commerce
REFRESH-INTERVAL;VALUE=DURATION:PT1H
X-Robots-Tag:noindex
X-PUBLISHED-TTL:PT1H
BEGIN:VTIMEZONE
TZID:UTC
BEGIN:STANDARD
TZOFFSETFROM:+0000
TZOFFSETTO:+0000
TZNAME:UTC
DTSTART:20240101T000000
END:STANDARD
END:VTIMEZONE
BEGIN:VEVENT
DTSTART;TZID=UTC:20251230T191000
DTEND;TZID=UTC:20251230T201000
DTSTAMP:20260423T111425
CREATED:20251013T182308Z
LAST-MODIFIED:20251013T182309Z
UID:10000973-1767121800-1767125400@www.angierchamber.org
SUMMARY:Boxing for Fitness with Forrest Fitness
DESCRIPTION:
URL:https://www.angierchamber.org/event/boxing-for-fitness-with-forrest-fitness-54/
LOCATION:Forrest Fitness\, 34 N. Broad Street E.\, Angier\, NC\, 27501
ATTACH;FMTTYPE=image/jpeg:https://www.angierchamber.org/wp-content/uploads/2025/10/560059000_25852210781045708_6358960948692611289_n.jpg
END:VEVENT
BEGIN:VEVENT
DTSTART;TZID=UTC:20251223T191000
DTEND;TZID=UTC:20251223T201000
DTSTAMP:20260423T111425
CREATED:20251013T182224Z
LAST-MODIFIED:20251013T182226Z
UID:10000972-1766517000-1766520600@www.angierchamber.org
SUMMARY:Boxing for Fitness with Forrest Fitness
DESCRIPTION:
URL:https://www.angierchamber.org/event/boxing-for-fitness-with-forrest-fitness-53/
LOCATION:Forrest Fitness\, 34 N. Broad Street E.\, Angier\, NC\, 27501
ATTACH;FMTTYPE=image/jpeg:https://www.angierchamber.org/wp-content/uploads/2025/10/560059000_25852210781045708_6358960948692611289_n.jpg
END:VEVENT
BEGIN:VEVENT
DTSTART;TZID=UTC:20251218T191000
DTEND;TZID=UTC:20251218T201000
DTSTAMP:20260423T111425
CREATED:20251013T183135Z
LAST-MODIFIED:20251013T183136Z
UID:10000983-1766085000-1766088600@www.angierchamber.org
SUMMARY:Boxing for Fitness with Forrest Fitness
DESCRIPTION:
URL:https://www.angierchamber.org/event/boxing-for-fitness-with-forrest-fitness-64/
LOCATION:Forrest Fitness\, 34 N. Broad Street E.\, Angier\, NC\, 27501
ATTACH;FMTTYPE=image/jpeg:https://www.angierchamber.org/wp-content/uploads/2025/10/560059000_25852210781045708_6358960948692611289_n.jpg
END:VEVENT
BEGIN:VEVENT
DTSTART;TZID=UTC:20251216T191000
DTEND;TZID=UTC:20251216T201000
DTSTAMP:20260423T111425
CREATED:20251013T182139Z
LAST-MODIFIED:20251013T182141Z
UID:10000971-1765912200-1765915800@www.angierchamber.org
SUMMARY:Boxing for Fitness with Forrest Fitness
DESCRIPTION:
URL:https://www.angierchamber.org/event/boxing-for-fitness-with-forrest-fitness-52/
LOCATION:Forrest Fitness\, 34 N. Broad Street E.\, Angier\, NC\, 27501
ATTACH;FMTTYPE=image/jpeg:https://www.angierchamber.org/wp-content/uploads/2025/10/560059000_25852210781045708_6358960948692611289_n.jpg
END:VEVENT
BEGIN:VEVENT
DTSTART;TZID=UTC:20251211T191000
DTEND;TZID=UTC:20251211T201000
DTSTAMP:20260423T111425
CREATED:20251013T183047Z
LAST-MODIFIED:20251013T183049Z
UID:10000982-1765480200-1765483800@www.angierchamber.org
SUMMARY:Boxing for Fitness with Forrest Fitness
DESCRIPTION:
URL:https://www.angierchamber.org/event/boxing-for-fitness-with-forrest-fitness-63/
LOCATION:Forrest Fitness\, 34 N. Broad Street E.\, Angier\, NC\, 27501
ATTACH;FMTTYPE=image/jpeg:https://www.angierchamber.org/wp-content/uploads/2025/10/560059000_25852210781045708_6358960948692611289_n.jpg
END:VEVENT
BEGIN:VEVENT
DTSTART;TZID=UTC:20251209T191000
DTEND;TZID=UTC:20251209T201000
DTSTAMP:20260423T111425
CREATED:20251013T182051Z
LAST-MODIFIED:20251013T182052Z
UID:10000970-1765307400-1765311000@www.angierchamber.org
SUMMARY:Boxing for Fitness with Forrest Fitness
DESCRIPTION:
URL:https://www.angierchamber.org/event/boxing-for-fitness-with-forrest-fitness-51/
LOCATION:Forrest Fitness\, 34 N. Broad Street E.\, Angier\, NC\, 27501
ATTACH;FMTTYPE=image/jpeg:https://www.angierchamber.org/wp-content/uploads/2025/10/560059000_25852210781045708_6358960948692611289_n.jpg
END:VEVENT
BEGIN:VEVENT
DTSTART;TZID=UTC:20251204T191000
DTEND;TZID=UTC:20251204T201000
DTSTAMP:20260423T111425
CREATED:20251013T182926Z
LAST-MODIFIED:20251013T182949Z
UID:10000981-1764875400-1764879000@www.angierchamber.org
SUMMARY:Boxing for Fitness with Forrest Fitness
DESCRIPTION:
URL:https://www.angierchamber.org/event/boxing-for-fitness-with-forrest-fitness-62/
LOCATION:Forrest Fitness\, 34 N. Broad Street E.\, Angier\, NC\, 27501
ATTACH;FMTTYPE=image/jpeg:https://www.angierchamber.org/wp-content/uploads/2025/10/560059000_25852210781045708_6358960948692611289_n.jpg
END:VEVENT
BEGIN:VEVENT
DTSTART;TZID=UTC:20251202T191000
DTEND;TZID=UTC:20251202T201000
DTSTAMP:20260423T111425
CREATED:20251013T182003Z
LAST-MODIFIED:20251013T182006Z
UID:10000969-1764702600-1764706200@www.angierchamber.org
SUMMARY:Boxing for Fitness with Forrest Fitness
DESCRIPTION:
URL:https://www.angierchamber.org/event/boxing-for-fitness-with-forrest-fitness-50/
LOCATION:Forrest Fitness\, 34 N. Broad Street E.\, Angier\, NC\, 27501
ATTACH;FMTTYPE=image/jpeg:https://www.angierchamber.org/wp-content/uploads/2025/10/560059000_25852210781045708_6358960948692611289_n.jpg
END:VEVENT
BEGIN:VEVENT
DTSTART;TZID=UTC:20251127T191000
DTEND;TZID=UTC:20251127T201000
DTSTAMP:20260423T111425
CREATED:20251013T182836Z
LAST-MODIFIED:20251013T182837Z
UID:10000980-1764270600-1764274200@www.angierchamber.org
SUMMARY:Boxing for Fitness with Forrest Fitness
DESCRIPTION:
URL:https://www.angierchamber.org/event/boxing-for-fitness-with-forrest-fitness-61/
LOCATION:Forrest Fitness\, 34 N. Broad Street E.\, Angier\, NC\, 27501
ATTACH;FMTTYPE=image/jpeg:https://www.angierchamber.org/wp-content/uploads/2025/10/560059000_25852210781045708_6358960948692611289_n.jpg
END:VEVENT
BEGIN:VEVENT
DTSTART;TZID=UTC:20251126T190000
DTEND;TZID=UTC:20251126T210000
DTSTAMP:20260423T111425
CREATED:20251013T183651Z
LAST-MODIFIED:20251013T183653Z
UID:10000987-1764183600-1764190800@www.angierchamber.org
SUMMARY:Music Bingo with Wingin' It Angier
DESCRIPTION:
URL:https://www.angierchamber.org/event/music-bingo-with-wingin-it-angier-9/
LOCATION:Forrest Fitness\, 34 N. Broad Street E.\, Angier\, NC\, 27501
ATTACH;FMTTYPE=image/jpeg:https://www.angierchamber.org/wp-content/uploads/2025/10/560059000_25852210781045708_6358960948692611289_n.jpg
END:VEVENT
BEGIN:VEVENT
DTSTART;TZID=UTC:20251125T191000
DTEND;TZID=UTC:20251125T201000
DTSTAMP:20260423T111425
CREATED:20251013T181917Z
LAST-MODIFIED:20251013T181918Z
UID:10000968-1764097800-1764101400@www.angierchamber.org
SUMMARY:Boxing for Fitness with Forrest Fitness
DESCRIPTION:
URL:https://www.angierchamber.org/event/boxing-for-fitness-with-forrest-fitness-49/
LOCATION:Forrest Fitness\, 34 N. Broad Street E.\, Angier\, NC\, 27501
ATTACH;FMTTYPE=image/jpeg:https://www.angierchamber.org/wp-content/uploads/2025/10/560059000_25852210781045708_6358960948692611289_n.jpg
END:VEVENT
BEGIN:VEVENT
DTSTART;TZID=UTC:20251120T191000
DTEND;TZID=UTC:20251120T201000
DTSTAMP:20260423T111425
CREATED:20251013T182751Z
LAST-MODIFIED:20251013T182753Z
UID:10000979-1763665800-1763669400@www.angierchamber.org
SUMMARY:Boxing for Fitness with Forrest Fitness
DESCRIPTION:
URL:https://www.angierchamber.org/event/boxing-for-fitness-with-forrest-fitness-60/
LOCATION:Forrest Fitness\, 34 N. Broad Street E.\, Angier\, NC\, 27501
ATTACH;FMTTYPE=image/jpeg:https://www.angierchamber.org/wp-content/uploads/2025/10/560059000_25852210781045708_6358960948692611289_n.jpg
END:VEVENT
BEGIN:VEVENT
DTSTART;TZID=UTC:20251118T191000
DTEND;TZID=UTC:20251118T201000
DTSTAMP:20260423T111425
CREATED:20251013T181820Z
LAST-MODIFIED:20251013T181822Z
UID:10000967-1763493000-1763496600@www.angierchamber.org
SUMMARY:Boxing for Fitness with Forrest Fitness
DESCRIPTION:
URL:https://www.angierchamber.org/event/boxing-for-fitness-with-forrest-fitness-48/
LOCATION:Forrest Fitness\, 34 N. Broad Street E.\, Angier\, NC\, 27501
ATTACH;FMTTYPE=image/jpeg:https://www.angierchamber.org/wp-content/uploads/2025/10/560059000_25852210781045708_6358960948692611289_n.jpg
END:VEVENT
BEGIN:VEVENT
DTSTART;TZID=UTC:20251113T191000
DTEND;TZID=UTC:20251113T201000
DTSTAMP:20260423T111425
CREATED:20251013T182706Z
LAST-MODIFIED:20251013T182709Z
UID:10000978-1763061000-1763064600@www.angierchamber.org
SUMMARY:Boxing for Fitness with Forrest Fitness
DESCRIPTION:
URL:https://www.angierchamber.org/event/boxing-for-fitness-with-forrest-fitness-59/
LOCATION:Forrest Fitness\, 34 N. Broad Street E.\, Angier\, NC\, 27501
ATTACH;FMTTYPE=image/jpeg:https://www.angierchamber.org/wp-content/uploads/2025/10/560059000_25852210781045708_6358960948692611289_n.jpg
END:VEVENT
BEGIN:VEVENT
DTSTART;TZID=UTC:20251111T191000
DTEND;TZID=UTC:20251111T201000
DTSTAMP:20260423T111425
CREATED:20251013T181736Z
LAST-MODIFIED:20251013T181738Z
UID:10000966-1762888200-1762891800@www.angierchamber.org
SUMMARY:Boxing for Fitness with Forrest Fitness
DESCRIPTION:
URL:https://www.angierchamber.org/event/boxing-for-fitness-with-forrest-fitness-47/
LOCATION:Forrest Fitness\, 34 N. Broad Street E.\, Angier\, NC\, 27501
ATTACH;FMTTYPE=image/jpeg:https://www.angierchamber.org/wp-content/uploads/2025/10/560059000_25852210781045708_6358960948692611289_n.jpg
END:VEVENT
BEGIN:VEVENT
DTSTART;TZID=UTC:20251106T191000
DTEND;TZID=UTC:20251106T201000
DTSTAMP:20260423T111425
CREATED:20251013T182616Z
LAST-MODIFIED:20251013T182618Z
UID:10000977-1762456200-1762459800@www.angierchamber.org
SUMMARY:Boxing for Fitness with Forrest Fitness
DESCRIPTION:
URL:https://www.angierchamber.org/event/boxing-for-fitness-with-forrest-fitness-58/
LOCATION:Forrest Fitness\, 34 N. Broad Street E.\, Angier\, NC\, 27501
ATTACH;FMTTYPE=image/jpeg:https://www.angierchamber.org/wp-content/uploads/2025/10/560059000_25852210781045708_6358960948692611289_n.jpg
END:VEVENT
BEGIN:VEVENT
DTSTART;TZID=UTC:20251104T191000
DTEND;TZID=UTC:20251104T201000
DTSTAMP:20260423T111425
CREATED:20251013T181648Z
LAST-MODIFIED:20251013T181649Z
UID:10000965-1762283400-1762287000@www.angierchamber.org
SUMMARY:Boxing for Fitness with Forrest Fitness
DESCRIPTION:
URL:https://www.angierchamber.org/event/boxing-for-fitness-with-forrest-fitness-46/
LOCATION:Forrest Fitness\, 34 N. Broad Street E.\, Angier\, NC\, 27501
ATTACH;FMTTYPE=image/jpeg:https://www.angierchamber.org/wp-content/uploads/2025/10/560059000_25852210781045708_6358960948692611289_n.jpg
END:VEVENT
BEGIN:VEVENT
DTSTART;TZID=UTC:20251030T191000
DTEND;TZID=UTC:20251030T201000
DTSTAMP:20260423T111425
CREATED:20251013T182523Z
LAST-MODIFIED:20251013T182525Z
UID:10000976-1761851400-1761855000@www.angierchamber.org
SUMMARY:Boxing for Fitness with Forrest Fitness
DESCRIPTION:
URL:https://www.angierchamber.org/event/boxing-for-fitness-with-forrest-fitness-57/
LOCATION:Forrest Fitness\, 34 N. Broad Street E.\, Angier\, NC\, 27501
ATTACH;FMTTYPE=image/jpeg:https://www.angierchamber.org/wp-content/uploads/2025/10/560059000_25852210781045708_6358960948692611289_n.jpg
END:VEVENT
BEGIN:VEVENT
DTSTART;TZID=UTC:20251028T191000
DTEND;TZID=UTC:20251028T201000
DTSTAMP:20260423T111425
CREATED:20251013T181524Z
LAST-MODIFIED:20251013T181525Z
UID:10000964-1761678600-1761682200@www.angierchamber.org
SUMMARY:Boxing for Fitness with Forrest Fitness
DESCRIPTION:
URL:https://www.angierchamber.org/event/boxing-for-fitness-with-forrest-fitness-45/
LOCATION:Forrest Fitness\, 34 N. Broad Street E.\, Angier\, NC\, 27501
ATTACH;FMTTYPE=image/jpeg:https://www.angierchamber.org/wp-content/uploads/2025/10/560059000_25852210781045708_6358960948692611289_n.jpg
END:VEVENT
BEGIN:VEVENT
DTSTART;TZID=UTC:20251023T191000
DTEND;TZID=UTC:20251023T201000
DTSTAMP:20260423T111425
CREATED:20251013T182426Z
LAST-MODIFIED:20251013T182428Z
UID:10000975-1761246600-1761250200@www.angierchamber.org
SUMMARY:Boxing for Fitness with Forrest Fitness
DESCRIPTION:
URL:https://www.angierchamber.org/event/boxing-for-fitness-with-forrest-fitness-56/
LOCATION:Forrest Fitness\, 34 N. Broad Street E.\, Angier\, NC\, 27501
ATTACH;FMTTYPE=image/jpeg:https://www.angierchamber.org/wp-content/uploads/2025/10/560059000_25852210781045708_6358960948692611289_n.jpg
END:VEVENT
BEGIN:VEVENT
DTSTART;TZID=UTC:20251021T191000
DTEND;TZID=UTC:20251021T201000
DTSTAMP:20260423T111425
CREATED:20251013T181349Z
LAST-MODIFIED:20251013T181351Z
UID:10000963-1761073800-1761077400@www.angierchamber.org
SUMMARY:Boxing for Fitness with Forrest Fitness
DESCRIPTION:
URL:https://www.angierchamber.org/event/boxing-for-fitness-with-forrest-fitness-44/
LOCATION:Forrest Fitness\, 34 N. Broad Street E.\, Angier\, NC\, 27501
ATTACH;FMTTYPE=image/jpeg:https://www.angierchamber.org/wp-content/uploads/2025/10/560059000_25852210781045708_6358960948692611289_n.jpg
END:VEVENT
BEGIN:VEVENT
DTSTART;TZID=UTC:20251016T191000
DTEND;TZID=UTC:20251016T201000
DTSTAMP:20260423T111425
CREATED:20251013T182347Z
LAST-MODIFIED:20251013T182348Z
UID:10000974-1760641800-1760645400@www.angierchamber.org
SUMMARY:Boxing for Fitness with Forrest Fitness
DESCRIPTION:
URL:https://www.angierchamber.org/event/boxing-for-fitness-with-forrest-fitness-55/
LOCATION:Forrest Fitness\, 34 N. Broad Street E.\, Angier\, NC\, 27501
ATTACH;FMTTYPE=image/jpeg:https://www.angierchamber.org/wp-content/uploads/2025/10/560059000_25852210781045708_6358960948692611289_n.jpg
END:VEVENT
BEGIN:VEVENT
DTSTART;TZID=UTC:20251014T191000
DTEND;TZID=UTC:20251014T201000
DTSTAMP:20260423T111425
CREATED:20251013T181248Z
LAST-MODIFIED:20251013T181249Z
UID:10000962-1760469000-1760472600@www.angierchamber.org
SUMMARY:Boxing for Fitness with Forrest Fitness
DESCRIPTION:
URL:https://www.angierchamber.org/event/boxing-for-fitness-with-forrest-fitness-43/
LOCATION:Forrest Fitness\, 34 N. Broad Street E.\, Angier\, NC\, 27501
ATTACH;FMTTYPE=image/jpeg:https://www.angierchamber.org/wp-content/uploads/2025/10/560059000_25852210781045708_6358960948692611289_n.jpg
END:VEVENT
BEGIN:VEVENT
DTSTART;TZID=UTC:20250731T190000
DTEND;TZID=UTC:20250731T200000
DTSTAMP:20260423T111425
CREATED:20250619T163024Z
LAST-MODIFIED:20250619T163025Z
UID:10000524-1753988400-1753992000@www.angierchamber.org
SUMMARY:Boxing for Fitness with Forrest Fitness
DESCRIPTION:
URL:https://www.angierchamber.org/event/boxing-for-fitness-with-forrest-fitness-42/
LOCATION:Forrest Fitness\, 34 N. Broad Street E.\, Angier\, NC\, 27501
END:VEVENT
BEGIN:VEVENT
DTSTART;TZID=UTC:20250729T190000
DTEND;TZID=UTC:20250729T200000
DTSTAMP:20260423T111425
CREATED:20250619T162916Z
LAST-MODIFIED:20250619T162933Z
UID:10000523-1753815600-1753819200@www.angierchamber.org
SUMMARY:Boxing for Fitness with Forrest Fitness
DESCRIPTION:
URL:https://www.angierchamber.org/event/boxing-for-fitness-with-forrest-fitness-41/
LOCATION:Forrest Fitness\, 34 N. Broad Street E.\, Angier\, NC\, 27501
END:VEVENT
BEGIN:VEVENT
DTSTART;TZID=UTC:20250724T190000
DTEND;TZID=UTC:20250724T200000
DTSTAMP:20260423T111425
CREATED:20250619T162810Z
LAST-MODIFIED:20250619T163115Z
UID:10000522-1753383600-1753387200@www.angierchamber.org
SUMMARY:Boxing for Fitness with Forrest Fitness
DESCRIPTION:
URL:https://www.angierchamber.org/event/boxing-for-fitness-with-forrest-fitness-40/
LOCATION:Forrest Fitness\, 34 N. Broad Street E.\, Angier\, NC\, 27501
END:VEVENT
BEGIN:VEVENT
DTSTART;TZID=UTC:20250722T190000
DTEND;TZID=UTC:20250722T200000
DTSTAMP:20260423T111425
CREATED:20250619T162731Z
LAST-MODIFIED:20250619T162732Z
UID:10000521-1753210800-1753214400@www.angierchamber.org
SUMMARY:Boxing for Fitness with Forrest Fitness
DESCRIPTION:
URL:https://www.angierchamber.org/event/boxing-for-fitness-with-forrest-fitness-39/
LOCATION:Forrest Fitness\, 34 N. Broad Street E.\, Angier\, NC\, 27501
END:VEVENT
BEGIN:VEVENT
DTSTART;TZID=UTC:20250717T190000
DTEND;TZID=UTC:20250717T200000
DTSTAMP:20260423T111425
CREATED:20250619T162653Z
LAST-MODIFIED:20250619T162654Z
UID:10000520-1752778800-1752782400@www.angierchamber.org
SUMMARY:Boxing for Fitness with Forrest Fitness
DESCRIPTION:
URL:https://www.angierchamber.org/event/boxing-for-fitness-with-forrest-fitness-38/
LOCATION:Forrest Fitness\, 34 N. Broad Street E.\, Angier\, NC\, 27501
END:VEVENT
BEGIN:VEVENT
DTSTART;TZID=UTC:20250715T190000
DTEND;TZID=UTC:20250715T200000
DTSTAMP:20260423T111425
CREATED:20250619T162619Z
LAST-MODIFIED:20250619T162620Z
UID:10000519-1752606000-1752609600@www.angierchamber.org
SUMMARY:Boxing for Fitness with Forrest Fitness
DESCRIPTION:
URL:https://www.angierchamber.org/event/boxing-for-fitness-with-forrest-fitness-37/
LOCATION:Forrest Fitness\, 34 N. Broad Street E.\, Angier\, NC\, 27501
END:VEVENT
BEGIN:VEVENT
DTSTART;TZID=UTC:20250710T190000
DTEND;TZID=UTC:20250710T200000
DTSTAMP:20260423T111425
CREATED:20250619T162458Z
LAST-MODIFIED:20250619T162459Z
UID:10000518-1752174000-1752177600@www.angierchamber.org
SUMMARY:Boxing for Fitness with Forrest Fitness
DESCRIPTION:
URL:https://www.angierchamber.org/event/boxing-for-fitness-with-forrest-fitness-36/
LOCATION:Forrest Fitness\, 34 N. Broad Street E.\, Angier\, NC\, 27501
END:VEVENT
END:VCALENDAR