BEGIN:VCALENDAR
VERSION:2.0
PRODID:-//Angier Chamber of Commerce - ECPv6.15.18//NONSGML v1.0//EN
CALSCALE:GREGORIAN
METHOD:PUBLISH
X-ORIGINAL-URL:https://www.angierchamber.org
X-WR-CALDESC:Events for Angier Chamber of Commerce
REFRESH-INTERVAL;VALUE=DURATION:PT1H
X-Robots-Tag:noindex
X-PUBLISHED-TTL:PT1H
BEGIN:VTIMEZONE
TZID:UTC
BEGIN:STANDARD
TZOFFSETFROM:+0000
TZOFFSETTO:+0000
TZNAME:UTC
DTSTART:20240101T000000
END:STANDARD
END:VTIMEZONE
BEGIN:VEVENT
DTSTART;TZID=UTC:20250904T180000
DTEND;TZID=UTC:20250904T200000
DTSTAMP:20260424T180650
CREATED:20250710T163214Z
LAST-MODIFIED:20250710T163217Z
UID:10000601-1757008800-1757016000@www.angierchamber.org
SUMMARY:Harnett County Chambers' Joint Networking Event
DESCRIPTION:The Angier Chamber of Commerce\, Coats Area Chamber of Commerce\, Erwin Area Chamber of Commerce\, Dunn Area Chamber of Commerce\, and Lillington Area Chamber of Commerce are teaming up for a county-wide networking event\, and you’re invited! \nWe’re kicking things off at the Coats Community Building\, a central location that gives all our Chambers room to come together and connect. If this first event is a success\, we plan to rotate locations each quarter to make it easier for everyone to join in across the county. \nCome ready to:\n✅ Bring a store-bought snack to share\n✅ Swap business cards and smiles \nThe chambers will provide beverages. \nWe’re excited to see all our Harnett County small businesses in one place. Let’s make this first one a big success!
URL:https://www.angierchamber.org/event/harnett-county-chambers-joint-networking-event/
LOCATION:Coats Community Building\, 127 South McKinley Street\, Coats\, NC\, 27526
END:VEVENT
END:VCALENDAR