BEGIN:VCALENDAR
VERSION:2.0
PRODID:-//Angier Chamber of Commerce - ECPv6.15.18//NONSGML v1.0//EN
CALSCALE:GREGORIAN
METHOD:PUBLISH
X-WR-CALNAME:Angier Chamber of Commerce
X-ORIGINAL-URL:https://www.angierchamber.org
X-WR-CALDESC:Events for Angier Chamber of Commerce
REFRESH-INTERVAL;VALUE=DURATION:PT1H
X-Robots-Tag:noindex
X-PUBLISHED-TTL:PT1H
BEGIN:VTIMEZONE
TZID:UTC
BEGIN:STANDARD
TZOFFSETFROM:+0000
TZOFFSETTO:+0000
TZNAME:UTC
DTSTART:20240101T000000
END:STANDARD
END:VTIMEZONE
BEGIN:VEVENT
DTSTART;TZID=UTC:20260325T090000
DTEND;TZID=UTC:20260325T100000
DTSTAMP:20260423T081338
CREATED:20260226T144045Z
LAST-MODIFIED:20260226T144047Z
UID:10001280-1774429200-1774432800@www.angierchamber.org
SUMMARY:Christian Yoga with a Twist with Church of the Resurrection
DESCRIPTION:
URL:https://www.angierchamber.org/event/christian-yoga-with-a-twist-with-church-of-the-resurrection-6/
LOCATION:Church of the Resurrection\, 171 West Depot Street\, Angier\, NC\, 27501\, United States
ATTACH;FMTTYPE=image/jpeg:https://www.angierchamber.org/wp-content/uploads/2026/02/636828224_1319595480208174_5449513373568084186_n.jpg
END:VEVENT
BEGIN:VEVENT
DTSTART;TZID=UTC:20260318T090000
DTEND;TZID=UTC:20260318T100000
DTSTAMP:20260423T081338
CREATED:20260226T143943Z
LAST-MODIFIED:20260226T143945Z
UID:10001279-1773824400-1773828000@www.angierchamber.org
SUMMARY:Christian Yoga with a Twist with Church of the Resurrection
DESCRIPTION:
URL:https://www.angierchamber.org/event/christian-yoga-with-a-twist-with-church-of-the-resurrection-5/
LOCATION:Church of the Resurrection\, 171 West Depot Street\, Angier\, NC\, 27501\, United States
ATTACH;FMTTYPE=image/jpeg:https://www.angierchamber.org/wp-content/uploads/2026/02/636828224_1319595480208174_5449513373568084186_n.jpg
END:VEVENT
BEGIN:VEVENT
DTSTART;TZID=UTC:20260311T090000
DTEND;TZID=UTC:20260311T100000
DTSTAMP:20260423T081338
CREATED:20260226T143631Z
LAST-MODIFIED:20260226T143633Z
UID:10001276-1773219600-1773223200@www.angierchamber.org
SUMMARY:Christian Yoga with a Twist with Church of the Resurrection
DESCRIPTION:
URL:https://www.angierchamber.org/event/christian-yoga-with-a-twist-with-church-of-the-resurrection-2/
LOCATION:Church of the Resurrection\, 171 West Depot Street\, Angier\, NC\, 27501\, United States
END:VEVENT
BEGIN:VEVENT
DTSTART;TZID=UTC:20260304T090000
DTEND;TZID=UTC:20260304T100000
DTSTAMP:20260423T081338
CREATED:20260226T143539Z
LAST-MODIFIED:20260226T143541Z
UID:10001275-1772614800-1772618400@www.angierchamber.org
SUMMARY:Christian Yoga with a Twist with Church of the Resurrection
DESCRIPTION:
URL:https://www.angierchamber.org/event/christian-yoga-with-a-twist-with-church-of-the-resurrection/
LOCATION:Church of the Resurrection\, 171 West Depot Street\, Angier\, NC\, 27501\, United States
ATTACH;FMTTYPE=image/jpeg:https://www.angierchamber.org/wp-content/uploads/2026/02/636828224_1319595480208174_5449513373568084186_n.jpg
END:VEVENT
BEGIN:VEVENT
DTSTART;TZID=UTC:20260225T090000
DTEND;TZID=UTC:20260225T100000
DTSTAMP:20260423T081338
CREATED:20260226T143851Z
LAST-MODIFIED:20260226T143853Z
UID:10001278-1772010000-1772013600@www.angierchamber.org
SUMMARY:Christian Yoga with a Twist with Church of the Resurrection
DESCRIPTION:
URL:https://www.angierchamber.org/event/christian-yoga-with-a-twist-with-church-of-the-resurrection-4/
LOCATION:Church of the Resurrection\, 171 West Depot Street\, Angier\, NC\, 27501\, United States
ATTACH;FMTTYPE=image/jpeg:https://www.angierchamber.org/wp-content/uploads/2026/02/636828224_1319595480208174_5449513373568084186_n.jpg
END:VEVENT
BEGIN:VEVENT
DTSTART;TZID=UTC:20260218T090000
DTEND;TZID=UTC:20260218T100000
DTSTAMP:20260423T081338
CREATED:20260226T143718Z
LAST-MODIFIED:20260226T143718Z
UID:10001277-1771405200-1771408800@www.angierchamber.org
SUMMARY:Christian Yoga with a Twist with Church of the Resurrection
DESCRIPTION:
URL:https://www.angierchamber.org/event/christian-yoga-with-a-twist-with-church-of-the-resurrection-3/
LOCATION:Church of the Resurrection\, 171 West Depot Street\, Angier\, NC\, 27501\, United States
ATTACH;FMTTYPE=image/jpeg:https://www.angierchamber.org/wp-content/uploads/2026/02/636828224_1319595480208174_5449513373568084186_n.jpg
END:VEVENT
BEGIN:VEVENT
DTSTART;TZID=UTC:20251231T183000
DTEND;TZID=UTC:20251231T203000
DTSTAMP:20260423T081338
CREATED:20251016T143334Z
LAST-MODIFIED:20251016T143336Z
UID:10001026-1767205800-1767213000@www.angierchamber.org
SUMMARY:Divorce Care with Church of the Resurrection
DESCRIPTION:
URL:https://www.angierchamber.org/event/divorce-care-with-church-of-the-resurrection-9/
LOCATION:Church of the Resurrection\, 171 West Depot Street\, Angier\, NC\, 27501\, United States
ATTACH;FMTTYPE=image/jpeg:https://www.angierchamber.org/wp-content/uploads/2025/10/558293276_1212162367618153_2181329549627526149_n-1.jpg
END:VEVENT
BEGIN:VEVENT
DTSTART;TZID=UTC:20251224T183000
DTEND;TZID=UTC:20251224T203000
DTSTAMP:20260423T081338
CREATED:20251016T143201Z
LAST-MODIFIED:20251016T143203Z
UID:10001025-1766601000-1766608200@www.angierchamber.org
SUMMARY:Divorce Care with Church of the Resurrection
DESCRIPTION:
URL:https://www.angierchamber.org/event/divorce-care-with-church-of-the-resurrection-8/
LOCATION:Church of the Resurrection\, 171 West Depot Street\, Angier\, NC\, 27501\, United States
ATTACH;FMTTYPE=image/jpeg:https://www.angierchamber.org/wp-content/uploads/2025/10/558293276_1212162367618153_2181329549627526149_n-1.jpg
END:VEVENT
BEGIN:VEVENT
DTSTART;TZID=UTC:20251217T183000
DTEND;TZID=UTC:20251217T203000
DTSTAMP:20260423T081338
CREATED:20251016T143116Z
LAST-MODIFIED:20251016T143120Z
UID:10001024-1765996200-1766003400@www.angierchamber.org
SUMMARY:Divorce Care with Church of the Resurrection
DESCRIPTION:
URL:https://www.angierchamber.org/event/divorce-care-with-church-of-the-resurrection-7/
LOCATION:Church of the Resurrection\, 171 West Depot Street\, Angier\, NC\, 27501\, United States
ATTACH;FMTTYPE=image/jpeg:https://www.angierchamber.org/wp-content/uploads/2025/10/558293276_1212162367618153_2181329549627526149_n-1.jpg
END:VEVENT
BEGIN:VEVENT
DTSTART;TZID=UTC:20251210T183000
DTEND;TZID=UTC:20251210T203000
DTSTAMP:20260423T081338
CREATED:20251016T143019Z
LAST-MODIFIED:20251016T143021Z
UID:10001023-1765391400-1765398600@www.angierchamber.org
SUMMARY:Divorce Care with Church of the Resurrection
DESCRIPTION:
URL:https://www.angierchamber.org/event/divorce-care-with-church-of-the-resurrection-6/
LOCATION:Church of the Resurrection\, 171 West Depot Street\, Angier\, NC\, 27501\, United States
ATTACH;FMTTYPE=image/jpeg:https://www.angierchamber.org/wp-content/uploads/2025/10/558293276_1212162367618153_2181329549627526149_n-1.jpg
END:VEVENT
BEGIN:VEVENT
DTSTART;TZID=UTC:20251203T183000
DTEND;TZID=UTC:20251203T203000
DTSTAMP:20260423T081338
CREATED:20251016T142929Z
LAST-MODIFIED:20251016T142931Z
UID:10001022-1764786600-1764793800@www.angierchamber.org
SUMMARY:Divorce Care with Church of the Resurrection
DESCRIPTION:
URL:https://www.angierchamber.org/event/divorce-care-with-church-of-the-resurrection-5/
LOCATION:Church of the Resurrection\, 171 West Depot Street\, Angier\, NC\, 27501\, United States
ATTACH;FMTTYPE=image/jpeg:https://www.angierchamber.org/wp-content/uploads/2025/10/558293276_1212162367618153_2181329549627526149_n-1.jpg
END:VEVENT
BEGIN:VEVENT
DTSTART;TZID=UTC:20251126T183000
DTEND;TZID=UTC:20251126T203000
DTSTAMP:20260423T081338
CREATED:20251016T142818Z
LAST-MODIFIED:20251016T142819Z
UID:10001021-1764181800-1764189000@www.angierchamber.org
SUMMARY:Divorce Care with Church of the Resurrection
DESCRIPTION:
URL:https://www.angierchamber.org/event/divorce-care-with-church-of-the-resurrection-4/
LOCATION:Church of the Resurrection\, 171 West Depot Street\, Angier\, NC\, 27501\, United States
ATTACH;FMTTYPE=image/jpeg:https://www.angierchamber.org/wp-content/uploads/2025/10/558293276_1212162367618153_2181329549627526149_n-1.jpg
END:VEVENT
BEGIN:VEVENT
DTSTART;TZID=UTC:20251119T183000
DTEND;TZID=UTC:20251119T203000
DTSTAMP:20260423T081338
CREATED:20251016T142736Z
LAST-MODIFIED:20251016T142737Z
UID:10001020-1763577000-1763584200@www.angierchamber.org
SUMMARY:Divorce Care with Church of the Resurrection
DESCRIPTION:
URL:https://www.angierchamber.org/event/divorce-care-with-church-of-the-resurrection-3/
LOCATION:Church of the Resurrection\, 171 West Depot Street\, Angier\, NC\, 27501\, United States
ATTACH;FMTTYPE=image/jpeg:https://www.angierchamber.org/wp-content/uploads/2025/10/558293276_1212162367618153_2181329549627526149_n-1.jpg
END:VEVENT
BEGIN:VEVENT
DTSTART;TZID=UTC:20251119T090000
DTEND;TZID=UTC:20251119T100000
DTSTAMP:20260423T081338
CREATED:20251016T143633Z
LAST-MODIFIED:20251016T143635Z
UID:10001028-1763542800-1763546400@www.angierchamber.org
SUMMARY:Yoga with Church of the Resurrection
DESCRIPTION:
URL:https://www.angierchamber.org/event/yoga-with-church-of-the-resurrection-2/
LOCATION:Church of the Resurrection\, 171 West Depot Street\, Angier\, NC\, 27501\, United States
ATTACH;FMTTYPE=image/jpeg:https://www.angierchamber.org/wp-content/uploads/2025/10/556141527_1206025128231877_9182610708957024283_n.jpg
END:VEVENT
BEGIN:VEVENT
DTSTART;TZID=UTC:20251112T183000
DTEND;TZID=UTC:20251112T203000
DTSTAMP:20260423T081338
CREATED:20251016T142647Z
LAST-MODIFIED:20251016T142649Z
UID:10001019-1762972200-1762979400@www.angierchamber.org
SUMMARY:Divorce Care with Church of the Resurrection
DESCRIPTION:
URL:https://www.angierchamber.org/event/divorce-care-with-church-of-the-resurrection-2/
LOCATION:Church of the Resurrection\, 171 West Depot Street\, Angier\, NC\, 27501\, United States
ATTACH;FMTTYPE=image/jpeg:https://www.angierchamber.org/wp-content/uploads/2025/10/558293276_1212162367618153_2181329549627526149_n-1.jpg
END:VEVENT
BEGIN:VEVENT
DTSTART;TZID=UTC:20251112T090000
DTEND;TZID=UTC:20251112T100000
DTSTAMP:20260423T081338
CREATED:20251016T143537Z
LAST-MODIFIED:20251016T143541Z
UID:10001027-1762938000-1762941600@www.angierchamber.org
SUMMARY:Yoga with Church of the Resurrection
DESCRIPTION:
URL:https://www.angierchamber.org/event/yoga-with-church-of-the-resurrection/
LOCATION:Church of the Resurrection\, 171 West Depot Street\, Angier\, NC\, 27501\, United States
ATTACH;FMTTYPE=image/jpeg:https://www.angierchamber.org/wp-content/uploads/2025/10/556141527_1206025128231877_9182610708957024283_n.jpg
END:VEVENT
BEGIN:VEVENT
DTSTART;TZID=UTC:20251105T183000
DTEND;TZID=UTC:20251105T203000
DTSTAMP:20260423T081338
CREATED:20251016T142555Z
LAST-MODIFIED:20251016T142557Z
UID:10001018-1762367400-1762374600@www.angierchamber.org
SUMMARY:Divorce Care with Church of the Resurrection
DESCRIPTION:
URL:https://www.angierchamber.org/event/divorce-care-with-church-of-the-resurrection/
LOCATION:Church of the Resurrection\, 171 West Depot Street\, Angier\, NC\, 27501\, United States
ATTACH;FMTTYPE=image/jpeg:https://www.angierchamber.org/wp-content/uploads/2025/10/558293276_1212162367618153_2181329549627526149_n-1.jpg
END:VEVENT
BEGIN:VEVENT
DTSTART;TZID=UTC:20251105T090000
DTEND;TZID=UTC:20251105T100000
DTSTAMP:20260423T081338
CREATED:20250929T195326Z
LAST-MODIFIED:20250929T195328Z
UID:10000898-1762333200-1762336800@www.angierchamber.org
SUMMARY:Yoga with a Christian Twist with Church of the Resurrection
DESCRIPTION:
URL:https://www.angierchamber.org/event/yoga-with-a-christian-twist-with-church-of-the-resurrection-4/
LOCATION:Church of the Resurrection\, 171 West Depot Street\, Angier\, NC\, 27501\, United States
ATTACH;FMTTYPE=image/jpeg:https://www.angierchamber.org/wp-content/uploads/2025/09/549613155_1200002372167486_1300615836725979979_n.jpg
END:VEVENT
BEGIN:VEVENT
DTSTART;TZID=UTC:20251029T183000
DTEND;TZID=UTC:20251029T203000
DTSTAMP:20260423T081338
CREATED:20250827T185939Z
LAST-MODIFIED:20250827T185941Z
UID:10000806-1761762600-1761769800@www.angierchamber.org
SUMMARY:DivorceCare with Church of the Resurrection
DESCRIPTION:
URL:https://www.angierchamber.org/event/divorcecare-with-church-of-the-resurrection-6/
LOCATION:Church of the Resurrection\, 171 West Depot Street\, Angier\, NC\, 27501\, United States
END:VEVENT
BEGIN:VEVENT
DTSTART;TZID=UTC:20251029T090000
DTEND;TZID=UTC:20251029T100000
DTSTAMP:20260423T081338
CREATED:20250929T195211Z
LAST-MODIFIED:20250929T195214Z
UID:10000897-1761728400-1761732000@www.angierchamber.org
SUMMARY:Yoga with a Christian Twist with Church of the Resurrection
DESCRIPTION:
URL:https://www.angierchamber.org/event/yoga-with-a-christian-twist-with-church-of-the-resurrection-3/
LOCATION:Church of the Resurrection\, 171 West Depot Street\, Angier\, NC\, 27501\, United States
ATTACH;FMTTYPE=image/jpeg:https://www.angierchamber.org/wp-content/uploads/2025/09/549613155_1200002372167486_1300615836725979979_n.jpg
END:VEVENT
BEGIN:VEVENT
DTSTART;TZID=UTC:20251022T183000
DTEND;TZID=UTC:20251022T203000
DTSTAMP:20260423T081338
CREATED:20250827T185850Z
LAST-MODIFIED:20250827T185852Z
UID:10000805-1761157800-1761165000@www.angierchamber.org
SUMMARY:DivorceCare with Church of the Resurrection
DESCRIPTION:
URL:https://www.angierchamber.org/event/divorcecare-with-church-of-the-resurrection-5/
LOCATION:Church of the Resurrection\, 171 West Depot Street\, Angier\, NC\, 27501\, United States
END:VEVENT
BEGIN:VEVENT
DTSTART;TZID=UTC:20251022T090000
DTEND;TZID=UTC:20251022T100000
DTSTAMP:20260423T081338
CREATED:20250929T195117Z
LAST-MODIFIED:20250929T195119Z
UID:10000896-1761123600-1761127200@www.angierchamber.org
SUMMARY:Yoga with a Christian Twist with Church of the Resurrection
DESCRIPTION:
URL:https://www.angierchamber.org/event/yoga-with-a-christian-twist-with-church-of-the-resurrection-2/
LOCATION:Church of the Resurrection\, 171 West Depot Street\, Angier\, NC\, 27501\, United States
ATTACH;FMTTYPE=image/jpeg:https://www.angierchamber.org/wp-content/uploads/2025/09/549613155_1200002372167486_1300615836725979979_n.jpg
END:VEVENT
BEGIN:VEVENT
DTSTART;TZID=UTC:20251015T183000
DTEND;TZID=UTC:20251015T203000
DTSTAMP:20260423T081338
CREATED:20250827T185810Z
LAST-MODIFIED:20250827T185811Z
UID:10000804-1760553000-1760560200@www.angierchamber.org
SUMMARY:DivorceCare with Church of the Resurrection
DESCRIPTION:
URL:https://www.angierchamber.org/event/divorcecare-with-church-of-the-resurrection-4/
LOCATION:Church of the Resurrection\, 171 West Depot Street\, Angier\, NC\, 27501\, United States
END:VEVENT
BEGIN:VEVENT
DTSTART;TZID=UTC:20251015T090000
DTEND;TZID=UTC:20251015T100000
DTSTAMP:20260423T081338
CREATED:20250929T195456Z
LAST-MODIFIED:20250929T195458Z
UID:10000899-1760518800-1760522400@www.angierchamber.org
SUMMARY:Yoga with a Christian Twist with Church of the Resurrection
DESCRIPTION:
URL:https://www.angierchamber.org/event/yoga-with-a-christian-twist-with-church-of-the-resurrection-6/
LOCATION:Church of the Resurrection\, 171 West Depot Street\, Angier\, NC\, 27501\, United States
ATTACH;FMTTYPE=image/jpeg:https://www.angierchamber.org/wp-content/uploads/2025/09/549613155_1200002372167486_1300615836725979979_n.jpg
END:VEVENT
BEGIN:VEVENT
DTSTART;TZID=UTC:20251008T183000
DTEND;TZID=UTC:20251008T203000
DTSTAMP:20260423T081338
CREATED:20250827T185718Z
LAST-MODIFIED:20250827T185720Z
UID:10000803-1759948200-1759955400@www.angierchamber.org
SUMMARY:DivorceCare with Church of the Resurrection
DESCRIPTION:
URL:https://www.angierchamber.org/event/divorcecare-with-church-of-the-resurrection-3/
LOCATION:Church of the Resurrection\, 171 West Depot Street\, Angier\, NC\, 27501\, United States
END:VEVENT
BEGIN:VEVENT
DTSTART;TZID=UTC:20251008T090000
DTEND;TZID=UTC:20251008T220000
DTSTAMP:20260423T081338
CREATED:20250929T195027Z
LAST-MODIFIED:20250929T195029Z
UID:10000895-1759914000-1759960800@www.angierchamber.org
SUMMARY:Yoga with a Christian Twist with Church of the Resurrection
DESCRIPTION:
URL:https://www.angierchamber.org/event/yoga-with-a-christian-twist-with-church-of-the-resurrection/
LOCATION:Church of the Resurrection\, 171 West Depot Street\, Angier\, NC\, 27501\, United States
ATTACH;FMTTYPE=image/jpeg:https://www.angierchamber.org/wp-content/uploads/2025/09/549613155_1200002372167486_1300615836725979979_n.jpg
END:VEVENT
BEGIN:VEVENT
DTSTART;TZID=UTC:20251001T183000
DTEND;TZID=UTC:20251001T203000
DTSTAMP:20260423T081338
CREATED:20250827T185640Z
LAST-MODIFIED:20250827T185641Z
UID:10000802-1759343400-1759350600@www.angierchamber.org
SUMMARY:DivorceCare with Church of the Resurrection
DESCRIPTION:
URL:https://www.angierchamber.org/event/divorcecare-with-church-of-the-resurrection-2/
LOCATION:Church of the Resurrection\, 171 West Depot Street\, Angier\, NC\, 27501\, United States
END:VEVENT
BEGIN:VEVENT
DTSTART;TZID=UTC:20250924T183000
DTEND;TZID=UTC:20250924T203000
DTSTAMP:20260423T081338
CREATED:20250827T185547Z
LAST-MODIFIED:20250827T185549Z
UID:10000801-1758738600-1758745800@www.angierchamber.org
SUMMARY:DivorceCare with Church of the Resurrection
DESCRIPTION:
URL:https://www.angierchamber.org/event/divorcecare-with-church-of-the-resurrection/
LOCATION:Church of the Resurrection\, 171 West Depot Street\, Angier\, NC\, 27501\, United States
END:VEVENT
BEGIN:VEVENT
DTSTART;TZID=UTC:20250322T120000
DTEND;TZID=UTC:20250322T190000
DTSTAMP:20260423T081338
CREATED:20250321T172313Z
LAST-MODIFIED:20250321T172314Z
UID:10000165-1742644800-1742670000@www.angierchamber.org
SUMMARY:Chicken Dinner Fundraiser
DESCRIPTION:
URL:https://www.angierchamber.org/event/chicken-dinner-fundraiser/
LOCATION:Church of the Resurrection\, 171 West Depot Street\, Angier\, NC\, 27501\, United States
ATTACH;FMTTYPE=image/jpeg:https://www.angierchamber.org/wp-content/uploads/2025/03/2025_Spring_Flyer_ChickenDinner_page-0001-1.jpg
END:VEVENT
END:VCALENDAR