BEGIN:VCALENDAR
VERSION:2.0
PRODID:-//Angier Chamber of Commerce - ECPv6.15.18//NONSGML v1.0//EN
CALSCALE:GREGORIAN
METHOD:PUBLISH
X-WR-CALNAME:Angier Chamber of Commerce
X-ORIGINAL-URL:https://www.angierchamber.org
X-WR-CALDESC:Events for Angier Chamber of Commerce
REFRESH-INTERVAL;VALUE=DURATION:PT1H
X-Robots-Tag:noindex
X-PUBLISHED-TTL:PT1H
BEGIN:VTIMEZONE
TZID:UTC
BEGIN:STANDARD
TZOFFSETFROM:+0000
TZOFFSETTO:+0000
TZNAME:UTC
DTSTART:20240101T000000
END:STANDARD
END:VTIMEZONE
BEGIN:VEVENT
DTSTART;TZID=UTC:20251002T130000
DTEND;TZID=UTC:20251002T170000
DTSTAMP:20260423T160419
CREATED:20250929T164149Z
LAST-MODIFIED:20250929T164151Z
UID:10000866-1759410000-1759424400@www.angierchamber.org
SUMMARY:Golf Tournament hosted by the Coats Chamber of Commerce
DESCRIPTION:
URL:https://www.angierchamber.org/event/golf-tournament-hosted-by-the-coats-chamber-of-commerce/
LOCATION:Chicora Golf Club\, 495 Chicora Club Dr\, Dunn\, NC\, 28334\, United States
ATTACH;FMTTYPE=image/jpeg:https://www.angierchamber.org/wp-content/uploads/2025/09/549084251_1096426796030661_1946801984706754180_n.jpg
END:VEVENT
END:VCALENDAR