BEGIN:VCALENDAR
VERSION:2.0
PRODID:-//Angier Chamber of Commerce - ECPv6.15.18//NONSGML v1.0//EN
CALSCALE:GREGORIAN
METHOD:PUBLISH
X-WR-CALNAME:Angier Chamber of Commerce
X-ORIGINAL-URL:https://www.angierchamber.org
X-WR-CALDESC:Events for Angier Chamber of Commerce
REFRESH-INTERVAL;VALUE=DURATION:PT1H
X-Robots-Tag:noindex
X-PUBLISHED-TTL:PT1H
BEGIN:VTIMEZONE
TZID:UTC
BEGIN:STANDARD
TZOFFSETFROM:+0000
TZOFFSETTO:+0000
TZNAME:UTC
DTSTART:20240101T000000
END:STANDARD
END:VTIMEZONE
BEGIN:VEVENT
DTSTART;TZID=UTC:20250926T120000
DTEND;TZID=UTC:20250926T130000
DTSTAMP:20260425T135309
CREATED:20250618T153652Z
LAST-MODIFIED:20250618T153655Z
UID:10000469-1758888000-1758891600@www.angierchamber.org
SUMMARY:Carolina Butcher Shop Ribbon Cutting
DESCRIPTION:
URL:https://www.angierchamber.org/event/carolina-butcher-shop-ribbon-cutting/
LOCATION:Carolina Butcher Shop\, 1501-D North Raleigh Street\, Angier\, NC\, 27501
ORGANIZER;CN="Angier Chamber of Commerce":MAILTO:angiercc@angierchamber.org
END:VEVENT
END:VCALENDAR