BEGIN:VCALENDAR
VERSION:2.0
PRODID:-//Angier Chamber of Commerce - ECPv6.15.18//NONSGML v1.0//EN
CALSCALE:GREGORIAN
METHOD:PUBLISH
X-ORIGINAL-URL:https://www.angierchamber.org
X-WR-CALDESC:Events for Angier Chamber of Commerce
REFRESH-INTERVAL;VALUE=DURATION:PT1H
X-Robots-Tag:noindex
X-PUBLISHED-TTL:PT1H
BEGIN:VTIMEZONE
TZID:UTC
BEGIN:STANDARD
TZOFFSETFROM:+0000
TZOFFSETTO:+0000
TZNAME:UTC
DTSTART:20240101T000000
END:STANDARD
END:VTIMEZONE
BEGIN:VEVENT
DTSTART;TZID=UTC:20250718T130000
DTEND;TZID=UTC:20250718T140000
DTSTAMP:20260423T190839
CREATED:20250612T162238Z
LAST-MODIFIED:20250711T191829Z
UID:10000465-1752843600-1752847200@www.angierchamber.org
SUMMARY:Beneath the Pines Massage Therapy Ribbon Cutting
DESCRIPTION:
URL:https://www.angierchamber.org/event/beneath-the-pines-massage-therapy-ribbon-cutting/
LOCATION:Beneath the Pines Massage Therapy\, 120 North Broad Street\, Angier\, NC\, 27501
ORGANIZER;CN="Angier Chamber of Commerce":MAILTO:angiercc@angierchamber.org
END:VEVENT
END:VCALENDAR