BEGIN:VCALENDAR
VERSION:2.0
PRODID:-//Angier Chamber of Commerce - ECPv6.15.18//NONSGML v1.0//EN
CALSCALE:GREGORIAN
METHOD:PUBLISH
X-ORIGINAL-URL:https://www.angierchamber.org
X-WR-CALDESC:Events for Angier Chamber of Commerce
REFRESH-INTERVAL;VALUE=DURATION:PT1H
X-Robots-Tag:noindex
X-PUBLISHED-TTL:PT1H
BEGIN:VTIMEZONE
TZID:UTC
BEGIN:STANDARD
TZOFFSETFROM:+0000
TZOFFSETTO:+0000
TZNAME:UTC
DTSTART:20250101T000000
END:STANDARD
END:VTIMEZONE
BEGIN:VEVENT
DTSTART;TZID=UTC:20260504T130000
DTEND;TZID=UTC:20260504T140000
DTSTAMP:20260422T094724
CREATED:20260421T163247Z
LAST-MODIFIED:20260421T163251Z
UID:10004495-1777899600-1777903200@www.angierchamber.org
SUMMARY:Game Day with the Angier Senior Citizens
DESCRIPTION:
URL:https://www.angierchamber.org/event/game-day-with-the-angier-senior-citizens-8/
LOCATION:Angier Senior Citizen Center\, 255 West Williams Street\, Angier\, NC\, 27501\, United States
ATTACH;FMTTYPE=image/jpeg:https://www.angierchamber.org/wp-content/uploads/2026/04/671554636_2011787849418869_7489249385944266795_n-1.jpg
END:VEVENT
BEGIN:VEVENT
DTSTART;TZID=UTC:20260507T110000
DTEND;TZID=UTC:20260507T140000
DTSTAMP:20260422T094724
CREATED:20260421T163433Z
LAST-MODIFIED:20260421T163438Z
UID:10004496-1778151600-1778162400@www.angierchamber.org
SUMMARY:Lunch & Game Day with the Angier Senior Citizens
DESCRIPTION:
URL:https://www.angierchamber.org/event/lunch-game-day-with-the-angier-senior-citizens/
LOCATION:Angier Senior Citizen Center\, 255 West Williams Street\, Angier\, NC\, 27501\, United States
ATTACH;FMTTYPE=image/jpeg:https://www.angierchamber.org/wp-content/uploads/2026/04/671554636_2011787849418869_7489249385944266795_n-1.jpg
END:VEVENT
BEGIN:VEVENT
DTSTART;TZID=UTC:20260518T130000
DTEND;TZID=UTC:20260518T140000
DTSTAMP:20260422T094724
CREATED:20260421T163808Z
LAST-MODIFIED:20260421T163814Z
UID:10004498-1779109200-1779112800@www.angierchamber.org
SUMMARY:Game Day with the Angier Senior Citizens
DESCRIPTION:
URL:https://www.angierchamber.org/event/game-day-with-the-angier-senior-citizens-10/
LOCATION:Angier Senior Citizen Center\, 255 West Williams Street\, Angier\, NC\, 27501\, United States
ATTACH;FMTTYPE=image/jpeg:https://www.angierchamber.org/wp-content/uploads/2026/04/671554636_2011787849418869_7489249385944266795_n-1.jpg
END:VEVENT
BEGIN:VEVENT
DTSTART;TZID=UTC:20260525T130000
DTEND;TZID=UTC:20260525T140000
DTSTAMP:20260422T094724
CREATED:20260421T163910Z
LAST-MODIFIED:20260421T163914Z
UID:10004499-1779714000-1779717600@www.angierchamber.org
SUMMARY:Game Day with the Angier Senior Citizens
DESCRIPTION:
URL:https://www.angierchamber.org/event/game-day-with-the-angier-senior-citizens-11/
LOCATION:Angier Senior Citizen Center\, 255 West Williams Street\, Angier\, NC\, 27501\, United States
ATTACH;FMTTYPE=image/jpeg:https://www.angierchamber.org/wp-content/uploads/2026/04/671554636_2011787849418869_7489249385944266795_n-1.jpg
END:VEVENT
END:VCALENDAR