BEGIN:VCALENDAR
VERSION:2.0
PRODID:-//Angier Chamber of Commerce - ECPv6.15.18//NONSGML v1.0//EN
CALSCALE:GREGORIAN
METHOD:PUBLISH
X-ORIGINAL-URL:https://www.angierchamber.org
X-WR-CALDESC:Events for Angier Chamber of Commerce
REFRESH-INTERVAL;VALUE=DURATION:PT1H
X-Robots-Tag:noindex
X-PUBLISHED-TTL:PT1H
BEGIN:VTIMEZONE
TZID:UTC
BEGIN:STANDARD
TZOFFSETFROM:+0000
TZOFFSETTO:+0000
TZNAME:UTC
DTSTART:20240101T000000
END:STANDARD
END:VTIMEZONE
BEGIN:VEVENT
DTSTART;TZID=UTC:20250114T090000
DTEND;TZID=UTC:20250114T130000
DTSTAMP:20260424T155546
CREATED:20241216T142103Z
LAST-MODIFIED:20241216T142104Z
UID:10000025-1736845200-1736859600@www.angierchamber.org
SUMMARY:Angier Chamber of Commerce 2025 Planning Session
DESCRIPTION:
URL:https://www.angierchamber.org/event/angier-chamber-of-commerce-2025-planning-session/
LOCATION:Angier Baptist Church\, 155 South Hickory Street\, Angier\, NC\, 27501\, United States
ORGANIZER;CN="Angier Chamber of Commerce":MAILTO:angiercc@angierchamber.org
END:VEVENT
END:VCALENDAR