BEGIN:VCALENDAR
VERSION:2.0
PRODID:-//Angier Chamber of Commerce - ECPv6.15.18//NONSGML v1.0//EN
CALSCALE:GREGORIAN
METHOD:PUBLISH
X-ORIGINAL-URL:https://www.angierchamber.org
X-WR-CALDESC:Events for Angier Chamber of Commerce
REFRESH-INTERVAL;VALUE=DURATION:PT1H
X-Robots-Tag:noindex
X-PUBLISHED-TTL:PT1H
BEGIN:VTIMEZONE
TZID:UTC
BEGIN:STANDARD
TZOFFSETFROM:+0000
TZOFFSETTO:+0000
TZNAME:UTC
DTSTART:20270101T000000
END:STANDARD
END:VTIMEZONE
BEGIN:VEVENT
DTSTART;TZID=UTC:20281206T180000
DTEND;TZID=UTC:20281206T190000
DTSTAMP:20260425T225632
CREATED:20260324T151013Z
LAST-MODIFIED:20260324T151013Z
UID:10002940-1859738400-1859742000@www.angierchamber.org
SUMMARY:Pilates at the ACOC with Michelle Moore Fitness Nutrition and Wellness
DESCRIPTION:
URL:https://www.angierchamber.org/event/pilates-at-the-acoc-with-michelle-moore-fitness-nutrition-and-wellness-33/2028-12-06/
LOCATION:Angier Chamber of Commerce\, United States
ATTACH;FMTTYPE=image/jpeg:https://www.angierchamber.org/wp-content/uploads/2026/01/617088567_904447205625246_9066359168838215526_n.jpg
ORGANIZER;CN="Michelle Moore Fitness%2C Nutrition%2C and Wellness":MAILTO:Mmooreblessed@gmail.com
END:VEVENT
BEGIN:VEVENT
DTSTART;TZID=UTC:20281206T190000
DTEND;TZID=UTC:20281206T210000
DTSTAMP:20260425T225632
CREATED:20260331T171810Z
LAST-MODIFIED:20260331T171812Z
UID:10004366-1859742000-1859749200@www.angierchamber.org
SUMMARY:Music Bingo at Wingin' It Angier
DESCRIPTION:
URL:https://www.angierchamber.org/event/music-bingo-at-wingin-it-angier-15/2028-12-06/
ATTACH;FMTTYPE=image/jpeg:https://www.angierchamber.org/wp-content/uploads/2026/03/605521972_752695044536569_1332439597071758233_n.jpg
END:VEVENT
BEGIN:VEVENT
DTSTART;TZID=UTC:20281206T193000
DTEND;TZID=UTC:20281206T210000
DTSTAMP:20260425T225632
CREATED:20260324T143507Z
LAST-MODIFIED:20260324T143509Z
UID:10001761-1859743800-1859749200@www.angierchamber.org
SUMMARY:Music Bingo with Napper Tandy's
DESCRIPTION:
URL:https://www.angierchamber.org/event/music-bingo-with-napper-tandys-31/2028-12-06/
LOCATION:Napper Tandy’s Public House and Restaurant\, 27 South Broad Street East\, Angier\, NC\, 27501\, United States
ATTACH;FMTTYPE=image/jpeg:https://www.angierchamber.org/wp-content/uploads/2026/03/650037872_122154752276655911_6133479155675057403_n-1.jpg
END:VEVENT
BEGIN:VEVENT
DTSTART;TZID=UTC:20281207T100000
DTEND;TZID=UTC:20281207T110000
DTSTAMP:20260425T225632
CREATED:20260324T152952Z
LAST-MODIFIED:20260324T152953Z
UID:10003320-1859796000-1859799600@www.angierchamber.org
SUMMARY:Kinder Jam with Ellington Studios
DESCRIPTION:
URL:https://www.angierchamber.org/event/kinder-jam-with-ellington-studios-11/2028-12-07/
LOCATION:Ellington Studios\, 54 South Raleigh Street\, Angier\, NC\, 27501\, United States
ATTACH;FMTTYPE=image/jpeg:https://www.angierchamber.org/wp-content/uploads/2026/03/639801297_1513474750784835_8899907419205944968_n.jpg
END:VEVENT
BEGIN:VEVENT
DTSTART;TZID=UTC:20281207T150000
DTEND;TZID=UTC:20281207T160000
DTSTAMP:20260425T225632
CREATED:20260324T153839Z
LAST-MODIFIED:20260324T153847Z
UID:10003840-1859814000-1859817600@www.angierchamber.org
SUMMARY:The Groove Lab with Ellington Studios
DESCRIPTION:
URL:https://www.angierchamber.org/event/the-groove-lab-with-ellington-studios-5/2028-12-07/
END:VEVENT
BEGIN:VEVENT
DTSTART;TZID=UTC:20281207T181500
DTEND;TZID=UTC:20281207T190000
DTSTAMP:20260425T225632
CREATED:20260324T153156Z
LAST-MODIFIED:20260324T153206Z
UID:10003580-1859825700-1859828400@www.angierchamber.org
SUMMARY:SYNC with Ellington Studios
DESCRIPTION:
URL:https://www.angierchamber.org/event/sync-with-ellington-studios-9/2028-12-07/
ATTACH;FMTTYPE=image/jpeg:https://www.angierchamber.org/wp-content/uploads/2026/03/641447150_1513474977451479_3178505079463523577_n.jpg
END:VEVENT
BEGIN:VEVENT
DTSTART;TZID=UTC:20281207T190000
DTEND;TZID=UTC:20281207T200000
DTSTAMP:20260425T225633
CREATED:20260324T150258Z
LAST-MODIFIED:20260324T150259Z
UID:10002548-1859828400-1859832000@www.angierchamber.org
SUMMARY:Cardio Dance Class with HC Nutrition
DESCRIPTION:
URL:https://www.angierchamber.org/event/cardio-dance-class-with-hc-nutrition-6/2028-12-07/
LOCATION:HC Nutrition\, 559 N. Raleigh St.\, Suite A\, Angier\, NC\, 27501
ATTACH;FMTTYPE=image/jpeg:https://www.angierchamber.org/wp-content/uploads/2026/03/639508671_17914701927306163_5314855391373256172_n.jpg
END:VEVENT
BEGIN:VEVENT
DTSTART;TZID=UTC:20281208T203000
DTEND;TZID=UTC:20281208T233000
DTSTAMP:20260425T225633
CREATED:20260324T143803Z
LAST-MODIFIED:20260324T143835Z
UID:10002021-1859920200-1859931000@www.angierchamber.org
SUMMARY:DJ Night with Napper Tandy's
DESCRIPTION:
URL:https://www.angierchamber.org/event/dj-night-with-napper-tandys/2028-12-08/
ATTACH;FMTTYPE=image/jpeg:https://www.angierchamber.org/wp-content/uploads/2026/03/647242600_122154372038655911_4692375131809390416_n.jpg
END:VEVENT
BEGIN:VEVENT
DTSTART;TZID=UTC:20281209T210000
DTEND;TZID=UTC:20281209T233000
DTSTAMP:20260425T225633
CREATED:20260331T170507Z
LAST-MODIFIED:20260331T170656Z
UID:10004105-1860008400-1860017400@www.angierchamber.org
SUMMARY:Live Music at Napper Tandy's Public House & Restaurant
DESCRIPTION:
URL:https://www.angierchamber.org/event/live-music-at-napper-tandys-public-house-restaurant-66/2028-12-09/
ATTACH;FMTTYPE=image/jpeg:https://www.angierchamber.org/wp-content/uploads/2025/07/live-music-header-1.jpg
END:VEVENT
BEGIN:VEVENT
DTSTART;TZID=UTC:20281211T180000
DTEND;TZID=UTC:20281211T190000
DTSTAMP:20260425T225633
CREATED:20260324T151013Z
LAST-MODIFIED:20260324T151013Z
UID:10002941-1860170400-1860174000@www.angierchamber.org
SUMMARY:Pilates at the ACOC with Michelle Moore Fitness Nutrition and Wellness
DESCRIPTION:
URL:https://www.angierchamber.org/event/pilates-at-the-acoc-with-michelle-moore-fitness-nutrition-and-wellness-33/2028-12-11/
LOCATION:Angier Chamber of Commerce\, United States
ATTACH;FMTTYPE=image/jpeg:https://www.angierchamber.org/wp-content/uploads/2026/01/617088567_904447205625246_9066359168838215526_n.jpg
ORGANIZER;CN="Michelle Moore Fitness%2C Nutrition%2C and Wellness":MAILTO:Mmooreblessed@gmail.com
END:VEVENT
BEGIN:VEVENT
DTSTART;TZID=UTC:20281211T183000
DTEND;TZID=UTC:20281211T200000
DTSTAMP:20260425T225633
CREATED:20260324T142223Z
LAST-MODIFIED:20260324T142225Z
UID:10001501-1860172200-1860177600@www.angierchamber.org
SUMMARY:Trivia Night at Napper Tandy's
DESCRIPTION:
URL:https://www.angierchamber.org/event/trivia-night-at-napper-tandys-35/2028-12-11/
LOCATION:Napper Tandy’s Public House and Restaurant\, 27 South Broad Street East\, Angier\, NC\, 27501\, United States
ATTACH;FMTTYPE=image/jpeg:https://www.angierchamber.org/wp-content/uploads/2026/03/657271056_122155671776655911_2309681187732823349_n.jpg
END:VEVENT
BEGIN:VEVENT
DTSTART;TZID=UTC:20281212T203000
DTEND;TZID=UTC:20281212T233000
DTSTAMP:20260425T225633
CREATED:20260324T144321Z
LAST-MODIFIED:20260324T144322Z
UID:10002281-1860265800-1860276600@www.angierchamber.org
SUMMARY:Karaoke with Napper Tandy's
DESCRIPTION:
URL:https://www.angierchamber.org/event/karaoke-with-napper-tandys-27/2028-12-12/
LOCATION:Napper Tandy’s Public House and Restaurant\, 27 South Broad Street East\, Angier\, NC\, 27501\, United States
ATTACH;FMTTYPE=image/jpeg:https://www.angierchamber.org/wp-content/uploads/2026/03/641291512_122153514836655911_8995511338422010505_n.jpg
END:VEVENT
BEGIN:VEVENT
DTSTART;TZID=UTC:20281213T180000
DTEND;TZID=UTC:20281213T190000
DTSTAMP:20260425T225633
CREATED:20260324T151013Z
LAST-MODIFIED:20260324T151013Z
UID:10002942-1860343200-1860346800@www.angierchamber.org
SUMMARY:Pilates at the ACOC with Michelle Moore Fitness Nutrition and Wellness
DESCRIPTION:
URL:https://www.angierchamber.org/event/pilates-at-the-acoc-with-michelle-moore-fitness-nutrition-and-wellness-33/2028-12-13/
LOCATION:Angier Chamber of Commerce\, United States
ATTACH;FMTTYPE=image/jpeg:https://www.angierchamber.org/wp-content/uploads/2026/01/617088567_904447205625246_9066359168838215526_n.jpg
ORGANIZER;CN="Michelle Moore Fitness%2C Nutrition%2C and Wellness":MAILTO:Mmooreblessed@gmail.com
END:VEVENT
BEGIN:VEVENT
DTSTART;TZID=UTC:20281213T190000
DTEND;TZID=UTC:20281213T210000
DTSTAMP:20260425T225633
CREATED:20260331T171810Z
LAST-MODIFIED:20260331T171812Z
UID:10004367-1860346800-1860354000@www.angierchamber.org
SUMMARY:Music Bingo at Wingin' It Angier
DESCRIPTION:
URL:https://www.angierchamber.org/event/music-bingo-at-wingin-it-angier-15/2028-12-13/
ATTACH;FMTTYPE=image/jpeg:https://www.angierchamber.org/wp-content/uploads/2026/03/605521972_752695044536569_1332439597071758233_n.jpg
END:VEVENT
BEGIN:VEVENT
DTSTART;TZID=UTC:20281213T193000
DTEND;TZID=UTC:20281213T210000
DTSTAMP:20260425T225633
CREATED:20260324T143507Z
LAST-MODIFIED:20260324T143509Z
UID:10001762-1860348600-1860354000@www.angierchamber.org
SUMMARY:Music Bingo with Napper Tandy's
DESCRIPTION:
URL:https://www.angierchamber.org/event/music-bingo-with-napper-tandys-31/2028-12-13/
LOCATION:Napper Tandy’s Public House and Restaurant\, 27 South Broad Street East\, Angier\, NC\, 27501\, United States
ATTACH;FMTTYPE=image/jpeg:https://www.angierchamber.org/wp-content/uploads/2026/03/650037872_122154752276655911_6133479155675057403_n-1.jpg
END:VEVENT
BEGIN:VEVENT
DTSTART;TZID=UTC:20281214T100000
DTEND;TZID=UTC:20281214T110000
DTSTAMP:20260425T225633
CREATED:20260324T152952Z
LAST-MODIFIED:20260324T152953Z
UID:10003321-1860400800-1860404400@www.angierchamber.org
SUMMARY:Kinder Jam with Ellington Studios
DESCRIPTION:
URL:https://www.angierchamber.org/event/kinder-jam-with-ellington-studios-11/2028-12-14/
LOCATION:Ellington Studios\, 54 South Raleigh Street\, Angier\, NC\, 27501\, United States
ATTACH;FMTTYPE=image/jpeg:https://www.angierchamber.org/wp-content/uploads/2026/03/639801297_1513474750784835_8899907419205944968_n.jpg
END:VEVENT
BEGIN:VEVENT
DTSTART;TZID=UTC:20281214T150000
DTEND;TZID=UTC:20281214T160000
DTSTAMP:20260425T225633
CREATED:20260324T153839Z
LAST-MODIFIED:20260324T153847Z
UID:10003841-1860418800-1860422400@www.angierchamber.org
SUMMARY:The Groove Lab with Ellington Studios
DESCRIPTION:
URL:https://www.angierchamber.org/event/the-groove-lab-with-ellington-studios-5/2028-12-14/
END:VEVENT
BEGIN:VEVENT
DTSTART;TZID=UTC:20281214T181500
DTEND;TZID=UTC:20281214T190000
DTSTAMP:20260425T225633
CREATED:20260324T153156Z
LAST-MODIFIED:20260324T153206Z
UID:10003581-1860430500-1860433200@www.angierchamber.org
SUMMARY:SYNC with Ellington Studios
DESCRIPTION:
URL:https://www.angierchamber.org/event/sync-with-ellington-studios-9/2028-12-14/
ATTACH;FMTTYPE=image/jpeg:https://www.angierchamber.org/wp-content/uploads/2026/03/641447150_1513474977451479_3178505079463523577_n.jpg
END:VEVENT
BEGIN:VEVENT
DTSTART;TZID=UTC:20281214T190000
DTEND;TZID=UTC:20281214T200000
DTSTAMP:20260425T225633
CREATED:20260324T150258Z
LAST-MODIFIED:20260324T150259Z
UID:10002549-1860433200-1860436800@www.angierchamber.org
SUMMARY:Cardio Dance Class with HC Nutrition
DESCRIPTION:
URL:https://www.angierchamber.org/event/cardio-dance-class-with-hc-nutrition-6/2028-12-14/
LOCATION:HC Nutrition\, 559 N. Raleigh St.\, Suite A\, Angier\, NC\, 27501
ATTACH;FMTTYPE=image/jpeg:https://www.angierchamber.org/wp-content/uploads/2026/03/639508671_17914701927306163_5314855391373256172_n.jpg
END:VEVENT
BEGIN:VEVENT
DTSTART;TZID=UTC:20281215T203000
DTEND;TZID=UTC:20281215T233000
DTSTAMP:20260425T225633
CREATED:20260324T143803Z
LAST-MODIFIED:20260324T143835Z
UID:10002022-1860525000-1860535800@www.angierchamber.org
SUMMARY:DJ Night with Napper Tandy's
DESCRIPTION:
URL:https://www.angierchamber.org/event/dj-night-with-napper-tandys/2028-12-15/
ATTACH;FMTTYPE=image/jpeg:https://www.angierchamber.org/wp-content/uploads/2026/03/647242600_122154372038655911_4692375131809390416_n.jpg
END:VEVENT
BEGIN:VEVENT
DTSTART;TZID=UTC:20281216T210000
DTEND;TZID=UTC:20281216T233000
DTSTAMP:20260425T225633
CREATED:20260331T170507Z
LAST-MODIFIED:20260331T170656Z
UID:10004106-1860613200-1860622200@www.angierchamber.org
SUMMARY:Live Music at Napper Tandy's Public House & Restaurant
DESCRIPTION:
URL:https://www.angierchamber.org/event/live-music-at-napper-tandys-public-house-restaurant-66/2028-12-16/
ATTACH;FMTTYPE=image/jpeg:https://www.angierchamber.org/wp-content/uploads/2025/07/live-music-header-1.jpg
END:VEVENT
BEGIN:VEVENT
DTSTART;TZID=UTC:20281218T180000
DTEND;TZID=UTC:20281218T190000
DTSTAMP:20260425T225633
CREATED:20260324T151013Z
LAST-MODIFIED:20260324T151013Z
UID:10002943-1860775200-1860778800@www.angierchamber.org
SUMMARY:Pilates at the ACOC with Michelle Moore Fitness Nutrition and Wellness
DESCRIPTION:
URL:https://www.angierchamber.org/event/pilates-at-the-acoc-with-michelle-moore-fitness-nutrition-and-wellness-33/2028-12-18/
LOCATION:Angier Chamber of Commerce\, United States
ATTACH;FMTTYPE=image/jpeg:https://www.angierchamber.org/wp-content/uploads/2026/01/617088567_904447205625246_9066359168838215526_n.jpg
ORGANIZER;CN="Michelle Moore Fitness%2C Nutrition%2C and Wellness":MAILTO:Mmooreblessed@gmail.com
END:VEVENT
BEGIN:VEVENT
DTSTART;TZID=UTC:20281218T183000
DTEND;TZID=UTC:20281218T200000
DTSTAMP:20260425T225633
CREATED:20260324T142223Z
LAST-MODIFIED:20260324T142225Z
UID:10001502-1860777000-1860782400@www.angierchamber.org
SUMMARY:Trivia Night at Napper Tandy's
DESCRIPTION:
URL:https://www.angierchamber.org/event/trivia-night-at-napper-tandys-35/2028-12-18/
LOCATION:Napper Tandy’s Public House and Restaurant\, 27 South Broad Street East\, Angier\, NC\, 27501\, United States
ATTACH;FMTTYPE=image/jpeg:https://www.angierchamber.org/wp-content/uploads/2026/03/657271056_122155671776655911_2309681187732823349_n.jpg
END:VEVENT
BEGIN:VEVENT
DTSTART;TZID=UTC:20281219T203000
DTEND;TZID=UTC:20281219T233000
DTSTAMP:20260425T225633
CREATED:20260324T144321Z
LAST-MODIFIED:20260324T144322Z
UID:10002282-1860870600-1860881400@www.angierchamber.org
SUMMARY:Karaoke with Napper Tandy's
DESCRIPTION:
URL:https://www.angierchamber.org/event/karaoke-with-napper-tandys-27/2028-12-19/
LOCATION:Napper Tandy’s Public House and Restaurant\, 27 South Broad Street East\, Angier\, NC\, 27501\, United States
ATTACH;FMTTYPE=image/jpeg:https://www.angierchamber.org/wp-content/uploads/2026/03/641291512_122153514836655911_8995511338422010505_n.jpg
END:VEVENT
BEGIN:VEVENT
DTSTART;TZID=UTC:20281220T180000
DTEND;TZID=UTC:20281220T190000
DTSTAMP:20260425T225633
CREATED:20260324T151013Z
LAST-MODIFIED:20260324T151013Z
UID:10002944-1860948000-1860951600@www.angierchamber.org
SUMMARY:Pilates at the ACOC with Michelle Moore Fitness Nutrition and Wellness
DESCRIPTION:
URL:https://www.angierchamber.org/event/pilates-at-the-acoc-with-michelle-moore-fitness-nutrition-and-wellness-33/2028-12-20/
LOCATION:Angier Chamber of Commerce\, United States
ATTACH;FMTTYPE=image/jpeg:https://www.angierchamber.org/wp-content/uploads/2026/01/617088567_904447205625246_9066359168838215526_n.jpg
ORGANIZER;CN="Michelle Moore Fitness%2C Nutrition%2C and Wellness":MAILTO:Mmooreblessed@gmail.com
END:VEVENT
BEGIN:VEVENT
DTSTART;TZID=UTC:20281220T190000
DTEND;TZID=UTC:20281220T210000
DTSTAMP:20260425T225633
CREATED:20260331T171810Z
LAST-MODIFIED:20260331T171812Z
UID:10004368-1860951600-1860958800@www.angierchamber.org
SUMMARY:Music Bingo at Wingin' It Angier
DESCRIPTION:
URL:https://www.angierchamber.org/event/music-bingo-at-wingin-it-angier-15/2028-12-20/
ATTACH;FMTTYPE=image/jpeg:https://www.angierchamber.org/wp-content/uploads/2026/03/605521972_752695044536569_1332439597071758233_n.jpg
END:VEVENT
BEGIN:VEVENT
DTSTART;TZID=UTC:20281220T193000
DTEND;TZID=UTC:20281220T210000
DTSTAMP:20260425T225633
CREATED:20260324T143507Z
LAST-MODIFIED:20260324T143509Z
UID:10001763-1860953400-1860958800@www.angierchamber.org
SUMMARY:Music Bingo with Napper Tandy's
DESCRIPTION:
URL:https://www.angierchamber.org/event/music-bingo-with-napper-tandys-31/2028-12-20/
LOCATION:Napper Tandy’s Public House and Restaurant\, 27 South Broad Street East\, Angier\, NC\, 27501\, United States
ATTACH;FMTTYPE=image/jpeg:https://www.angierchamber.org/wp-content/uploads/2026/03/650037872_122154752276655911_6133479155675057403_n-1.jpg
END:VEVENT
BEGIN:VEVENT
DTSTART;TZID=UTC:20281221T100000
DTEND;TZID=UTC:20281221T110000
DTSTAMP:20260425T225633
CREATED:20260324T152952Z
LAST-MODIFIED:20260324T152953Z
UID:10003322-1861005600-1861009200@www.angierchamber.org
SUMMARY:Kinder Jam with Ellington Studios
DESCRIPTION:
URL:https://www.angierchamber.org/event/kinder-jam-with-ellington-studios-11/2028-12-21/
LOCATION:Ellington Studios\, 54 South Raleigh Street\, Angier\, NC\, 27501\, United States
ATTACH;FMTTYPE=image/jpeg:https://www.angierchamber.org/wp-content/uploads/2026/03/639801297_1513474750784835_8899907419205944968_n.jpg
END:VEVENT
BEGIN:VEVENT
DTSTART;TZID=UTC:20281221T150000
DTEND;TZID=UTC:20281221T160000
DTSTAMP:20260425T225633
CREATED:20260324T153839Z
LAST-MODIFIED:20260324T153847Z
UID:10003842-1861023600-1861027200@www.angierchamber.org
SUMMARY:The Groove Lab with Ellington Studios
DESCRIPTION:
URL:https://www.angierchamber.org/event/the-groove-lab-with-ellington-studios-5/2028-12-21/
END:VEVENT
BEGIN:VEVENT
DTSTART;TZID=UTC:20281221T181500
DTEND;TZID=UTC:20281221T190000
DTSTAMP:20260425T225633
CREATED:20260324T153156Z
LAST-MODIFIED:20260324T153206Z
UID:10003582-1861035300-1861038000@www.angierchamber.org
SUMMARY:SYNC with Ellington Studios
DESCRIPTION:
URL:https://www.angierchamber.org/event/sync-with-ellington-studios-9/2028-12-21/
ATTACH;FMTTYPE=image/jpeg:https://www.angierchamber.org/wp-content/uploads/2026/03/641447150_1513474977451479_3178505079463523577_n.jpg
END:VEVENT
END:VCALENDAR