BEGIN:VCALENDAR
VERSION:2.0
PRODID:-//Angier Chamber of Commerce - ECPv6.15.18//NONSGML v1.0//EN
CALSCALE:GREGORIAN
METHOD:PUBLISH
X-WR-CALNAME:Angier Chamber of Commerce
X-ORIGINAL-URL:https://www.angierchamber.org
X-WR-CALDESC:Events for Angier Chamber of Commerce
REFRESH-INTERVAL;VALUE=DURATION:PT1H
X-Robots-Tag:noindex
X-PUBLISHED-TTL:PT1H
BEGIN:VTIMEZONE
TZID:UTC
BEGIN:STANDARD
TZOFFSETFROM:+0000
TZOFFSETTO:+0000
TZNAME:UTC
DTSTART:20250101T000000
END:STANDARD
END:VTIMEZONE
BEGIN:VEVENT
DTSTART;TZID=UTC:20260307T120000
DTEND;TZID=UTC:20260307T160000
DTSTAMP:20260424T192313
CREATED:20260302T165751Z
LAST-MODIFIED:20260302T165754Z
UID:10001351-1772884800-1772899200@www.angierchamber.org
SUMMARY:Sunny Sips Lemonade (Mobile Food Vendor) Location
DESCRIPTION:
URL:https://www.angierchamber.org/event/sunny-sips-lemonade-mobile-food-vendor-location/
ATTACH;FMTTYPE=image/jpeg:https://www.angierchamber.org/wp-content/uploads/2026/03/643935710_1356566406509369_24498837199298084_n-2.jpg
ORGANIZER;CN="Sunny Sips Lemonade":MAILTO:sunnysipslemonade@gmail.com
END:VEVENT
END:VCALENDAR