BEGIN:VCALENDAR
VERSION:2.0
PRODID:-//Angier Chamber of Commerce - ECPv6.15.18//NONSGML v1.0//EN
CALSCALE:GREGORIAN
METHOD:PUBLISH
X-WR-CALNAME:Angier Chamber of Commerce
X-ORIGINAL-URL:https://www.angierchamber.org
X-WR-CALDESC:Events for Angier Chamber of Commerce
REFRESH-INTERVAL;VALUE=DURATION:PT1H
X-Robots-Tag:noindex
X-PUBLISHED-TTL:PT1H
BEGIN:VTIMEZONE
TZID:UTC
BEGIN:STANDARD
TZOFFSETFROM:+0000
TZOFFSETTO:+0000
TZNAME:UTC
DTSTART:20240101T000000
END:STANDARD
END:VTIMEZONE
BEGIN:VEVENT
DTSTART;TZID=UTC:20250712T093000
DTEND;TZID=UTC:20250712T103000
DTSTAMP:20260423T021542
CREATED:20250619T191715Z
LAST-MODIFIED:20250619T191716Z
UID:10000552-1752312600-1752316200@www.angierchamber.org
SUMMARY:2025 BOM- Optimism with Sew There
DESCRIPTION:Quilt Size 70″ x 88″ – 12 Blocks\n– Blocks Size: 15″ finished\n– Sashing Width: 3″ finished\n– 1st border: 3″ finished\n– 2nd border: 1 1/2″ finished\n– 3rd border: 5″ finished \nFabrics:\n– About 15 Fat quarters\n– 2 yds for Background\n– 1 1/4 yds for Sashing and 1st Border\n– 5/8 yds for 2nd Border\n– 1 1/2 yds for 3rd Border\n– 3/4 yd for Binding\n– 2 1/4 yds x 108″ (extra wide backing)\n  OR 5 1/2 yds x 40″ (seam runs vertically)\n————————————————-\nQuilt Size 85″ x 105″ – 20 Blocks\n– Blocks Size: 15″ finished\n– Sashing Width: 2 1/2″ finished\n– 1st border: 2 1/2″ finished\n– 2nd border: 1 1/2″ finished\n– 3rd border: 5″ finished \nFabrics:\n– About 20 Fat quarters\n– 2 1/2 – 3 yds for Background\n– 3 yds for Sashing and 1st Border\n– 2/3 yds for 2nd Border\n– 1 5/8 yds for 3rd Border\n– 3/4 yd for Binding\n– 2 3/4 yds x 108″ (extra wide backing) \n  \n  \n\n\n\nSkill Level:\nIntermediate\n\n\nSkill Details:\nClass is a demo-only – no machine needed. Basic\, independent sewing skills will be required to complete this project\n\n\nInstructor:\nAbigail Dolinger
URL:https://www.angierchamber.org/event/2025-bom-optimism-with-sew-there-4/
LOCATION:Sew There! Quilts and More\, 27 East Depot Street\, Angier\, NC\, 27501\, United States
ATTACH;FMTTYPE=image/png:https://www.angierchamber.org/wp-content/uploads/2025/04/bom25.png
END:VEVENT
BEGIN:VEVENT
DTSTART;TZID=UTC:20250712T090000
DTEND;TZID=UTC:20250712T160000
DTSTAMP:20260423T021542
CREATED:20250619T184550Z
LAST-MODIFIED:20250619T184552Z
UID:10000550-1752310800-1752336000@www.angierchamber.org
SUMMARY:For Future Longarm Owners - Exclusive Longarm Quilting Event! with Sew There
DESCRIPTION:
URL:https://www.angierchamber.org/event/for-future-longarm-owners-exclusive-longarm-quilting-event-with-sew-there-2/
LOCATION:Angier Chamber of Commerce\, United States
ATTACH;FMTTYPE=image/png:https://www.angierchamber.org/wp-content/uploads/2025/06/pro_stitcher_logo_green_2018_20250618185326.png
END:VEVENT
BEGIN:VEVENT
DTSTART;TZID=UTC:20250711T093000
DTEND;TZID=UTC:20250711T113000
DTSTAMP:20260423T021542
CREATED:20250619T191538Z
LAST-MODIFIED:20250619T191538Z
UID:10000551-1752226200-1752233400@www.angierchamber.org
SUMMARY:2025 BOM- Optimism with Sew There
DESCRIPTION:Quilt Size 70″ x 88″ – 12 Blocks\n– Blocks Size: 15″ finished\n– Sashing Width: 3″ finished\n– 1st border: 3″ finished\n– 2nd border: 1 1/2″ finished\n– 3rd border: 5″ finished \nFabrics:\n– About 15 Fat quarters\n– 2 yds for Background\n– 1 1/4 yds for Sashing and 1st Border\n– 5/8 yds for 2nd Border\n– 1 1/2 yds for 3rd Border\n– 3/4 yd for Binding\n– 2 1/4 yds x 108″ (extra wide backing)\nOR 5 1/2 yds x 40″ (seam runs vertically)\n————————————————-\nQuilt Size 85″ x 105″ – 20 Blocks\n– Blocks Size: 15″ finished\n– Sashing Width: 2 1/2″ finished\n– 1st border: 2 1/2″ finished\n– 2nd border: 1 1/2″ finished\n– 3rd border: 5″ finished \nFabrics:\n– About 20 Fat quarters\n– 2 1/2 – 3 yds for Background\n– 3 yds for Sashing and 1st Border\n– 2/3 yds for 2nd Border\n– 1 5/8 yds for 3rd Border\n– 3/4 yd for Binding\n– 2 3/4 yds x 108″ (extra wide backing) \nSkill Level: Intermediate\nSkill Details: Class is a demo-only – no machine needed. Basic\, independent sewing skills will be required to complete this project\nInstructor: Abigail Dolinger
URL:https://www.angierchamber.org/event/2025-bom-optimism-with-sew-there-3/
LOCATION:Sew There! Quilts and More\, 27 East Depot Street\, Angier\, NC\, 27501\, United States
ATTACH;FMTTYPE=image/png:https://www.angierchamber.org/wp-content/uploads/2025/04/bom25.png
END:VEVENT
BEGIN:VEVENT
DTSTART;TZID=UTC:20250711T090000
DTEND;TZID=UTC:20250711T160000
DTSTAMP:20260423T021542
CREATED:20250619T184454Z
LAST-MODIFIED:20250619T184455Z
UID:10000549-1752224400-1752249600@www.angierchamber.org
SUMMARY:For Future Longarm Owners - Exclusive Longarm Quilting Event! with Sew There
DESCRIPTION:
URL:https://www.angierchamber.org/event/for-future-longarm-owners-exclusive-longarm-quilting-event-with-sew-there/
LOCATION:Angier Chamber of Commerce\, United States
ATTACH;FMTTYPE=image/png:https://www.angierchamber.org/wp-content/uploads/2025/06/pro_stitcher_logo_green_2018_20250618185326.png
END:VEVENT
BEGIN:VEVENT
DTSTART;TZID=UTC:20250628T100000
DTEND;TZID=UTC:20250628T110000
DTSTAMP:20260423T021542
CREATED:20250327T204511Z
LAST-MODIFIED:20250327T204512Z
UID:10000285-1751104800-1751108400@www.angierchamber.org
SUMMARY:2025 Flying High with Prostitcher Club with Sew There
DESCRIPTION:
URL:https://www.angierchamber.org/event/2025-flying-high-with-prostitcher-club-with-sew-there-2/
LOCATION:Sew There! Quilts and More\, 27 East Depot Street\, Angier\, NC\, 27501\, United States
ATTACH;FMTTYPE=image/png:https://www.angierchamber.org/wp-content/uploads/2025/03/pro_stitcher_logo_green_2018_20250306192559.png
END:VEVENT
BEGIN:VEVENT
DTSTART;TZID=UTC:20250522T170000
DTEND;TZID=UTC:20250522T190000
DTSTAMP:20260423T021542
CREATED:20250424T151209Z
LAST-MODIFIED:20250424T151210Z
UID:10000369-1747933200-1747940400@www.angierchamber.org
SUMMARY:Single Irish Chain with Sew There
DESCRIPTION:
URL:https://www.angierchamber.org/event/single-irish-chain-with-sew-there/
LOCATION:Sew There! Quilts and More\, 27 East Depot Street\, Angier\, NC\, 27501\, United States
ATTACH;FMTTYPE=image/jpeg:https://www.angierchamber.org/wp-content/uploads/2025/04/irish_chain_pic.jpg
END:VEVENT
BEGIN:VEVENT
DTSTART;TZID=UTC:20250516T093000
DTEND;TZID=UTC:20250516T223000
DTSTAMP:20260423T021542
CREATED:20250424T150822Z
LAST-MODIFIED:20250424T150823Z
UID:10000368-1747387800-1747434600@www.angierchamber.org
SUMMARY:Carpenter’s Star with Sew There
DESCRIPTION:
URL:https://www.angierchamber.org/event/carpenters-star-with-sew-there/
LOCATION:Sew There! Quilts and More\, 27 East Depot Street\, Angier\, NC\, 27501\, United States
ATTACH;FMTTYPE=image/png:https://www.angierchamber.org/wp-content/uploads/2025/04/Screen_Shot_2025_04_08_at_7.10.09_PM.png
END:VEVENT
BEGIN:VEVENT
DTSTART;TZID=UTC:20250510T213000
DTEND;TZID=UTC:20250510T223000
DTSTAMP:20260423T021542
CREATED:20250424T150007Z
LAST-MODIFIED:20250424T150009Z
UID:10000366-1746912600-1746916200@www.angierchamber.org
SUMMARY:2025 BOM- Optimism with Sew There
DESCRIPTION:
URL:https://www.angierchamber.org/event/2025-bom-optimism-with-sew-there-2/
LOCATION:Sew There! Quilts and More\, 27 East Depot Street\, Angier\, NC\, 27501\, United States
ATTACH;FMTTYPE=image/png:https://www.angierchamber.org/wp-content/uploads/2025/04/bom25.png
END:VEVENT
BEGIN:VEVENT
DTSTART;TZID=UTC:20250510T110000
DTEND;TZID=UTC:20250510T120000
DTSTAMP:20260423T021542
CREATED:20250424T150621Z
LAST-MODIFIED:20250424T150622Z
UID:10000367-1746874800-1746878400@www.angierchamber.org
SUMMARY:2025 Sunlit Serenade with Sew There
DESCRIPTION:
URL:https://www.angierchamber.org/event/2025-sunlit-serenade-with-sew-there-2/
LOCATION:Sew There! Quilts and More\, 27 East Depot Street\, Angier\, NC\, 27501\, United States
END:VEVENT
BEGIN:VEVENT
DTSTART;TZID=UTC:20250509T093000
DTEND;TZID=UTC:20250509T233000
DTSTAMP:20260423T021542
CREATED:20250424T142520Z
LAST-MODIFIED:20250424T142521Z
UID:10000365-1746783000-1746833400@www.angierchamber.org
SUMMARY:2025 BOM- Optimism with Sew There
DESCRIPTION:
URL:https://www.angierchamber.org/event/2025-bom-optimism-with-sew-there/
LOCATION:Sew There! Quilts and More\, 27 East Depot Street\, Angier\, NC\, 27501\, United States
ATTACH;FMTTYPE=image/png:https://www.angierchamber.org/wp-content/uploads/2025/04/bom25.png
END:VEVENT
BEGIN:VEVENT
DTSTART;TZID=UTC:20250508T100000
DTEND;TZID=UTC:20250508T120000
DTSTAMP:20260423T021542
CREATED:20250424T141503Z
LAST-MODIFIED:20250424T141506Z
UID:10000364-1746698400-1746705600@www.angierchamber.org
SUMMARY:Single Irish Chain - Class For Beginners with Sew There
DESCRIPTION:
URL:https://www.angierchamber.org/event/single-irish-chain-class-for-beginners-with-sew-there-2/
LOCATION:Sew There! Quilts and More\, 27 East Depot Street\, Angier\, NC\, 27501\, United States
ATTACH;FMTTYPE=image/jpeg:https://www.angierchamber.org/wp-content/uploads/2025/04/irish_chain_pic.jpg
END:VEVENT
BEGIN:VEVENT
DTSTART;TZID=UTC:20250502T100000
DTEND;TZID=UTC:20250502T120000
DTSTAMP:20260423T021542
CREATED:20250424T140601Z
LAST-MODIFIED:20250424T140603Z
UID:10000363-1746180000-1746187200@www.angierchamber.org
SUMMARY:Quilting Thread and Design Seminar with Sew There
DESCRIPTION:NO SEWING MACHINE NEEDED \nBring a quilt top which needs quilting; receive guidance on how it could be quilted. Bring a quilt with a quilting design that you are pleased with for show and tell.\nCome learn about various wonderful quilting threads on the market. Ask questions to determine which thread would be best for your projects.\nCome join a discussion on quilting motifs. Voice your opinion about which designs would be best for your projects. \n 
URL:https://www.angierchamber.org/event/quilting-thread-and-design-seminar-with-sew-there/
LOCATION:Sew There! Quilts and More\, 27 East Depot Street\, Angier\, NC\, 27501\, United States
ATTACH;FMTTYPE=image/png:https://www.angierchamber.org/wp-content/uploads/2025/04/Screen_Shot_2025_04_08_at_7.02.24_PM.png
END:VEVENT
BEGIN:VEVENT
DTSTART;TZID=UTC:20250501T170000
DTEND;TZID=UTC:20250501T190000
DTSTAMP:20260423T021542
CREATED:20250424T135414Z
LAST-MODIFIED:20250424T135415Z
UID:10000362-1746118800-1746126000@www.angierchamber.org
SUMMARY:Single Irish Chain with Sew There Quilts and More
DESCRIPTION:Supplies: \nRotary cutter with new blade \n18” x 24” rotary cutting mat \n6 ½” x 24” acrylic ruler (or 8 ½” x 24”) \n6 ½” x 6 ½” acrylic ruler \nSewing machine in good working order \nGood quality sewing thread \nSewing scissors or snips \nPins \nFabrics: \n1 ¾ yd. light background fabric \n½ yd. each of two small scale prints for Nine Patches \n1 yd. tone or tone for accent border and binding \n1 yd. large scale print for outer border \n64” x 76” predominantly cotton batting (1 ¾ yd. by 90”) \n64” x 76” backing fabric (3 ¾ yd. cut in half  \nand sewn together\, horizontal seam on back) \n\n1st session – Skills:  Rotary cutting; ¼” seam allowance; strip-piecing \n   Homework – Make 32 Nine Patches \n2nd session – Skills:  Measure and square up Nine Patches; cut alternate squares; row assembly \n   Homework – Assemble patchwork of Nine Patches and alternate squares \n3rd session – Skills:  Cutting and attaching borders; Basting; Quilting strategies \n   Homework – Quilt the quilt \n4th session – Skills:  Squaring up quilt by trimming; Making and attaching binding; Label \n   Homework – Bind and label the quilt
URL:https://www.angierchamber.org/event/single-irish-chain-with-sew-there-quilts-and-more/
LOCATION:Sew There! Quilts and More\, 27 East Depot Street\, Angier\, NC\, 27501\, United States
ATTACH;FMTTYPE=image/jpeg:https://www.angierchamber.org/wp-content/uploads/2025/04/irish_chain_pic.jpg
END:VEVENT
BEGIN:VEVENT
DTSTART;TZID=UTC:20250412T110000
DTEND;TZID=UTC:20250412T120000
DTSTAMP:20260423T021542
CREATED:20250327T204937Z
LAST-MODIFIED:20250327T204938Z
UID:10000289-1744455600-1744459200@www.angierchamber.org
SUMMARY:2025 Sunlit Serenade with Sew There
DESCRIPTION:
URL:https://www.angierchamber.org/event/2025-sunlit-serenade-with-sew-there/
LOCATION:Sew There! Quilts and More\, 27 East Depot Street\, Angier\, NC\, 27501\, United States
ATTACH;FMTTYPE=image/jpeg:https://www.angierchamber.org/wp-content/uploads/2025/03/651_26PS_Sunlit_Serenade_100x104_1.jpg
END:VEVENT
BEGIN:VEVENT
DTSTART;TZID=UTC:20250412T093000
DTEND;TZID=UTC:20250412T103000
DTSTAMP:20260423T021542
CREATED:20250327T204842Z
LAST-MODIFIED:20250327T204843Z
UID:10000288-1744450200-1744453800@www.angierchamber.org
SUMMARY:2025 BOM with Sew There
DESCRIPTION:
URL:https://www.angierchamber.org/event/2025-bom-with-sew-there-3/
LOCATION:Sew There! Quilts and More\, 27 East Depot Street\, Angier\, NC\, 27501\, United States
ATTACH;FMTTYPE=image/png:https://www.angierchamber.org/wp-content/uploads/2025/03/bom25.png
END:VEVENT
BEGIN:VEVENT
DTSTART;TZID=UTC:20250411T103000
DTEND;TZID=UTC:20250411T113000
DTSTAMP:20260423T021542
CREATED:20250327T204752Z
LAST-MODIFIED:20250327T204753Z
UID:10000287-1744367400-1744371000@www.angierchamber.org
SUMMARY:2025 BOM with Sew There
DESCRIPTION:
URL:https://www.angierchamber.org/event/2025-bom-with-sew-there-2/
LOCATION:Sew There! Quilts and More\, 27 East Depot Street\, Angier\, NC\, 27501\, United States
ATTACH;FMTTYPE=image/png:https://www.angierchamber.org/wp-content/uploads/2025/03/bom25.png
END:VEVENT
BEGIN:VEVENT
DTSTART;TZID=UTC:20250405T100000
DTEND;TZID=UTC:20250405T110000
DTSTAMP:20260423T021542
CREATED:20250327T204424Z
LAST-MODIFIED:20250327T204424Z
UID:10000284-1743847200-1743850800@www.angierchamber.org
SUMMARY:2025 Flying High with Prostitcher Club with Sew There
DESCRIPTION:
URL:https://www.angierchamber.org/event/2025-flying-high-with-prostitcher-club-with-sew-there/
LOCATION:Sew There! Quilts and More\, 27 East Depot Street\, Angier\, NC\, 27501\, United States
ATTACH;FMTTYPE=image/png:https://www.angierchamber.org/wp-content/uploads/2025/03/pro_stitcher_logo_green_2018_20250306192559.png
END:VEVENT
BEGIN:VEVENT
DTSTART;TZID=UTC:20250403T170000
DTEND;TZID=UTC:20250403T200000
DTSTAMP:20260423T021542
CREATED:20250327T204258Z
LAST-MODIFIED:20250327T204259Z
UID:10000283-1743699600-1743710400@www.angierchamber.org
SUMMARY:Single Irish Chain - Class For Beginners with Sew There
DESCRIPTION:Thursday Nights 5:00-8:00 March 20\, April 3\, 17\, and May 1– This 4-part beginner-friendly quilting class focuses on basic skills. First\, you’ll learn to practice safe and efficient rotary cutting. Then we’ll test your 1/4″ seam allowance markings. You’ll learn the basics of strip-piecing for speedy Nine Patch construction. We’ll square up the blocks and assemble them in rows. I’ll give you my best tips for adding borders\, and we’ll walk through basting your quilt sandwich of top\, batting\, and backing. We’ll talk about simple machine quilting strategies\, and I’ll demonstrate applying binding with mitered corners by machine.
URL:https://www.angierchamber.org/event/single-irish-chain-class-for-beginners-with-sew-there/
LOCATION:Sew There! Quilts and More\, 27 East Depot Street\, Angier\, NC\, 27501\, United States
ATTACH;FMTTYPE=image/jpeg:https://www.angierchamber.org/wp-content/uploads/2025/03/irish_chain_pic.jpg
END:VEVENT
END:VCALENDAR