BEGIN:VCALENDAR
VERSION:2.0
PRODID:-//Angier Chamber of Commerce - ECPv6.15.18//NONSGML v1.0//EN
CALSCALE:GREGORIAN
METHOD:PUBLISH
X-WR-CALNAME:Angier Chamber of Commerce
X-ORIGINAL-URL:https://www.angierchamber.org
X-WR-CALDESC:Events for Angier Chamber of Commerce
REFRESH-INTERVAL;VALUE=DURATION:PT1H
X-Robots-Tag:noindex
X-PUBLISHED-TTL:PT1H
BEGIN:VTIMEZONE
TZID:UTC
BEGIN:STANDARD
TZOFFSETFROM:+0000
TZOFFSETTO:+0000
TZNAME:UTC
DTSTART:20240101T000000
END:STANDARD
END:VTIMEZONE
BEGIN:VEVENT
DTSTART;TZID=UTC:20260310T180000
DTEND;TZID=UTC:20260310T190000
DTSTAMP:20260424T192411
CREATED:20260123T153434Z
LAST-MODIFIED:20260123T153436Z
UID:10001203-1773165600-1773169200@www.angierchamber.org
SUMMARY:FREE Resume Review Workshop
DESCRIPTION:Bring a hard copy of your current resume and Leigh will sit with you one-on-one at the Chamber to help refresh\, strengthen\, and modernize it. Whether you’re actively job searching or simply preparing for the year ahead\, this is a great chance to get expert support at no cost.\n\nMore information about Leigh’s background is included below.\nWith an HR degree and 25 years of experience in recruitment and training\, Leigh Adams currently works as a Job Search Consultant. Using the wealth of knowledge gained from talking to thousands of candidates through the years\, she helps clients with all aspects of their job search ranging from resume/LinkedIn review to Interviewing to strengths assessments! She also offers workshops to intact teams for team development using the TILT assessment.\n\nEmail: Leigh@CalhounCoachingConsulting.com\nLinkedIn: https://www.linkedin.com/in/leighadams/
URL:https://www.angierchamber.org/event/free-resume-review-workshop/
LOCATION:Angier Chamber of Commerce\, United States
ATTACH;FMTTYPE=image/jpeg:https://www.angierchamber.org/wp-content/uploads/2026/01/Resume-Review-Stock-Image.jpg
END:VEVENT
BEGIN:VEVENT
DTSTART;TZID=UTC:20251229T110000
DTEND;TZID=UTC:20251229T130000
DTSTAMP:20260424T192411
CREATED:20251211T185636Z
LAST-MODIFIED:20251211T185640Z
UID:10001049-1767006000-1767013200@www.angierchamber.org
SUMMARY:FREE Resume Review Session
DESCRIPTION:A Christmas Gift from member\, Jump Start Your Job Search! You won’t want to miss this special opportunity for the Angier community!\n\n\n\nLeigh Clark Adams is offering a FREE Resume Review Session to help you step into the new year with clarity and confidence — and refresh that resume before the new year begins!\n\n\n\n Location: Angier Chamber of Commerce\n Date: December 29th\n Time: 11:00 AM–1:00 PM\n No appointment needed — just drop in during your lunch break!\n\n\n\nBring a printed copy of your current resume\, and Leigh will sit down with you one-on-one to refresh\, strengthen\, and modernize it. Whether you’re actively job hunting or simply preparing for the year ahead\, this is the perfect chance to receive professional guidance at no cost.\n\n\n\nStart 2026 strong — we hope to see you there! If you plan to attend\, please RSVP on the Facebook event so we can adjust the hours if needed to make sure everyone gets assistance.
URL:https://www.angierchamber.org/event/free-resume-review-session/
LOCATION:Angier Chamber of Commerce\, United States
ATTACH;FMTTYPE=image/jpeg:https://www.angierchamber.org/wp-content/uploads/2025/12/597133824_1260567152757147_4497346141328640228_n.jpg
END:VEVENT
END:VCALENDAR