BEGIN:VCALENDAR
VERSION:2.0
PRODID:-//Angier Chamber of Commerce - ECPv6.15.18//NONSGML v1.0//EN
CALSCALE:GREGORIAN
METHOD:PUBLISH
X-WR-CALNAME:Angier Chamber of Commerce
X-ORIGINAL-URL:https://www.angierchamber.org
X-WR-CALDESC:Events for Angier Chamber of Commerce
REFRESH-INTERVAL;VALUE=DURATION:PT1H
X-Robots-Tag:noindex
X-PUBLISHED-TTL:PT1H
BEGIN:VTIMEZONE
TZID:UTC
BEGIN:STANDARD
TZOFFSETFROM:+0000
TZOFFSETTO:+0000
TZNAME:UTC
DTSTART:20240101T000000
END:STANDARD
END:VTIMEZONE
BEGIN:VEVENT
DTSTART;TZID=UTC:20251122T110000
DTEND;TZID=UTC:20251122T150000
DTSTAMP:20260425T013948
CREATED:20250707T194219Z
LAST-MODIFIED:20250707T194220Z
UID:10000598-1763809200-1763823600@www.angierchamber.org
SUMMARY:Fall Vendor Event with Gregory Vineyards
DESCRIPTION:
URL:https://www.angierchamber.org/event/fall-vendor-event-with-gregory-vineyards/
LOCATION:Gregory Vineyards\, 275 Bowling Spring Dr\, Angier\, NC\, 27501\, United States
END:VEVENT
BEGIN:VEVENT
DTSTART;TZID=UTC:20250913T170000
DTEND;TZID=UTC:20250913T180000
DTSTAMP:20260425T013948
CREATED:20250826T195039Z
LAST-MODIFIED:20250826T195050Z
UID:10000731-1757782800-1757786400@www.angierchamber.org
SUMMARY:Book Signing with Gregory Vineyards
DESCRIPTION:
URL:https://www.angierchamber.org/event/book-signing-with-gregory-vineyards/
LOCATION:Gregory Vineyards\, 275 Bowling Spring Dr\, Angier\, NC\, 27501\, United States
END:VEVENT
END:VCALENDAR