BEGIN:VCALENDAR
VERSION:2.0
PRODID:-//Angier Chamber of Commerce - ECPv6.15.18//NONSGML v1.0//EN
CALSCALE:GREGORIAN
METHOD:PUBLISH
X-WR-CALNAME:Angier Chamber of Commerce
X-ORIGINAL-URL:https://www.angierchamber.org
X-WR-CALDESC:Events for Angier Chamber of Commerce
REFRESH-INTERVAL;VALUE=DURATION:PT1H
X-Robots-Tag:noindex
X-PUBLISHED-TTL:PT1H
BEGIN:VTIMEZONE
TZID:UTC
BEGIN:STANDARD
TZOFFSETFROM:+0000
TZOFFSETTO:+0000
TZNAME:UTC
DTSTART:20250101T000000
END:STANDARD
END:VTIMEZONE
BEGIN:VEVENT
DTSTART;TZID=UTC:20260320T170000
DTEND;TZID=UTC:20260320T190000
DTSTAMP:20260422T212856
CREATED:20260226T142631Z
LAST-MODIFIED:20260226T142633Z
UID:10001272-1774026000-1774033200@www.angierchamber.org
SUMMARY:VFW 6983 Steak Night
DESCRIPTION:
URL:https://www.angierchamber.org/event/vfw-6983-steak-night/
LOCATION:Angier Masonic Lodge\, 104 South Raleigh Street\, Angier\, NC\, 27501\, United States
ATTACH;FMTTYPE=image/jpeg:https://www.angierchamber.org/wp-content/uploads/2026/02/639691623_10240367173746692_9102778214506828388_n.jpg
END:VEVENT
END:VCALENDAR