BEGIN:VCALENDAR
VERSION:2.0
PRODID:-//Angier Chamber of Commerce - ECPv6.15.18//NONSGML v1.0//EN
CALSCALE:GREGORIAN
METHOD:PUBLISH
X-WR-CALNAME:Angier Chamber of Commerce
X-ORIGINAL-URL:https://www.angierchamber.org
X-WR-CALDESC:Events for Angier Chamber of Commerce
REFRESH-INTERVAL;VALUE=DURATION:PT1H
X-Robots-Tag:noindex
X-PUBLISHED-TTL:PT1H
BEGIN:VTIMEZONE
TZID:UTC
BEGIN:STANDARD
TZOFFSETFROM:+0000
TZOFFSETTO:+0000
TZNAME:UTC
DTSTART:20240101T000000
END:STANDARD
END:VTIMEZONE
BEGIN:VEVENT
DTSTART;TZID=UTC:20251015T100000
DTEND;TZID=UTC:20251015T140000
DTSTAMP:20260422T110936
CREATED:20250929T165042Z
LAST-MODIFIED:20250929T165043Z
UID:10000871-1760522400-1760536800@www.angierchamber.org
SUMMARY:Angier Senior Citizens Health Fair
DESCRIPTION:
URL:https://www.angierchamber.org/event/angier-senior-citizens-health-fair-3/
LOCATION:Angier & Black River Fire Department\, 309 North Broad Street East\, Angier\, NC\, 27501\, United States
ATTACH;FMTTYPE=image/jpeg:https://www.angierchamber.org/wp-content/uploads/2025/09/20250810_181232.jpg
END:VEVENT
BEGIN:VEVENT
DTSTART;TZID=UTC:20250327T100000
DTEND;TZID=UTC:20250327T130000
DTSTAMP:20260422T110936
CREATED:20250321T181218Z
LAST-MODIFIED:20250321T181218Z
UID:10000195-1743069600-1743080400@www.angierchamber.org
SUMMARY:Angier Senior Citizens Meet Up and Brunch
DESCRIPTION:
URL:https://www.angierchamber.org/event/angier-senior-citizens-meet-up-and-brunch/
LOCATION:Angier Senior Citizen Center\, 255 West Williams Street\, Angier\, NC\, 27501\, United States
ATTACH;FMTTYPE=image/jpeg:https://www.angierchamber.org/wp-content/uploads/2025/03/unnamed.jpg
END:VEVENT
BEGIN:VEVENT
DTSTART;TZID=UTC:20250108T113000
DTEND;TZID=UTC:20250108T130000
DTSTAMP:20260422T110936
CREATED:20241231T172234Z
LAST-MODIFIED:20241231T172259Z
UID:10000073-1736335800-1736341200@www.angierchamber.org
SUMMARY:Angier Senior Citizens Luncheon
DESCRIPTION:
URL:https://www.angierchamber.org/event/angier-senior-citizens-luncheon-13/
LOCATION:Angier Senior Citizen Center\, 255 West Williams Street\, Angier\, NC\, 27501\, United States
ATTACH;FMTTYPE=image/jpeg:https://www.angierchamber.org/wp-content/uploads/2024/12/472177104_10237573796590652_2133269732533416073_n.jpg
END:VEVENT
END:VCALENDAR