BEGIN:VCALENDAR
VERSION:2.0
PRODID:-//Angier Chamber of Commerce - ECPv6.15.18//NONSGML v1.0//EN
CALSCALE:GREGORIAN
METHOD:PUBLISH
X-WR-CALNAME:Angier Chamber of Commerce
X-ORIGINAL-URL:https://www.angierchamber.org
X-WR-CALDESC:Events for Angier Chamber of Commerce
REFRESH-INTERVAL;VALUE=DURATION:PT1H
X-Robots-Tag:noindex
X-PUBLISHED-TTL:PT1H
BEGIN:VTIMEZONE
TZID:UTC
BEGIN:STANDARD
TZOFFSETFROM:+0000
TZOFFSETTO:+0000
TZNAME:UTC
DTSTART:20240101T000000
END:STANDARD
END:VTIMEZONE
BEGIN:VEVENT
DTSTART;TZID=UTC:20251115T130000
DTEND;TZID=UTC:20251115T160000
DTSTAMP:20260423T131221
CREATED:20251014T121409Z
LAST-MODIFIED:20251014T121410Z
UID:10001002-1763211600-1763222400@www.angierchamber.org
SUMMARY:Caregivers Support Seminar hosted by Angier Rotary
DESCRIPTION:
URL:https://www.angierchamber.org/event/caregivers-support-seminar-hosted-by-angier-rotary/
LOCATION:Angier Baptist Church\, 155 South Hickory Street\, Angier\, NC\, 27501\, United States
ATTACH;FMTTYPE=image/jpeg:https://www.angierchamber.org/wp-content/uploads/2025/10/Nov-15-Caregivers-Support-Seminar.jpg
END:VEVENT
BEGIN:VEVENT
DTSTART;TZID=UTC:20250815T180000
DTEND;TZID=UTC:20250815T210000
DTSTAMP:20260423T131221
CREATED:20250529T201928Z
LAST-MODIFIED:20250529T202059Z
UID:10000457-1755280800-1755291600@www.angierchamber.org
SUMMARY:Bingo at the Angier Depot
DESCRIPTION:Hosted by Angier Lions Club and Rotary Club of Angier.
URL:https://www.angierchamber.org/event/bingo-at-the-angier-depot/
LOCATION:Angier Depot Square/R.H. Ellington Grounds\, United States
ATTACH;FMTTYPE=image/jpeg:https://www.angierchamber.org/wp-content/uploads/2025/05/500272904_724721166877084_8668984169950870399_n-2.jpg
END:VEVENT
BEGIN:VEVENT
DTSTART;TZID=UTC:20250503T080000
DTEND;TZID=UTC:20250503T150000
DTSTAMP:20260423T131221
CREATED:20250321T171724Z
LAST-MODIFIED:20250321T171725Z
UID:10000164-1746259200-1746284400@www.angierchamber.org
SUMMARY:Angier Rotary Plant Sale
DESCRIPTION:
URL:https://www.angierchamber.org/event/angier-rotary-plant-sale-2/
LOCATION:First Bank\, 415 North Raleigh Street\, Angier\, NC\, 27501\, United States
ATTACH;FMTTYPE=image/jpeg:https://www.angierchamber.org/wp-content/uploads/2025/03/485149670_673715385310996_7692082501469312464_n.jpg
END:VEVENT
END:VCALENDAR