BEGIN:VCALENDAR
VERSION:2.0
PRODID:-//Angier Chamber of Commerce - ECPv6.15.18//NONSGML v1.0//EN
CALSCALE:GREGORIAN
METHOD:PUBLISH
X-ORIGINAL-URL:https://www.angierchamber.org
X-WR-CALDESC:Events for Angier Chamber of Commerce
REFRESH-INTERVAL;VALUE=DURATION:PT1H
X-Robots-Tag:noindex
X-PUBLISHED-TTL:PT1H
BEGIN:VTIMEZONE
TZID:UTC
BEGIN:STANDARD
TZOFFSETFROM:+0000
TZOFFSETTO:+0000
TZNAME:UTC
DTSTART:20250101T000000
END:STANDARD
END:VTIMEZONE
BEGIN:VEVENT
DTSTART;TZID=UTC:20260424T170000
DTEND;TZID=UTC:20260424T190000
DTSTAMP:20260424T090850
CREATED:20260421T132311Z
LAST-MODIFIED:20260421T132315Z
UID:10004493-1777050000-1777057200@www.angierchamber.org
SUMMARY:VFW Steak Night
DESCRIPTION:
URL:https://www.angierchamber.org/event/vfw-steak-night/
LOCATION:Angier Masonic Lodge\, 104 South Raleigh Street\, Angier\, NC\, 27501\, United States
ATTACH;FMTTYPE=image/jpeg:https://www.angierchamber.org/wp-content/uploads/2026/04/1000006577-1.jpg
END:VEVENT
BEGIN:VEVENT
DTSTART;TZID=UTC:20260424T170000
DTEND;TZID=UTC:20260424T200000
DTSTAMP:20260424T090850
CREATED:20260324T145956Z
LAST-MODIFIED:20260324T145956Z
UID:10002406-1777050000-1777060800@www.angierchamber.org
SUMMARY:All you can eat pancakes with the Angier Kiwanis
DESCRIPTION:
URL:https://www.angierchamber.org/event/all-you-can-eat-pancakes-with-the-angier-kiwanis/
LOCATION:Angier Depot Square/R.H. Ellington Grounds\, United States
ATTACH;FMTTYPE=image/jpeg:https://www.angierchamber.org/wp-content/uploads/2026/03/624184322_1332637932235293_3326348467373188768_n.jpg
END:VEVENT
BEGIN:VEVENT
DTSTART;TZID=UTC:20260424T180000
DTEND;TZID=UTC:20260424T200000
DTSTAMP:20260424T090850
CREATED:20260324T145755Z
LAST-MODIFIED:20260324T145755Z
UID:10002405-1777053600-1777060800@www.angierchamber.org
SUMMARY:The Little Mermaid by Carolina Charter Academy
DESCRIPTION:
URL:https://www.angierchamber.org/event/the-little-mermaid-by-carolina-charter-academy/
LOCATION:Carolina Charter Academy\, 8529 Highway 55 S\,\, Angier\, NC\, 27501
ATTACH;FMTTYPE=image/png:https://www.angierchamber.org/wp-content/uploads/2026/03/sponsors-needed.png
END:VEVENT
BEGIN:VEVENT
DTSTART;TZID=UTC:20260424T203000
DTEND;TZID=UTC:20260424T233000
DTSTAMP:20260424T090850
CREATED:20260324T143803Z
LAST-MODIFIED:20260324T143835Z
UID:10001884-1777062600-1777073400@www.angierchamber.org
SUMMARY:DJ Night with Napper Tandy's
DESCRIPTION:
URL:https://www.angierchamber.org/event/dj-night-with-napper-tandys/2026-04-24/
LOCATION:NC
ATTACH;FMTTYPE=image/jpeg:https://www.angierchamber.org/wp-content/uploads/2026/03/647242600_122154372038655911_4692375131809390416_n.jpg
END:VEVENT
END:VCALENDAR