BEGIN:VCALENDAR
VERSION:2.0
PRODID:-//Angier Chamber of Commerce - ECPv6.15.18//NONSGML v1.0//EN
CALSCALE:GREGORIAN
METHOD:PUBLISH
X-WR-CALNAME:Angier Chamber of Commerce
X-ORIGINAL-URL:https://www.angierchamber.org
X-WR-CALDESC:Events for Angier Chamber of Commerce
REFRESH-INTERVAL;VALUE=DURATION:PT1H
X-Robots-Tag:noindex
X-PUBLISHED-TTL:PT1H
BEGIN:VTIMEZONE
TZID:UTC
BEGIN:STANDARD
TZOFFSETFROM:+0000
TZOFFSETTO:+0000
TZNAME:UTC
DTSTART:20280101T000000
END:STANDARD
END:VTIMEZONE
BEGIN:VEVENT
DTSTART;TZID=UTC:20290104T100000
DTEND;TZID=UTC:20290104T110000
DTSTAMP:20260426T043354
CREATED:20260324T152952Z
LAST-MODIFIED:20260324T152953Z
UID:10003324-1862215200-1862218800@www.angierchamber.org
SUMMARY:Kinder Jam with Ellington Studios
DESCRIPTION:
URL:https://www.angierchamber.org/event/kinder-jam-with-ellington-studios-11/2029-01-04/
LOCATION:Ellington Studios\, 54 South Raleigh Street\, Angier\, NC\, 27501\, United States
ATTACH;FMTTYPE=image/jpeg:https://www.angierchamber.org/wp-content/uploads/2026/03/639801297_1513474750784835_8899907419205944968_n.jpg
END:VEVENT
BEGIN:VEVENT
DTSTART;TZID=UTC:20290104T150000
DTEND;TZID=UTC:20290104T160000
DTSTAMP:20260426T043354
CREATED:20260324T153839Z
LAST-MODIFIED:20260324T153847Z
UID:10003844-1862233200-1862236800@www.angierchamber.org
SUMMARY:The Groove Lab with Ellington Studios
DESCRIPTION:
URL:https://www.angierchamber.org/event/the-groove-lab-with-ellington-studios-5/2029-01-04/
END:VEVENT
BEGIN:VEVENT
DTSTART;TZID=UTC:20290104T181500
DTEND;TZID=UTC:20290104T190000
DTSTAMP:20260426T043354
CREATED:20260324T153156Z
LAST-MODIFIED:20260324T153206Z
UID:10003584-1862244900-1862247600@www.angierchamber.org
SUMMARY:SYNC with Ellington Studios
DESCRIPTION:
URL:https://www.angierchamber.org/event/sync-with-ellington-studios-9/2029-01-04/
ATTACH;FMTTYPE=image/jpeg:https://www.angierchamber.org/wp-content/uploads/2026/03/641447150_1513474977451479_3178505079463523577_n.jpg
END:VEVENT
BEGIN:VEVENT
DTSTART;TZID=UTC:20290104T190000
DTEND;TZID=UTC:20290104T200000
DTSTAMP:20260426T043354
CREATED:20260324T150258Z
LAST-MODIFIED:20260324T150259Z
UID:10002552-1862247600-1862251200@www.angierchamber.org
SUMMARY:Cardio Dance Class with HC Nutrition
DESCRIPTION:
URL:https://www.angierchamber.org/event/cardio-dance-class-with-hc-nutrition-6/2029-01-04/
LOCATION:HC Nutrition\, 559 N. Raleigh St.\, Suite A\, Angier\, NC\, 27501
ATTACH;FMTTYPE=image/jpeg:https://www.angierchamber.org/wp-content/uploads/2026/03/639508671_17914701927306163_5314855391373256172_n.jpg
END:VEVENT
BEGIN:VEVENT
DTSTART;TZID=UTC:20290105T203000
DTEND;TZID=UTC:20290105T233000
DTSTAMP:20260426T043354
CREATED:20260324T143803Z
LAST-MODIFIED:20260324T143835Z
UID:10002025-1862339400-1862350200@www.angierchamber.org
SUMMARY:DJ Night with Napper Tandy's
DESCRIPTION:
URL:https://www.angierchamber.org/event/dj-night-with-napper-tandys/2029-01-05/
ATTACH;FMTTYPE=image/jpeg:https://www.angierchamber.org/wp-content/uploads/2026/03/647242600_122154372038655911_4692375131809390416_n.jpg
END:VEVENT
BEGIN:VEVENT
DTSTART;TZID=UTC:20290106T210000
DTEND;TZID=UTC:20290106T233000
DTSTAMP:20260426T043354
CREATED:20260331T170507Z
LAST-MODIFIED:20260331T170656Z
UID:10004109-1862427600-1862436600@www.angierchamber.org
SUMMARY:Live Music at Napper Tandy's Public House & Restaurant
DESCRIPTION:
URL:https://www.angierchamber.org/event/live-music-at-napper-tandys-public-house-restaurant-66/2029-01-06/
ATTACH;FMTTYPE=image/jpeg:https://www.angierchamber.org/wp-content/uploads/2025/07/live-music-header-1.jpg
END:VEVENT
BEGIN:VEVENT
DTSTART;TZID=UTC:20290108T180000
DTEND;TZID=UTC:20290108T190000
DTSTAMP:20260426T043354
CREATED:20260324T151013Z
LAST-MODIFIED:20260324T151013Z
UID:10002949-1862589600-1862593200@www.angierchamber.org
SUMMARY:Pilates at the ACOC with Michelle Moore Fitness Nutrition and Wellness
DESCRIPTION:
URL:https://www.angierchamber.org/event/pilates-at-the-acoc-with-michelle-moore-fitness-nutrition-and-wellness-33/2029-01-08/
LOCATION:Angier Chamber of Commerce\, United States
ATTACH;FMTTYPE=image/jpeg:https://www.angierchamber.org/wp-content/uploads/2026/01/617088567_904447205625246_9066359168838215526_n.jpg
ORGANIZER;CN="Michelle Moore Fitness%2C Nutrition%2C and Wellness":MAILTO:Mmooreblessed@gmail.com
END:VEVENT
BEGIN:VEVENT
DTSTART;TZID=UTC:20290108T183000
DTEND;TZID=UTC:20290108T200000
DTSTAMP:20260426T043354
CREATED:20260324T142223Z
LAST-MODIFIED:20260324T142225Z
UID:10001505-1862591400-1862596800@www.angierchamber.org
SUMMARY:Trivia Night at Napper Tandy's
DESCRIPTION:
URL:https://www.angierchamber.org/event/trivia-night-at-napper-tandys-35/2029-01-08/
LOCATION:Napper Tandy’s Public House and Restaurant\, 27 South Broad Street East\, Angier\, NC\, 27501\, United States
ATTACH;FMTTYPE=image/jpeg:https://www.angierchamber.org/wp-content/uploads/2026/03/657271056_122155671776655911_2309681187732823349_n.jpg
END:VEVENT
BEGIN:VEVENT
DTSTART;TZID=UTC:20290109T203000
DTEND;TZID=UTC:20290109T233000
DTSTAMP:20260426T043354
CREATED:20260324T144321Z
LAST-MODIFIED:20260324T144322Z
UID:10002285-1862685000-1862695800@www.angierchamber.org
SUMMARY:Karaoke with Napper Tandy's
DESCRIPTION:
URL:https://www.angierchamber.org/event/karaoke-with-napper-tandys-27/2029-01-09/
LOCATION:Napper Tandy’s Public House and Restaurant\, 27 South Broad Street East\, Angier\, NC\, 27501\, United States
ATTACH;FMTTYPE=image/jpeg:https://www.angierchamber.org/wp-content/uploads/2026/03/641291512_122153514836655911_8995511338422010505_n.jpg
END:VEVENT
BEGIN:VEVENT
DTSTART;TZID=UTC:20290110T180000
DTEND;TZID=UTC:20290110T190000
DTSTAMP:20260426T043354
CREATED:20260324T151013Z
LAST-MODIFIED:20260324T151013Z
UID:10002950-1862762400-1862766000@www.angierchamber.org
SUMMARY:Pilates at the ACOC with Michelle Moore Fitness Nutrition and Wellness
DESCRIPTION:
URL:https://www.angierchamber.org/event/pilates-at-the-acoc-with-michelle-moore-fitness-nutrition-and-wellness-33/2029-01-10/
LOCATION:Angier Chamber of Commerce\, United States
ATTACH;FMTTYPE=image/jpeg:https://www.angierchamber.org/wp-content/uploads/2026/01/617088567_904447205625246_9066359168838215526_n.jpg
ORGANIZER;CN="Michelle Moore Fitness%2C Nutrition%2C and Wellness":MAILTO:Mmooreblessed@gmail.com
END:VEVENT
BEGIN:VEVENT
DTSTART;TZID=UTC:20290110T190000
DTEND;TZID=UTC:20290110T210000
DTSTAMP:20260426T043354
CREATED:20260331T171810Z
LAST-MODIFIED:20260331T171812Z
UID:10004371-1862766000-1862773200@www.angierchamber.org
SUMMARY:Music Bingo at Wingin' It Angier
DESCRIPTION:
URL:https://www.angierchamber.org/event/music-bingo-at-wingin-it-angier-15/2029-01-10/
ATTACH;FMTTYPE=image/jpeg:https://www.angierchamber.org/wp-content/uploads/2026/03/605521972_752695044536569_1332439597071758233_n.jpg
END:VEVENT
BEGIN:VEVENT
DTSTART;TZID=UTC:20290110T193000
DTEND;TZID=UTC:20290110T210000
DTSTAMP:20260426T043354
CREATED:20260324T143507Z
LAST-MODIFIED:20260324T143509Z
UID:10001766-1862767800-1862773200@www.angierchamber.org
SUMMARY:Music Bingo with Napper Tandy's
DESCRIPTION:
URL:https://www.angierchamber.org/event/music-bingo-with-napper-tandys-31/2029-01-10/
LOCATION:Napper Tandy’s Public House and Restaurant\, 27 South Broad Street East\, Angier\, NC\, 27501\, United States
ATTACH;FMTTYPE=image/jpeg:https://www.angierchamber.org/wp-content/uploads/2026/03/650037872_122154752276655911_6133479155675057403_n-1.jpg
END:VEVENT
BEGIN:VEVENT
DTSTART;TZID=UTC:20290111T100000
DTEND;TZID=UTC:20290111T110000
DTSTAMP:20260426T043354
CREATED:20260324T152952Z
LAST-MODIFIED:20260324T152953Z
UID:10003325-1862820000-1862823600@www.angierchamber.org
SUMMARY:Kinder Jam with Ellington Studios
DESCRIPTION:
URL:https://www.angierchamber.org/event/kinder-jam-with-ellington-studios-11/2029-01-11/
LOCATION:Ellington Studios\, 54 South Raleigh Street\, Angier\, NC\, 27501\, United States
ATTACH;FMTTYPE=image/jpeg:https://www.angierchamber.org/wp-content/uploads/2026/03/639801297_1513474750784835_8899907419205944968_n.jpg
END:VEVENT
BEGIN:VEVENT
DTSTART;TZID=UTC:20290111T150000
DTEND;TZID=UTC:20290111T160000
DTSTAMP:20260426T043354
CREATED:20260324T153839Z
LAST-MODIFIED:20260324T153847Z
UID:10003845-1862838000-1862841600@www.angierchamber.org
SUMMARY:The Groove Lab with Ellington Studios
DESCRIPTION:
URL:https://www.angierchamber.org/event/the-groove-lab-with-ellington-studios-5/2029-01-11/
END:VEVENT
BEGIN:VEVENT
DTSTART;TZID=UTC:20290111T181500
DTEND;TZID=UTC:20290111T190000
DTSTAMP:20260426T043354
CREATED:20260324T153156Z
LAST-MODIFIED:20260324T153206Z
UID:10003585-1862849700-1862852400@www.angierchamber.org
SUMMARY:SYNC with Ellington Studios
DESCRIPTION:
URL:https://www.angierchamber.org/event/sync-with-ellington-studios-9/2029-01-11/
ATTACH;FMTTYPE=image/jpeg:https://www.angierchamber.org/wp-content/uploads/2026/03/641447150_1513474977451479_3178505079463523577_n.jpg
END:VEVENT
BEGIN:VEVENT
DTSTART;TZID=UTC:20290111T190000
DTEND;TZID=UTC:20290111T200000
DTSTAMP:20260426T043354
CREATED:20260324T150258Z
LAST-MODIFIED:20260324T150259Z
UID:10002553-1862852400-1862856000@www.angierchamber.org
SUMMARY:Cardio Dance Class with HC Nutrition
DESCRIPTION:
URL:https://www.angierchamber.org/event/cardio-dance-class-with-hc-nutrition-6/2029-01-11/
LOCATION:HC Nutrition\, 559 N. Raleigh St.\, Suite A\, Angier\, NC\, 27501
ATTACH;FMTTYPE=image/jpeg:https://www.angierchamber.org/wp-content/uploads/2026/03/639508671_17914701927306163_5314855391373256172_n.jpg
END:VEVENT
BEGIN:VEVENT
DTSTART;TZID=UTC:20290112T203000
DTEND;TZID=UTC:20290112T233000
DTSTAMP:20260426T043354
CREATED:20260324T143803Z
LAST-MODIFIED:20260324T143835Z
UID:10002026-1862944200-1862955000@www.angierchamber.org
SUMMARY:DJ Night with Napper Tandy's
DESCRIPTION:
URL:https://www.angierchamber.org/event/dj-night-with-napper-tandys/2029-01-12/
ATTACH;FMTTYPE=image/jpeg:https://www.angierchamber.org/wp-content/uploads/2026/03/647242600_122154372038655911_4692375131809390416_n.jpg
END:VEVENT
BEGIN:VEVENT
DTSTART;TZID=UTC:20290113T210000
DTEND;TZID=UTC:20290113T233000
DTSTAMP:20260426T043354
CREATED:20260331T170507Z
LAST-MODIFIED:20260331T170656Z
UID:10004110-1863032400-1863041400@www.angierchamber.org
SUMMARY:Live Music at Napper Tandy's Public House & Restaurant
DESCRIPTION:
URL:https://www.angierchamber.org/event/live-music-at-napper-tandys-public-house-restaurant-66/2029-01-13/
ATTACH;FMTTYPE=image/jpeg:https://www.angierchamber.org/wp-content/uploads/2025/07/live-music-header-1.jpg
END:VEVENT
BEGIN:VEVENT
DTSTART;TZID=UTC:20290115T180000
DTEND;TZID=UTC:20290115T190000
DTSTAMP:20260426T043354
CREATED:20260324T151013Z
LAST-MODIFIED:20260324T151013Z
UID:10002951-1863194400-1863198000@www.angierchamber.org
SUMMARY:Pilates at the ACOC with Michelle Moore Fitness Nutrition and Wellness
DESCRIPTION:
URL:https://www.angierchamber.org/event/pilates-at-the-acoc-with-michelle-moore-fitness-nutrition-and-wellness-33/2029-01-15/
LOCATION:Angier Chamber of Commerce\, United States
ATTACH;FMTTYPE=image/jpeg:https://www.angierchamber.org/wp-content/uploads/2026/01/617088567_904447205625246_9066359168838215526_n.jpg
ORGANIZER;CN="Michelle Moore Fitness%2C Nutrition%2C and Wellness":MAILTO:Mmooreblessed@gmail.com
END:VEVENT
BEGIN:VEVENT
DTSTART;TZID=UTC:20290115T183000
DTEND;TZID=UTC:20290115T200000
DTSTAMP:20260426T043354
CREATED:20260324T142223Z
LAST-MODIFIED:20260324T142225Z
UID:10001506-1863196200-1863201600@www.angierchamber.org
SUMMARY:Trivia Night at Napper Tandy's
DESCRIPTION:
URL:https://www.angierchamber.org/event/trivia-night-at-napper-tandys-35/2029-01-15/
LOCATION:Napper Tandy’s Public House and Restaurant\, 27 South Broad Street East\, Angier\, NC\, 27501\, United States
ATTACH;FMTTYPE=image/jpeg:https://www.angierchamber.org/wp-content/uploads/2026/03/657271056_122155671776655911_2309681187732823349_n.jpg
END:VEVENT
BEGIN:VEVENT
DTSTART;TZID=UTC:20290116T203000
DTEND;TZID=UTC:20290116T233000
DTSTAMP:20260426T043354
CREATED:20260324T144321Z
LAST-MODIFIED:20260324T144322Z
UID:10002286-1863289800-1863300600@www.angierchamber.org
SUMMARY:Karaoke with Napper Tandy's
DESCRIPTION:
URL:https://www.angierchamber.org/event/karaoke-with-napper-tandys-27/2029-01-16/
LOCATION:Napper Tandy’s Public House and Restaurant\, 27 South Broad Street East\, Angier\, NC\, 27501\, United States
ATTACH;FMTTYPE=image/jpeg:https://www.angierchamber.org/wp-content/uploads/2026/03/641291512_122153514836655911_8995511338422010505_n.jpg
END:VEVENT
BEGIN:VEVENT
DTSTART;TZID=UTC:20290117T180000
DTEND;TZID=UTC:20290117T190000
DTSTAMP:20260426T043354
CREATED:20260324T151013Z
LAST-MODIFIED:20260324T151013Z
UID:10002952-1863367200-1863370800@www.angierchamber.org
SUMMARY:Pilates at the ACOC with Michelle Moore Fitness Nutrition and Wellness
DESCRIPTION:
URL:https://www.angierchamber.org/event/pilates-at-the-acoc-with-michelle-moore-fitness-nutrition-and-wellness-33/2029-01-17/
LOCATION:Angier Chamber of Commerce\, United States
ATTACH;FMTTYPE=image/jpeg:https://www.angierchamber.org/wp-content/uploads/2026/01/617088567_904447205625246_9066359168838215526_n.jpg
ORGANIZER;CN="Michelle Moore Fitness%2C Nutrition%2C and Wellness":MAILTO:Mmooreblessed@gmail.com
END:VEVENT
BEGIN:VEVENT
DTSTART;TZID=UTC:20290117T190000
DTEND;TZID=UTC:20290117T210000
DTSTAMP:20260426T043354
CREATED:20260331T171810Z
LAST-MODIFIED:20260331T171812Z
UID:10004372-1863370800-1863378000@www.angierchamber.org
SUMMARY:Music Bingo at Wingin' It Angier
DESCRIPTION:
URL:https://www.angierchamber.org/event/music-bingo-at-wingin-it-angier-15/2029-01-17/
ATTACH;FMTTYPE=image/jpeg:https://www.angierchamber.org/wp-content/uploads/2026/03/605521972_752695044536569_1332439597071758233_n.jpg
END:VEVENT
BEGIN:VEVENT
DTSTART;TZID=UTC:20290117T193000
DTEND;TZID=UTC:20290117T210000
DTSTAMP:20260426T043354
CREATED:20260324T143507Z
LAST-MODIFIED:20260324T143509Z
UID:10001767-1863372600-1863378000@www.angierchamber.org
SUMMARY:Music Bingo with Napper Tandy's
DESCRIPTION:
URL:https://www.angierchamber.org/event/music-bingo-with-napper-tandys-31/2029-01-17/
LOCATION:Napper Tandy’s Public House and Restaurant\, 27 South Broad Street East\, Angier\, NC\, 27501\, United States
ATTACH;FMTTYPE=image/jpeg:https://www.angierchamber.org/wp-content/uploads/2026/03/650037872_122154752276655911_6133479155675057403_n-1.jpg
END:VEVENT
BEGIN:VEVENT
DTSTART;TZID=UTC:20290118T100000
DTEND;TZID=UTC:20290118T110000
DTSTAMP:20260426T043354
CREATED:20260324T152952Z
LAST-MODIFIED:20260324T152953Z
UID:10003326-1863424800-1863428400@www.angierchamber.org
SUMMARY:Kinder Jam with Ellington Studios
DESCRIPTION:
URL:https://www.angierchamber.org/event/kinder-jam-with-ellington-studios-11/2029-01-18/
LOCATION:Ellington Studios\, 54 South Raleigh Street\, Angier\, NC\, 27501\, United States
ATTACH;FMTTYPE=image/jpeg:https://www.angierchamber.org/wp-content/uploads/2026/03/639801297_1513474750784835_8899907419205944968_n.jpg
END:VEVENT
BEGIN:VEVENT
DTSTART;TZID=UTC:20290118T150000
DTEND;TZID=UTC:20290118T160000
DTSTAMP:20260426T043354
CREATED:20260324T153839Z
LAST-MODIFIED:20260324T153847Z
UID:10003846-1863442800-1863446400@www.angierchamber.org
SUMMARY:The Groove Lab with Ellington Studios
DESCRIPTION:
URL:https://www.angierchamber.org/event/the-groove-lab-with-ellington-studios-5/2029-01-18/
END:VEVENT
BEGIN:VEVENT
DTSTART;TZID=UTC:20290118T181500
DTEND;TZID=UTC:20290118T190000
DTSTAMP:20260426T043354
CREATED:20260324T153156Z
LAST-MODIFIED:20260324T153206Z
UID:10003586-1863454500-1863457200@www.angierchamber.org
SUMMARY:SYNC with Ellington Studios
DESCRIPTION:
URL:https://www.angierchamber.org/event/sync-with-ellington-studios-9/2029-01-18/
ATTACH;FMTTYPE=image/jpeg:https://www.angierchamber.org/wp-content/uploads/2026/03/641447150_1513474977451479_3178505079463523577_n.jpg
END:VEVENT
BEGIN:VEVENT
DTSTART;TZID=UTC:20290118T190000
DTEND;TZID=UTC:20290118T200000
DTSTAMP:20260426T043354
CREATED:20260324T150258Z
LAST-MODIFIED:20260324T150259Z
UID:10002554-1863457200-1863460800@www.angierchamber.org
SUMMARY:Cardio Dance Class with HC Nutrition
DESCRIPTION:
URL:https://www.angierchamber.org/event/cardio-dance-class-with-hc-nutrition-6/2029-01-18/
LOCATION:HC Nutrition\, 559 N. Raleigh St.\, Suite A\, Angier\, NC\, 27501
ATTACH;FMTTYPE=image/jpeg:https://www.angierchamber.org/wp-content/uploads/2026/03/639508671_17914701927306163_5314855391373256172_n.jpg
END:VEVENT
BEGIN:VEVENT
DTSTART;TZID=UTC:20290119T203000
DTEND;TZID=UTC:20290119T233000
DTSTAMP:20260426T043354
CREATED:20260324T143803Z
LAST-MODIFIED:20260324T143835Z
UID:10002027-1863549000-1863559800@www.angierchamber.org
SUMMARY:DJ Night with Napper Tandy's
DESCRIPTION:
URL:https://www.angierchamber.org/event/dj-night-with-napper-tandys/2029-01-19/
ATTACH;FMTTYPE=image/jpeg:https://www.angierchamber.org/wp-content/uploads/2026/03/647242600_122154372038655911_4692375131809390416_n.jpg
END:VEVENT
BEGIN:VEVENT
DTSTART;TZID=UTC:20290120T210000
DTEND;TZID=UTC:20290120T233000
DTSTAMP:20260426T043354
CREATED:20260331T170507Z
LAST-MODIFIED:20260331T170656Z
UID:10004111-1863637200-1863646200@www.angierchamber.org
SUMMARY:Live Music at Napper Tandy's Public House & Restaurant
DESCRIPTION:
URL:https://www.angierchamber.org/event/live-music-at-napper-tandys-public-house-restaurant-66/2029-01-20/
ATTACH;FMTTYPE=image/jpeg:https://www.angierchamber.org/wp-content/uploads/2025/07/live-music-header-1.jpg
END:VEVENT
END:VCALENDAR