BEGIN:VCALENDAR
VERSION:2.0
PRODID:-//Angier Chamber of Commerce - ECPv6.15.18//NONSGML v1.0//EN
CALSCALE:GREGORIAN
METHOD:PUBLISH
X-ORIGINAL-URL:https://www.angierchamber.org
X-WR-CALDESC:Events for Angier Chamber of Commerce
REFRESH-INTERVAL;VALUE=DURATION:PT1H
X-Robots-Tag:noindex
X-PUBLISHED-TTL:PT1H
BEGIN:VTIMEZONE
TZID:UTC
BEGIN:STANDARD
TZOFFSETFROM:+0000
TZOFFSETTO:+0000
TZNAME:UTC
DTSTART:20270101T000000
END:STANDARD
END:VTIMEZONE
BEGIN:VEVENT
DTSTART;TZID=UTC:20281218T180000
DTEND;TZID=UTC:20281218T190000
DTSTAMP:20260426T000740
CREATED:20260324T151013Z
LAST-MODIFIED:20260324T151013Z
UID:10002943-1860775200-1860778800@www.angierchamber.org
SUMMARY:Pilates at the ACOC with Michelle Moore Fitness Nutrition and Wellness
DESCRIPTION:
URL:https://www.angierchamber.org/event/pilates-at-the-acoc-with-michelle-moore-fitness-nutrition-and-wellness-33/2028-12-18/
LOCATION:Angier Chamber of Commerce\, United States
ATTACH;FMTTYPE=image/jpeg:https://www.angierchamber.org/wp-content/uploads/2026/01/617088567_904447205625246_9066359168838215526_n.jpg
ORGANIZER;CN="Michelle Moore Fitness%2C Nutrition%2C and Wellness":MAILTO:Mmooreblessed@gmail.com
END:VEVENT
BEGIN:VEVENT
DTSTART;TZID=UTC:20281218T183000
DTEND;TZID=UTC:20281218T200000
DTSTAMP:20260426T000740
CREATED:20260324T142223Z
LAST-MODIFIED:20260324T142225Z
UID:10001502-1860777000-1860782400@www.angierchamber.org
SUMMARY:Trivia Night at Napper Tandy's
DESCRIPTION:
URL:https://www.angierchamber.org/event/trivia-night-at-napper-tandys-35/2028-12-18/
LOCATION:Napper Tandy’s Public House and Restaurant\, 27 South Broad Street East\, Angier\, NC\, 27501\, United States
ATTACH;FMTTYPE=image/jpeg:https://www.angierchamber.org/wp-content/uploads/2026/03/657271056_122155671776655911_2309681187732823349_n.jpg
END:VEVENT
BEGIN:VEVENT
DTSTART;TZID=UTC:20281219T203000
DTEND;TZID=UTC:20281219T233000
DTSTAMP:20260426T000740
CREATED:20260324T144321Z
LAST-MODIFIED:20260324T144322Z
UID:10002282-1860870600-1860881400@www.angierchamber.org
SUMMARY:Karaoke with Napper Tandy's
DESCRIPTION:
URL:https://www.angierchamber.org/event/karaoke-with-napper-tandys-27/2028-12-19/
LOCATION:Napper Tandy’s Public House and Restaurant\, 27 South Broad Street East\, Angier\, NC\, 27501\, United States
ATTACH;FMTTYPE=image/jpeg:https://www.angierchamber.org/wp-content/uploads/2026/03/641291512_122153514836655911_8995511338422010505_n.jpg
END:VEVENT
BEGIN:VEVENT
DTSTART;TZID=UTC:20281220T180000
DTEND;TZID=UTC:20281220T190000
DTSTAMP:20260426T000740
CREATED:20260324T151013Z
LAST-MODIFIED:20260324T151013Z
UID:10002944-1860948000-1860951600@www.angierchamber.org
SUMMARY:Pilates at the ACOC with Michelle Moore Fitness Nutrition and Wellness
DESCRIPTION:
URL:https://www.angierchamber.org/event/pilates-at-the-acoc-with-michelle-moore-fitness-nutrition-and-wellness-33/2028-12-20/
LOCATION:Angier Chamber of Commerce\, United States
ATTACH;FMTTYPE=image/jpeg:https://www.angierchamber.org/wp-content/uploads/2026/01/617088567_904447205625246_9066359168838215526_n.jpg
ORGANIZER;CN="Michelle Moore Fitness%2C Nutrition%2C and Wellness":MAILTO:Mmooreblessed@gmail.com
END:VEVENT
BEGIN:VEVENT
DTSTART;TZID=UTC:20281220T190000
DTEND;TZID=UTC:20281220T210000
DTSTAMP:20260426T000740
CREATED:20260331T171810Z
LAST-MODIFIED:20260331T171812Z
UID:10004368-1860951600-1860958800@www.angierchamber.org
SUMMARY:Music Bingo at Wingin' It Angier
DESCRIPTION:
URL:https://www.angierchamber.org/event/music-bingo-at-wingin-it-angier-15/2028-12-20/
ATTACH;FMTTYPE=image/jpeg:https://www.angierchamber.org/wp-content/uploads/2026/03/605521972_752695044536569_1332439597071758233_n.jpg
END:VEVENT
BEGIN:VEVENT
DTSTART;TZID=UTC:20281220T193000
DTEND;TZID=UTC:20281220T210000
DTSTAMP:20260426T000740
CREATED:20260324T143507Z
LAST-MODIFIED:20260324T143509Z
UID:10001763-1860953400-1860958800@www.angierchamber.org
SUMMARY:Music Bingo with Napper Tandy's
DESCRIPTION:
URL:https://www.angierchamber.org/event/music-bingo-with-napper-tandys-31/2028-12-20/
LOCATION:Napper Tandy’s Public House and Restaurant\, 27 South Broad Street East\, Angier\, NC\, 27501\, United States
ATTACH;FMTTYPE=image/jpeg:https://www.angierchamber.org/wp-content/uploads/2026/03/650037872_122154752276655911_6133479155675057403_n-1.jpg
END:VEVENT
BEGIN:VEVENT
DTSTART;TZID=UTC:20281221T100000
DTEND;TZID=UTC:20281221T110000
DTSTAMP:20260426T000740
CREATED:20260324T152952Z
LAST-MODIFIED:20260324T152953Z
UID:10003322-1861005600-1861009200@www.angierchamber.org
SUMMARY:Kinder Jam with Ellington Studios
DESCRIPTION:
URL:https://www.angierchamber.org/event/kinder-jam-with-ellington-studios-11/2028-12-21/
LOCATION:Ellington Studios\, 54 South Raleigh Street\, Angier\, NC\, 27501\, United States
ATTACH;FMTTYPE=image/jpeg:https://www.angierchamber.org/wp-content/uploads/2026/03/639801297_1513474750784835_8899907419205944968_n.jpg
END:VEVENT
BEGIN:VEVENT
DTSTART;TZID=UTC:20281221T150000
DTEND;TZID=UTC:20281221T160000
DTSTAMP:20260426T000740
CREATED:20260324T153839Z
LAST-MODIFIED:20260324T153847Z
UID:10003842-1861023600-1861027200@www.angierchamber.org
SUMMARY:The Groove Lab with Ellington Studios
DESCRIPTION:
URL:https://www.angierchamber.org/event/the-groove-lab-with-ellington-studios-5/2028-12-21/
END:VEVENT
BEGIN:VEVENT
DTSTART;TZID=UTC:20281221T181500
DTEND;TZID=UTC:20281221T190000
DTSTAMP:20260426T000740
CREATED:20260324T153156Z
LAST-MODIFIED:20260324T153206Z
UID:10003582-1861035300-1861038000@www.angierchamber.org
SUMMARY:SYNC with Ellington Studios
DESCRIPTION:
URL:https://www.angierchamber.org/event/sync-with-ellington-studios-9/2028-12-21/
ATTACH;FMTTYPE=image/jpeg:https://www.angierchamber.org/wp-content/uploads/2026/03/641447150_1513474977451479_3178505079463523577_n.jpg
END:VEVENT
BEGIN:VEVENT
DTSTART;TZID=UTC:20281221T190000
DTEND;TZID=UTC:20281221T200000
DTSTAMP:20260426T000740
CREATED:20260324T150258Z
LAST-MODIFIED:20260324T150259Z
UID:10002550-1861038000-1861041600@www.angierchamber.org
SUMMARY:Cardio Dance Class with HC Nutrition
DESCRIPTION:
URL:https://www.angierchamber.org/event/cardio-dance-class-with-hc-nutrition-6/2028-12-21/
LOCATION:HC Nutrition\, 559 N. Raleigh St.\, Suite A\, Angier\, NC\, 27501
ATTACH;FMTTYPE=image/jpeg:https://www.angierchamber.org/wp-content/uploads/2026/03/639508671_17914701927306163_5314855391373256172_n.jpg
END:VEVENT
BEGIN:VEVENT
DTSTART;TZID=UTC:20281222T203000
DTEND;TZID=UTC:20281222T233000
DTSTAMP:20260426T000740
CREATED:20260324T143803Z
LAST-MODIFIED:20260324T143835Z
UID:10002023-1861129800-1861140600@www.angierchamber.org
SUMMARY:DJ Night with Napper Tandy's
DESCRIPTION:
URL:https://www.angierchamber.org/event/dj-night-with-napper-tandys/2028-12-22/
ATTACH;FMTTYPE=image/jpeg:https://www.angierchamber.org/wp-content/uploads/2026/03/647242600_122154372038655911_4692375131809390416_n.jpg
END:VEVENT
BEGIN:VEVENT
DTSTART;TZID=UTC:20281223T210000
DTEND;TZID=UTC:20281223T233000
DTSTAMP:20260426T000740
CREATED:20260331T170507Z
LAST-MODIFIED:20260331T170656Z
UID:10004107-1861218000-1861227000@www.angierchamber.org
SUMMARY:Live Music at Napper Tandy's Public House & Restaurant
DESCRIPTION:
URL:https://www.angierchamber.org/event/live-music-at-napper-tandys-public-house-restaurant-66/2028-12-23/
ATTACH;FMTTYPE=image/jpeg:https://www.angierchamber.org/wp-content/uploads/2025/07/live-music-header-1.jpg
END:VEVENT
BEGIN:VEVENT
DTSTART;TZID=UTC:20281225T180000
DTEND;TZID=UTC:20281225T190000
DTSTAMP:20260426T000741
CREATED:20260324T151013Z
LAST-MODIFIED:20260324T151013Z
UID:10002945-1861380000-1861383600@www.angierchamber.org
SUMMARY:Pilates at the ACOC with Michelle Moore Fitness Nutrition and Wellness
DESCRIPTION:
URL:https://www.angierchamber.org/event/pilates-at-the-acoc-with-michelle-moore-fitness-nutrition-and-wellness-33/2028-12-25/
LOCATION:Angier Chamber of Commerce\, United States
ATTACH;FMTTYPE=image/jpeg:https://www.angierchamber.org/wp-content/uploads/2026/01/617088567_904447205625246_9066359168838215526_n.jpg
ORGANIZER;CN="Michelle Moore Fitness%2C Nutrition%2C and Wellness":MAILTO:Mmooreblessed@gmail.com
END:VEVENT
BEGIN:VEVENT
DTSTART;TZID=UTC:20281225T183000
DTEND;TZID=UTC:20281225T200000
DTSTAMP:20260426T000741
CREATED:20260324T142223Z
LAST-MODIFIED:20260324T142225Z
UID:10001503-1861381800-1861387200@www.angierchamber.org
SUMMARY:Trivia Night at Napper Tandy's
DESCRIPTION:
URL:https://www.angierchamber.org/event/trivia-night-at-napper-tandys-35/2028-12-25/
LOCATION:Napper Tandy’s Public House and Restaurant\, 27 South Broad Street East\, Angier\, NC\, 27501\, United States
ATTACH;FMTTYPE=image/jpeg:https://www.angierchamber.org/wp-content/uploads/2026/03/657271056_122155671776655911_2309681187732823349_n.jpg
END:VEVENT
BEGIN:VEVENT
DTSTART;TZID=UTC:20281226T203000
DTEND;TZID=UTC:20281226T233000
DTSTAMP:20260426T000741
CREATED:20260324T144321Z
LAST-MODIFIED:20260324T144322Z
UID:10002283-1861475400-1861486200@www.angierchamber.org
SUMMARY:Karaoke with Napper Tandy's
DESCRIPTION:
URL:https://www.angierchamber.org/event/karaoke-with-napper-tandys-27/2028-12-26/
LOCATION:Napper Tandy’s Public House and Restaurant\, 27 South Broad Street East\, Angier\, NC\, 27501\, United States
ATTACH;FMTTYPE=image/jpeg:https://www.angierchamber.org/wp-content/uploads/2026/03/641291512_122153514836655911_8995511338422010505_n.jpg
END:VEVENT
BEGIN:VEVENT
DTSTART;TZID=UTC:20281227T180000
DTEND;TZID=UTC:20281227T190000
DTSTAMP:20260426T000741
CREATED:20260324T151013Z
LAST-MODIFIED:20260324T151013Z
UID:10002946-1861552800-1861556400@www.angierchamber.org
SUMMARY:Pilates at the ACOC with Michelle Moore Fitness Nutrition and Wellness
DESCRIPTION:
URL:https://www.angierchamber.org/event/pilates-at-the-acoc-with-michelle-moore-fitness-nutrition-and-wellness-33/2028-12-27/
LOCATION:Angier Chamber of Commerce\, United States
ATTACH;FMTTYPE=image/jpeg:https://www.angierchamber.org/wp-content/uploads/2026/01/617088567_904447205625246_9066359168838215526_n.jpg
ORGANIZER;CN="Michelle Moore Fitness%2C Nutrition%2C and Wellness":MAILTO:Mmooreblessed@gmail.com
END:VEVENT
BEGIN:VEVENT
DTSTART;TZID=UTC:20281227T190000
DTEND;TZID=UTC:20281227T210000
DTSTAMP:20260426T000741
CREATED:20260331T171810Z
LAST-MODIFIED:20260331T171812Z
UID:10004369-1861556400-1861563600@www.angierchamber.org
SUMMARY:Music Bingo at Wingin' It Angier
DESCRIPTION:
URL:https://www.angierchamber.org/event/music-bingo-at-wingin-it-angier-15/2028-12-27/
ATTACH;FMTTYPE=image/jpeg:https://www.angierchamber.org/wp-content/uploads/2026/03/605521972_752695044536569_1332439597071758233_n.jpg
END:VEVENT
BEGIN:VEVENT
DTSTART;TZID=UTC:20281227T193000
DTEND;TZID=UTC:20281227T210000
DTSTAMP:20260426T000741
CREATED:20260324T143507Z
LAST-MODIFIED:20260324T143509Z
UID:10001764-1861558200-1861563600@www.angierchamber.org
SUMMARY:Music Bingo with Napper Tandy's
DESCRIPTION:
URL:https://www.angierchamber.org/event/music-bingo-with-napper-tandys-31/2028-12-27/
LOCATION:Napper Tandy’s Public House and Restaurant\, 27 South Broad Street East\, Angier\, NC\, 27501\, United States
ATTACH;FMTTYPE=image/jpeg:https://www.angierchamber.org/wp-content/uploads/2026/03/650037872_122154752276655911_6133479155675057403_n-1.jpg
END:VEVENT
BEGIN:VEVENT
DTSTART;TZID=UTC:20281228T100000
DTEND;TZID=UTC:20281228T110000
DTSTAMP:20260426T000741
CREATED:20260324T152952Z
LAST-MODIFIED:20260324T152953Z
UID:10003323-1861610400-1861614000@www.angierchamber.org
SUMMARY:Kinder Jam with Ellington Studios
DESCRIPTION:
URL:https://www.angierchamber.org/event/kinder-jam-with-ellington-studios-11/2028-12-28/
LOCATION:Ellington Studios\, 54 South Raleigh Street\, Angier\, NC\, 27501\, United States
ATTACH;FMTTYPE=image/jpeg:https://www.angierchamber.org/wp-content/uploads/2026/03/639801297_1513474750784835_8899907419205944968_n.jpg
END:VEVENT
BEGIN:VEVENT
DTSTART;TZID=UTC:20281228T150000
DTEND;TZID=UTC:20281228T160000
DTSTAMP:20260426T000741
CREATED:20260324T153839Z
LAST-MODIFIED:20260324T153847Z
UID:10003843-1861628400-1861632000@www.angierchamber.org
SUMMARY:The Groove Lab with Ellington Studios
DESCRIPTION:
URL:https://www.angierchamber.org/event/the-groove-lab-with-ellington-studios-5/2028-12-28/
END:VEVENT
BEGIN:VEVENT
DTSTART;TZID=UTC:20281228T181500
DTEND;TZID=UTC:20281228T190000
DTSTAMP:20260426T000741
CREATED:20260324T153156Z
LAST-MODIFIED:20260324T153206Z
UID:10003583-1861640100-1861642800@www.angierchamber.org
SUMMARY:SYNC with Ellington Studios
DESCRIPTION:
URL:https://www.angierchamber.org/event/sync-with-ellington-studios-9/2028-12-28/
ATTACH;FMTTYPE=image/jpeg:https://www.angierchamber.org/wp-content/uploads/2026/03/641447150_1513474977451479_3178505079463523577_n.jpg
END:VEVENT
BEGIN:VEVENT
DTSTART;TZID=UTC:20281228T190000
DTEND;TZID=UTC:20281228T200000
DTSTAMP:20260426T000741
CREATED:20260324T150258Z
LAST-MODIFIED:20260324T150259Z
UID:10002551-1861642800-1861646400@www.angierchamber.org
SUMMARY:Cardio Dance Class with HC Nutrition
DESCRIPTION:
URL:https://www.angierchamber.org/event/cardio-dance-class-with-hc-nutrition-6/2028-12-28/
LOCATION:HC Nutrition\, 559 N. Raleigh St.\, Suite A\, Angier\, NC\, 27501
ATTACH;FMTTYPE=image/jpeg:https://www.angierchamber.org/wp-content/uploads/2026/03/639508671_17914701927306163_5314855391373256172_n.jpg
END:VEVENT
BEGIN:VEVENT
DTSTART;TZID=UTC:20281229T203000
DTEND;TZID=UTC:20281229T233000
DTSTAMP:20260426T000741
CREATED:20260324T143803Z
LAST-MODIFIED:20260324T143835Z
UID:10002024-1861734600-1861745400@www.angierchamber.org
SUMMARY:DJ Night with Napper Tandy's
DESCRIPTION:
URL:https://www.angierchamber.org/event/dj-night-with-napper-tandys/2028-12-29/
ATTACH;FMTTYPE=image/jpeg:https://www.angierchamber.org/wp-content/uploads/2026/03/647242600_122154372038655911_4692375131809390416_n.jpg
END:VEVENT
BEGIN:VEVENT
DTSTART;TZID=UTC:20281230T210000
DTEND;TZID=UTC:20281230T233000
DTSTAMP:20260426T000741
CREATED:20260331T170507Z
LAST-MODIFIED:20260331T170656Z
UID:10004108-1861822800-1861831800@www.angierchamber.org
SUMMARY:Live Music at Napper Tandy's Public House & Restaurant
DESCRIPTION:
URL:https://www.angierchamber.org/event/live-music-at-napper-tandys-public-house-restaurant-66/2028-12-30/
ATTACH;FMTTYPE=image/jpeg:https://www.angierchamber.org/wp-content/uploads/2025/07/live-music-header-1.jpg
END:VEVENT
BEGIN:VEVENT
DTSTART;TZID=UTC:20290101T180000
DTEND;TZID=UTC:20290101T190000
DTSTAMP:20260426T000741
CREATED:20260324T151013Z
LAST-MODIFIED:20260324T151013Z
UID:10002947-1861984800-1861988400@www.angierchamber.org
SUMMARY:Pilates at the ACOC with Michelle Moore Fitness Nutrition and Wellness
DESCRIPTION:
URL:https://www.angierchamber.org/event/pilates-at-the-acoc-with-michelle-moore-fitness-nutrition-and-wellness-33/2029-01-01/
LOCATION:Angier Chamber of Commerce\, United States
ATTACH;FMTTYPE=image/jpeg:https://www.angierchamber.org/wp-content/uploads/2026/01/617088567_904447205625246_9066359168838215526_n.jpg
ORGANIZER;CN="Michelle Moore Fitness%2C Nutrition%2C and Wellness":MAILTO:Mmooreblessed@gmail.com
END:VEVENT
BEGIN:VEVENT
DTSTART;TZID=UTC:20290101T183000
DTEND;TZID=UTC:20290101T200000
DTSTAMP:20260426T000741
CREATED:20260324T142223Z
LAST-MODIFIED:20260324T142225Z
UID:10001504-1861986600-1861992000@www.angierchamber.org
SUMMARY:Trivia Night at Napper Tandy's
DESCRIPTION:
URL:https://www.angierchamber.org/event/trivia-night-at-napper-tandys-35/2029-01-01/
LOCATION:Napper Tandy’s Public House and Restaurant\, 27 South Broad Street East\, Angier\, NC\, 27501\, United States
ATTACH;FMTTYPE=image/jpeg:https://www.angierchamber.org/wp-content/uploads/2026/03/657271056_122155671776655911_2309681187732823349_n.jpg
END:VEVENT
BEGIN:VEVENT
DTSTART;TZID=UTC:20290102T203000
DTEND;TZID=UTC:20290102T233000
DTSTAMP:20260426T000741
CREATED:20260324T144321Z
LAST-MODIFIED:20260324T144322Z
UID:10002284-1862080200-1862091000@www.angierchamber.org
SUMMARY:Karaoke with Napper Tandy's
DESCRIPTION:
URL:https://www.angierchamber.org/event/karaoke-with-napper-tandys-27/2029-01-02/
LOCATION:Napper Tandy’s Public House and Restaurant\, 27 South Broad Street East\, Angier\, NC\, 27501\, United States
ATTACH;FMTTYPE=image/jpeg:https://www.angierchamber.org/wp-content/uploads/2026/03/641291512_122153514836655911_8995511338422010505_n.jpg
END:VEVENT
BEGIN:VEVENT
DTSTART;TZID=UTC:20290103T180000
DTEND;TZID=UTC:20290103T190000
DTSTAMP:20260426T000741
CREATED:20260324T151013Z
LAST-MODIFIED:20260324T151013Z
UID:10002948-1862157600-1862161200@www.angierchamber.org
SUMMARY:Pilates at the ACOC with Michelle Moore Fitness Nutrition and Wellness
DESCRIPTION:
URL:https://www.angierchamber.org/event/pilates-at-the-acoc-with-michelle-moore-fitness-nutrition-and-wellness-33/2029-01-03/
LOCATION:Angier Chamber of Commerce\, United States
ATTACH;FMTTYPE=image/jpeg:https://www.angierchamber.org/wp-content/uploads/2026/01/617088567_904447205625246_9066359168838215526_n.jpg
ORGANIZER;CN="Michelle Moore Fitness%2C Nutrition%2C and Wellness":MAILTO:Mmooreblessed@gmail.com
END:VEVENT
BEGIN:VEVENT
DTSTART;TZID=UTC:20290103T190000
DTEND;TZID=UTC:20290103T210000
DTSTAMP:20260426T000741
CREATED:20260331T171810Z
LAST-MODIFIED:20260331T171812Z
UID:10004370-1862161200-1862168400@www.angierchamber.org
SUMMARY:Music Bingo at Wingin' It Angier
DESCRIPTION:
URL:https://www.angierchamber.org/event/music-bingo-at-wingin-it-angier-15/2029-01-03/
ATTACH;FMTTYPE=image/jpeg:https://www.angierchamber.org/wp-content/uploads/2026/03/605521972_752695044536569_1332439597071758233_n.jpg
END:VEVENT
BEGIN:VEVENT
DTSTART;TZID=UTC:20290103T193000
DTEND;TZID=UTC:20290103T210000
DTSTAMP:20260426T000741
CREATED:20260324T143507Z
LAST-MODIFIED:20260324T143509Z
UID:10001765-1862163000-1862168400@www.angierchamber.org
SUMMARY:Music Bingo with Napper Tandy's
DESCRIPTION:
URL:https://www.angierchamber.org/event/music-bingo-with-napper-tandys-31/2029-01-03/
LOCATION:Napper Tandy’s Public House and Restaurant\, 27 South Broad Street East\, Angier\, NC\, 27501\, United States
ATTACH;FMTTYPE=image/jpeg:https://www.angierchamber.org/wp-content/uploads/2026/03/650037872_122154752276655911_6133479155675057403_n-1.jpg
END:VEVENT
END:VCALENDAR