BEGIN:VCALENDAR
VERSION:2.0
PRODID:-//Angier Chamber of Commerce - ECPv6.15.18//NONSGML v1.0//EN
CALSCALE:GREGORIAN
METHOD:PUBLISH
X-ORIGINAL-URL:https://www.angierchamber.org
X-WR-CALDESC:Events for Angier Chamber of Commerce
REFRESH-INTERVAL;VALUE=DURATION:PT1H
X-Robots-Tag:noindex
X-PUBLISHED-TTL:PT1H
BEGIN:VTIMEZONE
TZID:UTC
BEGIN:STANDARD
TZOFFSETFROM:+0000
TZOFFSETTO:+0000
TZNAME:UTC
DTSTART:20270101T000000
END:STANDARD
END:VTIMEZONE
BEGIN:VEVENT
DTSTART;TZID=UTC:20281024T203000
DTEND;TZID=UTC:20281024T233000
DTSTAMP:20260425T112821
CREATED:20260324T144321Z
LAST-MODIFIED:20260324T144322Z
UID:10002274-1856032200-1856043000@www.angierchamber.org
SUMMARY:Karaoke with Napper Tandy's
DESCRIPTION:
URL:https://www.angierchamber.org/event/karaoke-with-napper-tandys-27/2028-10-24/
LOCATION:Napper Tandy’s Public House and Restaurant\, 27 South Broad Street East\, Angier\, NC\, 27501\, United States
ATTACH;FMTTYPE=image/jpeg:https://www.angierchamber.org/wp-content/uploads/2026/03/641291512_122153514836655911_8995511338422010505_n.jpg
END:VEVENT
BEGIN:VEVENT
DTSTART;TZID=UTC:20281025T180000
DTEND;TZID=UTC:20281025T190000
DTSTAMP:20260425T112821
CREATED:20260324T151013Z
LAST-MODIFIED:20260324T151013Z
UID:10002928-1856109600-1856113200@www.angierchamber.org
SUMMARY:Pilates at the ACOC with Michelle Moore Fitness Nutrition and Wellness
DESCRIPTION:
URL:https://www.angierchamber.org/event/pilates-at-the-acoc-with-michelle-moore-fitness-nutrition-and-wellness-33/2028-10-25/
LOCATION:Angier Chamber of Commerce\, United States
ATTACH;FMTTYPE=image/jpeg:https://www.angierchamber.org/wp-content/uploads/2026/01/617088567_904447205625246_9066359168838215526_n.jpg
ORGANIZER;CN="Michelle Moore Fitness%2C Nutrition%2C and Wellness":MAILTO:Mmooreblessed@gmail.com
END:VEVENT
BEGIN:VEVENT
DTSTART;TZID=UTC:20281025T190000
DTEND;TZID=UTC:20281025T210000
DTSTAMP:20260425T112821
CREATED:20260331T171810Z
LAST-MODIFIED:20260331T171812Z
UID:10004360-1856113200-1856120400@www.angierchamber.org
SUMMARY:Music Bingo at Wingin' It Angier
DESCRIPTION:
URL:https://www.angierchamber.org/event/music-bingo-at-wingin-it-angier-15/2028-10-25/
ATTACH;FMTTYPE=image/jpeg:https://www.angierchamber.org/wp-content/uploads/2026/03/605521972_752695044536569_1332439597071758233_n.jpg
END:VEVENT
BEGIN:VEVENT
DTSTART;TZID=UTC:20281025T193000
DTEND;TZID=UTC:20281025T210000
DTSTAMP:20260425T112821
CREATED:20260324T143507Z
LAST-MODIFIED:20260324T143509Z
UID:10001755-1856115000-1856120400@www.angierchamber.org
SUMMARY:Music Bingo with Napper Tandy's
DESCRIPTION:
URL:https://www.angierchamber.org/event/music-bingo-with-napper-tandys-31/2028-10-25/
LOCATION:Napper Tandy’s Public House and Restaurant\, 27 South Broad Street East\, Angier\, NC\, 27501\, United States
ATTACH;FMTTYPE=image/jpeg:https://www.angierchamber.org/wp-content/uploads/2026/03/650037872_122154752276655911_6133479155675057403_n-1.jpg
END:VEVENT
BEGIN:VEVENT
DTSTART;TZID=UTC:20281026T100000
DTEND;TZID=UTC:20281026T110000
DTSTAMP:20260425T112821
CREATED:20260324T152952Z
LAST-MODIFIED:20260324T152953Z
UID:10003314-1856167200-1856170800@www.angierchamber.org
SUMMARY:Kinder Jam with Ellington Studios
DESCRIPTION:
URL:https://www.angierchamber.org/event/kinder-jam-with-ellington-studios-11/2028-10-26/
LOCATION:Ellington Studios\, 54 South Raleigh Street\, Angier\, NC\, 27501\, United States
ATTACH;FMTTYPE=image/jpeg:https://www.angierchamber.org/wp-content/uploads/2026/03/639801297_1513474750784835_8899907419205944968_n.jpg
END:VEVENT
BEGIN:VEVENT
DTSTART;TZID=UTC:20281026T150000
DTEND;TZID=UTC:20281026T160000
DTSTAMP:20260425T112821
CREATED:20260324T153839Z
LAST-MODIFIED:20260324T153847Z
UID:10003834-1856185200-1856188800@www.angierchamber.org
SUMMARY:The Groove Lab with Ellington Studios
DESCRIPTION:
URL:https://www.angierchamber.org/event/the-groove-lab-with-ellington-studios-5/2028-10-26/
END:VEVENT
BEGIN:VEVENT
DTSTART;TZID=UTC:20281026T181500
DTEND;TZID=UTC:20281026T190000
DTSTAMP:20260425T112821
CREATED:20260324T153156Z
LAST-MODIFIED:20260324T153206Z
UID:10003574-1856196900-1856199600@www.angierchamber.org
SUMMARY:SYNC with Ellington Studios
DESCRIPTION:
URL:https://www.angierchamber.org/event/sync-with-ellington-studios-9/2028-10-26/
ATTACH;FMTTYPE=image/jpeg:https://www.angierchamber.org/wp-content/uploads/2026/03/641447150_1513474977451479_3178505079463523577_n.jpg
END:VEVENT
BEGIN:VEVENT
DTSTART;TZID=UTC:20281026T190000
DTEND;TZID=UTC:20281026T200000
DTSTAMP:20260425T112821
CREATED:20260324T150258Z
LAST-MODIFIED:20260324T150259Z
UID:10002542-1856199600-1856203200@www.angierchamber.org
SUMMARY:Cardio Dance Class with HC Nutrition
DESCRIPTION:
URL:https://www.angierchamber.org/event/cardio-dance-class-with-hc-nutrition-6/2028-10-26/
LOCATION:HC Nutrition\, 559 N. Raleigh St.\, Suite A\, Angier\, NC\, 27501
ATTACH;FMTTYPE=image/jpeg:https://www.angierchamber.org/wp-content/uploads/2026/03/639508671_17914701927306163_5314855391373256172_n.jpg
END:VEVENT
BEGIN:VEVENT
DTSTART;TZID=UTC:20281027T203000
DTEND;TZID=UTC:20281027T233000
DTSTAMP:20260425T112821
CREATED:20260324T143803Z
LAST-MODIFIED:20260324T143835Z
UID:10002015-1856291400-1856302200@www.angierchamber.org
SUMMARY:DJ Night with Napper Tandy's
DESCRIPTION:
URL:https://www.angierchamber.org/event/dj-night-with-napper-tandys/2028-10-27/
ATTACH;FMTTYPE=image/jpeg:https://www.angierchamber.org/wp-content/uploads/2026/03/647242600_122154372038655911_4692375131809390416_n.jpg
END:VEVENT
BEGIN:VEVENT
DTSTART;TZID=UTC:20281028T210000
DTEND;TZID=UTC:20281028T233000
DTSTAMP:20260425T112821
CREATED:20260331T170507Z
LAST-MODIFIED:20260331T170656Z
UID:10004099-1856379600-1856388600@www.angierchamber.org
SUMMARY:Live Music at Napper Tandy's Public House & Restaurant
DESCRIPTION:
URL:https://www.angierchamber.org/event/live-music-at-napper-tandys-public-house-restaurant-66/2028-10-28/
ATTACH;FMTTYPE=image/jpeg:https://www.angierchamber.org/wp-content/uploads/2025/07/live-music-header-1.jpg
END:VEVENT
BEGIN:VEVENT
DTSTART;TZID=UTC:20281030T180000
DTEND;TZID=UTC:20281030T190000
DTSTAMP:20260425T112821
CREATED:20260324T151013Z
LAST-MODIFIED:20260324T151013Z
UID:10002929-1856541600-1856545200@www.angierchamber.org
SUMMARY:Pilates at the ACOC with Michelle Moore Fitness Nutrition and Wellness
DESCRIPTION:
URL:https://www.angierchamber.org/event/pilates-at-the-acoc-with-michelle-moore-fitness-nutrition-and-wellness-33/2028-10-30/
LOCATION:Angier Chamber of Commerce\, United States
ATTACH;FMTTYPE=image/jpeg:https://www.angierchamber.org/wp-content/uploads/2026/01/617088567_904447205625246_9066359168838215526_n.jpg
ORGANIZER;CN="Michelle Moore Fitness%2C Nutrition%2C and Wellness":MAILTO:Mmooreblessed@gmail.com
END:VEVENT
BEGIN:VEVENT
DTSTART;TZID=UTC:20281030T183000
DTEND;TZID=UTC:20281030T200000
DTSTAMP:20260425T112821
CREATED:20260324T142223Z
LAST-MODIFIED:20260324T142225Z
UID:10001495-1856543400-1856548800@www.angierchamber.org
SUMMARY:Trivia Night at Napper Tandy's
DESCRIPTION:
URL:https://www.angierchamber.org/event/trivia-night-at-napper-tandys-35/2028-10-30/
LOCATION:Napper Tandy’s Public House and Restaurant\, 27 South Broad Street East\, Angier\, NC\, 27501\, United States
ATTACH;FMTTYPE=image/jpeg:https://www.angierchamber.org/wp-content/uploads/2026/03/657271056_122155671776655911_2309681187732823349_n.jpg
END:VEVENT
BEGIN:VEVENT
DTSTART;TZID=UTC:20281031T203000
DTEND;TZID=UTC:20281031T233000
DTSTAMP:20260425T112821
CREATED:20260324T144321Z
LAST-MODIFIED:20260324T144322Z
UID:10002275-1856637000-1856647800@www.angierchamber.org
SUMMARY:Karaoke with Napper Tandy's
DESCRIPTION:
URL:https://www.angierchamber.org/event/karaoke-with-napper-tandys-27/2028-10-31/
LOCATION:Napper Tandy’s Public House and Restaurant\, 27 South Broad Street East\, Angier\, NC\, 27501\, United States
ATTACH;FMTTYPE=image/jpeg:https://www.angierchamber.org/wp-content/uploads/2026/03/641291512_122153514836655911_8995511338422010505_n.jpg
END:VEVENT
BEGIN:VEVENT
DTSTART;TZID=UTC:20281101T180000
DTEND;TZID=UTC:20281101T190000
DTSTAMP:20260425T112821
CREATED:20260324T151013Z
LAST-MODIFIED:20260324T151013Z
UID:10002930-1856714400-1856718000@www.angierchamber.org
SUMMARY:Pilates at the ACOC with Michelle Moore Fitness Nutrition and Wellness
DESCRIPTION:
URL:https://www.angierchamber.org/event/pilates-at-the-acoc-with-michelle-moore-fitness-nutrition-and-wellness-33/2028-11-01/
LOCATION:Angier Chamber of Commerce\, United States
ATTACH;FMTTYPE=image/jpeg:https://www.angierchamber.org/wp-content/uploads/2026/01/617088567_904447205625246_9066359168838215526_n.jpg
ORGANIZER;CN="Michelle Moore Fitness%2C Nutrition%2C and Wellness":MAILTO:Mmooreblessed@gmail.com
END:VEVENT
BEGIN:VEVENT
DTSTART;TZID=UTC:20281101T190000
DTEND;TZID=UTC:20281101T210000
DTSTAMP:20260425T112821
CREATED:20260331T171810Z
LAST-MODIFIED:20260331T171812Z
UID:10004361-1856718000-1856725200@www.angierchamber.org
SUMMARY:Music Bingo at Wingin' It Angier
DESCRIPTION:
URL:https://www.angierchamber.org/event/music-bingo-at-wingin-it-angier-15/2028-11-01/
ATTACH;FMTTYPE=image/jpeg:https://www.angierchamber.org/wp-content/uploads/2026/03/605521972_752695044536569_1332439597071758233_n.jpg
END:VEVENT
BEGIN:VEVENT
DTSTART;TZID=UTC:20281101T193000
DTEND;TZID=UTC:20281101T210000
DTSTAMP:20260425T112821
CREATED:20260324T143507Z
LAST-MODIFIED:20260324T143509Z
UID:10001756-1856719800-1856725200@www.angierchamber.org
SUMMARY:Music Bingo with Napper Tandy's
DESCRIPTION:
URL:https://www.angierchamber.org/event/music-bingo-with-napper-tandys-31/2028-11-01/
LOCATION:Napper Tandy’s Public House and Restaurant\, 27 South Broad Street East\, Angier\, NC\, 27501\, United States
ATTACH;FMTTYPE=image/jpeg:https://www.angierchamber.org/wp-content/uploads/2026/03/650037872_122154752276655911_6133479155675057403_n-1.jpg
END:VEVENT
BEGIN:VEVENT
DTSTART;TZID=UTC:20281102T100000
DTEND;TZID=UTC:20281102T110000
DTSTAMP:20260425T112821
CREATED:20260324T152952Z
LAST-MODIFIED:20260324T152953Z
UID:10003315-1856772000-1856775600@www.angierchamber.org
SUMMARY:Kinder Jam with Ellington Studios
DESCRIPTION:
URL:https://www.angierchamber.org/event/kinder-jam-with-ellington-studios-11/2028-11-02/
LOCATION:Ellington Studios\, 54 South Raleigh Street\, Angier\, NC\, 27501\, United States
ATTACH;FMTTYPE=image/jpeg:https://www.angierchamber.org/wp-content/uploads/2026/03/639801297_1513474750784835_8899907419205944968_n.jpg
END:VEVENT
BEGIN:VEVENT
DTSTART;TZID=UTC:20281102T150000
DTEND;TZID=UTC:20281102T160000
DTSTAMP:20260425T112821
CREATED:20260324T153839Z
LAST-MODIFIED:20260324T153847Z
UID:10003835-1856790000-1856793600@www.angierchamber.org
SUMMARY:The Groove Lab with Ellington Studios
DESCRIPTION:
URL:https://www.angierchamber.org/event/the-groove-lab-with-ellington-studios-5/2028-11-02/
END:VEVENT
BEGIN:VEVENT
DTSTART;TZID=UTC:20281102T181500
DTEND;TZID=UTC:20281102T190000
DTSTAMP:20260425T112821
CREATED:20260324T153156Z
LAST-MODIFIED:20260324T153206Z
UID:10003575-1856801700-1856804400@www.angierchamber.org
SUMMARY:SYNC with Ellington Studios
DESCRIPTION:
URL:https://www.angierchamber.org/event/sync-with-ellington-studios-9/2028-11-02/
ATTACH;FMTTYPE=image/jpeg:https://www.angierchamber.org/wp-content/uploads/2026/03/641447150_1513474977451479_3178505079463523577_n.jpg
END:VEVENT
BEGIN:VEVENT
DTSTART;TZID=UTC:20281102T190000
DTEND;TZID=UTC:20281102T200000
DTSTAMP:20260425T112821
CREATED:20260324T150258Z
LAST-MODIFIED:20260324T150259Z
UID:10002543-1856804400-1856808000@www.angierchamber.org
SUMMARY:Cardio Dance Class with HC Nutrition
DESCRIPTION:
URL:https://www.angierchamber.org/event/cardio-dance-class-with-hc-nutrition-6/2028-11-02/
LOCATION:HC Nutrition\, 559 N. Raleigh St.\, Suite A\, Angier\, NC\, 27501
ATTACH;FMTTYPE=image/jpeg:https://www.angierchamber.org/wp-content/uploads/2026/03/639508671_17914701927306163_5314855391373256172_n.jpg
END:VEVENT
BEGIN:VEVENT
DTSTART;TZID=UTC:20281103T203000
DTEND;TZID=UTC:20281103T233000
DTSTAMP:20260425T112821
CREATED:20260324T143803Z
LAST-MODIFIED:20260324T143835Z
UID:10002016-1856896200-1856907000@www.angierchamber.org
SUMMARY:DJ Night with Napper Tandy's
DESCRIPTION:
URL:https://www.angierchamber.org/event/dj-night-with-napper-tandys/2028-11-03/
ATTACH;FMTTYPE=image/jpeg:https://www.angierchamber.org/wp-content/uploads/2026/03/647242600_122154372038655911_4692375131809390416_n.jpg
END:VEVENT
BEGIN:VEVENT
DTSTART;TZID=UTC:20281104T210000
DTEND;TZID=UTC:20281104T233000
DTSTAMP:20260425T112821
CREATED:20260331T170507Z
LAST-MODIFIED:20260331T170656Z
UID:10004100-1856984400-1856993400@www.angierchamber.org
SUMMARY:Live Music at Napper Tandy's Public House & Restaurant
DESCRIPTION:
URL:https://www.angierchamber.org/event/live-music-at-napper-tandys-public-house-restaurant-66/2028-11-04/
ATTACH;FMTTYPE=image/jpeg:https://www.angierchamber.org/wp-content/uploads/2025/07/live-music-header-1.jpg
END:VEVENT
BEGIN:VEVENT
DTSTART;TZID=UTC:20281106T180000
DTEND;TZID=UTC:20281106T190000
DTSTAMP:20260425T112821
CREATED:20260324T151013Z
LAST-MODIFIED:20260324T151013Z
UID:10002931-1857146400-1857150000@www.angierchamber.org
SUMMARY:Pilates at the ACOC with Michelle Moore Fitness Nutrition and Wellness
DESCRIPTION:
URL:https://www.angierchamber.org/event/pilates-at-the-acoc-with-michelle-moore-fitness-nutrition-and-wellness-33/2028-11-06/
LOCATION:Angier Chamber of Commerce\, United States
ATTACH;FMTTYPE=image/jpeg:https://www.angierchamber.org/wp-content/uploads/2026/01/617088567_904447205625246_9066359168838215526_n.jpg
ORGANIZER;CN="Michelle Moore Fitness%2C Nutrition%2C and Wellness":MAILTO:Mmooreblessed@gmail.com
END:VEVENT
BEGIN:VEVENT
DTSTART;TZID=UTC:20281106T183000
DTEND;TZID=UTC:20281106T200000
DTSTAMP:20260425T112821
CREATED:20260324T142223Z
LAST-MODIFIED:20260324T142225Z
UID:10001496-1857148200-1857153600@www.angierchamber.org
SUMMARY:Trivia Night at Napper Tandy's
DESCRIPTION:
URL:https://www.angierchamber.org/event/trivia-night-at-napper-tandys-35/2028-11-06/
LOCATION:Napper Tandy’s Public House and Restaurant\, 27 South Broad Street East\, Angier\, NC\, 27501\, United States
ATTACH;FMTTYPE=image/jpeg:https://www.angierchamber.org/wp-content/uploads/2026/03/657271056_122155671776655911_2309681187732823349_n.jpg
END:VEVENT
BEGIN:VEVENT
DTSTART;TZID=UTC:20281107T203000
DTEND;TZID=UTC:20281107T233000
DTSTAMP:20260425T112821
CREATED:20260324T144321Z
LAST-MODIFIED:20260324T144322Z
UID:10002276-1857241800-1857252600@www.angierchamber.org
SUMMARY:Karaoke with Napper Tandy's
DESCRIPTION:
URL:https://www.angierchamber.org/event/karaoke-with-napper-tandys-27/2028-11-07/
LOCATION:Napper Tandy’s Public House and Restaurant\, 27 South Broad Street East\, Angier\, NC\, 27501\, United States
ATTACH;FMTTYPE=image/jpeg:https://www.angierchamber.org/wp-content/uploads/2026/03/641291512_122153514836655911_8995511338422010505_n.jpg
END:VEVENT
BEGIN:VEVENT
DTSTART;TZID=UTC:20281108T180000
DTEND;TZID=UTC:20281108T190000
DTSTAMP:20260425T112821
CREATED:20260324T151013Z
LAST-MODIFIED:20260324T151013Z
UID:10002932-1857319200-1857322800@www.angierchamber.org
SUMMARY:Pilates at the ACOC with Michelle Moore Fitness Nutrition and Wellness
DESCRIPTION:
URL:https://www.angierchamber.org/event/pilates-at-the-acoc-with-michelle-moore-fitness-nutrition-and-wellness-33/2028-11-08/
LOCATION:Angier Chamber of Commerce\, United States
ATTACH;FMTTYPE=image/jpeg:https://www.angierchamber.org/wp-content/uploads/2026/01/617088567_904447205625246_9066359168838215526_n.jpg
ORGANIZER;CN="Michelle Moore Fitness%2C Nutrition%2C and Wellness":MAILTO:Mmooreblessed@gmail.com
END:VEVENT
BEGIN:VEVENT
DTSTART;TZID=UTC:20281108T190000
DTEND;TZID=UTC:20281108T210000
DTSTAMP:20260425T112821
CREATED:20260331T171810Z
LAST-MODIFIED:20260331T171812Z
UID:10004362-1857322800-1857330000@www.angierchamber.org
SUMMARY:Music Bingo at Wingin' It Angier
DESCRIPTION:
URL:https://www.angierchamber.org/event/music-bingo-at-wingin-it-angier-15/2028-11-08/
ATTACH;FMTTYPE=image/jpeg:https://www.angierchamber.org/wp-content/uploads/2026/03/605521972_752695044536569_1332439597071758233_n.jpg
END:VEVENT
BEGIN:VEVENT
DTSTART;TZID=UTC:20281108T193000
DTEND;TZID=UTC:20281108T210000
DTSTAMP:20260425T112821
CREATED:20260324T143507Z
LAST-MODIFIED:20260324T143509Z
UID:10001757-1857324600-1857330000@www.angierchamber.org
SUMMARY:Music Bingo with Napper Tandy's
DESCRIPTION:
URL:https://www.angierchamber.org/event/music-bingo-with-napper-tandys-31/2028-11-08/
LOCATION:Napper Tandy’s Public House and Restaurant\, 27 South Broad Street East\, Angier\, NC\, 27501\, United States
ATTACH;FMTTYPE=image/jpeg:https://www.angierchamber.org/wp-content/uploads/2026/03/650037872_122154752276655911_6133479155675057403_n-1.jpg
END:VEVENT
BEGIN:VEVENT
DTSTART;TZID=UTC:20281109T100000
DTEND;TZID=UTC:20281109T110000
DTSTAMP:20260425T112821
CREATED:20260324T152952Z
LAST-MODIFIED:20260324T152953Z
UID:10003316-1857376800-1857380400@www.angierchamber.org
SUMMARY:Kinder Jam with Ellington Studios
DESCRIPTION:
URL:https://www.angierchamber.org/event/kinder-jam-with-ellington-studios-11/2028-11-09/
LOCATION:Ellington Studios\, 54 South Raleigh Street\, Angier\, NC\, 27501\, United States
ATTACH;FMTTYPE=image/jpeg:https://www.angierchamber.org/wp-content/uploads/2026/03/639801297_1513474750784835_8899907419205944968_n.jpg
END:VEVENT
BEGIN:VEVENT
DTSTART;TZID=UTC:20281109T150000
DTEND;TZID=UTC:20281109T160000
DTSTAMP:20260425T112821
CREATED:20260324T153839Z
LAST-MODIFIED:20260324T153847Z
UID:10003836-1857394800-1857398400@www.angierchamber.org
SUMMARY:The Groove Lab with Ellington Studios
DESCRIPTION:
URL:https://www.angierchamber.org/event/the-groove-lab-with-ellington-studios-5/2028-11-09/
END:VEVENT
END:VCALENDAR