BEGIN:VCALENDAR
VERSION:2.0
PRODID:-//Angier Chamber of Commerce - ECPv6.15.18//NONSGML v1.0//EN
CALSCALE:GREGORIAN
METHOD:PUBLISH
X-ORIGINAL-URL:https://www.angierchamber.org
X-WR-CALDESC:Events for Angier Chamber of Commerce
REFRESH-INTERVAL;VALUE=DURATION:PT1H
X-Robots-Tag:noindex
X-PUBLISHED-TTL:PT1H
BEGIN:VTIMEZONE
TZID:UTC
BEGIN:STANDARD
TZOFFSETFROM:+0000
TZOFFSETTO:+0000
TZNAME:UTC
DTSTART:20270101T000000
END:STANDARD
END:VTIMEZONE
BEGIN:VEVENT
DTSTART;TZID=UTC:20280427T100000
DTEND;TZID=UTC:20280427T110000
DTSTAMP:20260423T181900
CREATED:20260324T152952Z
LAST-MODIFIED:20260324T152953Z
UID:10003288-1840442400-1840446000@www.angierchamber.org
SUMMARY:Kinder Jam with Ellington Studios
DESCRIPTION:
URL:https://www.angierchamber.org/event/kinder-jam-with-ellington-studios-11/2028-04-27/
LOCATION:Ellington Studios\, 54 South Raleigh Street\, Angier\, NC\, 27501\, United States
ATTACH;FMTTYPE=image/jpeg:https://www.angierchamber.org/wp-content/uploads/2026/03/639801297_1513474750784835_8899907419205944968_n.jpg
END:VEVENT
BEGIN:VEVENT
DTSTART;TZID=UTC:20280427T150000
DTEND;TZID=UTC:20280427T160000
DTSTAMP:20260423T181900
CREATED:20260324T153839Z
LAST-MODIFIED:20260324T153847Z
UID:10003808-1840460400-1840464000@www.angierchamber.org
SUMMARY:The Groove Lab with Ellington Studios
DESCRIPTION:
URL:https://www.angierchamber.org/event/the-groove-lab-with-ellington-studios-5/2028-04-27/
END:VEVENT
BEGIN:VEVENT
DTSTART;TZID=UTC:20280427T181500
DTEND;TZID=UTC:20280427T190000
DTSTAMP:20260423T181900
CREATED:20260324T153156Z
LAST-MODIFIED:20260324T153206Z
UID:10003548-1840472100-1840474800@www.angierchamber.org
SUMMARY:SYNC with Ellington Studios
DESCRIPTION:
URL:https://www.angierchamber.org/event/sync-with-ellington-studios-9/2028-04-27/
ATTACH;FMTTYPE=image/jpeg:https://www.angierchamber.org/wp-content/uploads/2026/03/641447150_1513474977451479_3178505079463523577_n.jpg
END:VEVENT
BEGIN:VEVENT
DTSTART;TZID=UTC:20280427T190000
DTEND;TZID=UTC:20280427T200000
DTSTAMP:20260423T181900
CREATED:20260324T150258Z
LAST-MODIFIED:20260324T150259Z
UID:10002516-1840474800-1840478400@www.angierchamber.org
SUMMARY:Cardio Dance Class with HC Nutrition
DESCRIPTION:
URL:https://www.angierchamber.org/event/cardio-dance-class-with-hc-nutrition-6/2028-04-27/
LOCATION:HC Nutrition\, 559 N. Raleigh St.\, Suite A\, Angier\, NC\, 27501
ATTACH;FMTTYPE=image/jpeg:https://www.angierchamber.org/wp-content/uploads/2026/03/639508671_17914701927306163_5314855391373256172_n.jpg
END:VEVENT
BEGIN:VEVENT
DTSTART;TZID=UTC:20280428T203000
DTEND;TZID=UTC:20280428T233000
DTSTAMP:20260423T181900
CREATED:20260324T143803Z
LAST-MODIFIED:20260324T143835Z
UID:10001989-1840566600-1840577400@www.angierchamber.org
SUMMARY:DJ Night with Napper Tandy's
DESCRIPTION:
URL:https://www.angierchamber.org/event/dj-night-with-napper-tandys/2028-04-28/
ATTACH;FMTTYPE=image/jpeg:https://www.angierchamber.org/wp-content/uploads/2026/03/647242600_122154372038655911_4692375131809390416_n.jpg
END:VEVENT
BEGIN:VEVENT
DTSTART;TZID=UTC:20280429T210000
DTEND;TZID=UTC:20280429T233000
DTSTAMP:20260423T181900
CREATED:20260331T170507Z
LAST-MODIFIED:20260331T170656Z
UID:10004073-1840654800-1840663800@www.angierchamber.org
SUMMARY:Live Music at Napper Tandy's Public House & Restaurant
DESCRIPTION:
URL:https://www.angierchamber.org/event/live-music-at-napper-tandys-public-house-restaurant-66/2028-04-29/
ATTACH;FMTTYPE=image/jpeg:https://www.angierchamber.org/wp-content/uploads/2025/07/live-music-header-1.jpg
END:VEVENT
BEGIN:VEVENT
DTSTART;TZID=UTC:20280501T180000
DTEND;TZID=UTC:20280501T190000
DTSTAMP:20260423T181900
CREATED:20260324T151013Z
LAST-MODIFIED:20260324T151013Z
UID:10002877-1840816800-1840820400@www.angierchamber.org
SUMMARY:Pilates at the ACOC with Michelle Moore Fitness Nutrition and Wellness
DESCRIPTION:
URL:https://www.angierchamber.org/event/pilates-at-the-acoc-with-michelle-moore-fitness-nutrition-and-wellness-33/2028-05-01/
LOCATION:Angier Chamber of Commerce\, United States
ATTACH;FMTTYPE=image/jpeg:https://www.angierchamber.org/wp-content/uploads/2026/01/617088567_904447205625246_9066359168838215526_n.jpg
ORGANIZER;CN="Michelle Moore Fitness%2C Nutrition%2C and Wellness":MAILTO:Mmooreblessed@gmail.com
END:VEVENT
BEGIN:VEVENT
DTSTART;TZID=UTC:20280501T183000
DTEND;TZID=UTC:20280501T200000
DTSTAMP:20260423T181900
CREATED:20260324T142223Z
LAST-MODIFIED:20260324T142225Z
UID:10001469-1840818600-1840824000@www.angierchamber.org
SUMMARY:Trivia Night at Napper Tandy's
DESCRIPTION:
URL:https://www.angierchamber.org/event/trivia-night-at-napper-tandys-35/2028-05-01/
LOCATION:Napper Tandy’s Public House and Restaurant\, 27 South Broad Street East\, Angier\, NC\, 27501\, United States
ATTACH;FMTTYPE=image/jpeg:https://www.angierchamber.org/wp-content/uploads/2026/03/657271056_122155671776655911_2309681187732823349_n.jpg
END:VEVENT
BEGIN:VEVENT
DTSTART;TZID=UTC:20280502T203000
DTEND;TZID=UTC:20280502T233000
DTSTAMP:20260423T181900
CREATED:20260324T144321Z
LAST-MODIFIED:20260324T144322Z
UID:10002249-1840912200-1840923000@www.angierchamber.org
SUMMARY:Karaoke with Napper Tandy's
DESCRIPTION:
URL:https://www.angierchamber.org/event/karaoke-with-napper-tandys-27/2028-05-02/
LOCATION:Napper Tandy’s Public House and Restaurant\, 27 South Broad Street East\, Angier\, NC\, 27501\, United States
ATTACH;FMTTYPE=image/jpeg:https://www.angierchamber.org/wp-content/uploads/2026/03/641291512_122153514836655911_8995511338422010505_n.jpg
END:VEVENT
BEGIN:VEVENT
DTSTART;TZID=UTC:20280503T180000
DTEND;TZID=UTC:20280503T190000
DTSTAMP:20260423T181900
CREATED:20260324T151013Z
LAST-MODIFIED:20260324T151013Z
UID:10002878-1840989600-1840993200@www.angierchamber.org
SUMMARY:Pilates at the ACOC with Michelle Moore Fitness Nutrition and Wellness
DESCRIPTION:
URL:https://www.angierchamber.org/event/pilates-at-the-acoc-with-michelle-moore-fitness-nutrition-and-wellness-33/2028-05-03/
LOCATION:Angier Chamber of Commerce\, United States
ATTACH;FMTTYPE=image/jpeg:https://www.angierchamber.org/wp-content/uploads/2026/01/617088567_904447205625246_9066359168838215526_n.jpg
ORGANIZER;CN="Michelle Moore Fitness%2C Nutrition%2C and Wellness":MAILTO:Mmooreblessed@gmail.com
END:VEVENT
BEGIN:VEVENT
DTSTART;TZID=UTC:20280503T190000
DTEND;TZID=UTC:20280503T210000
DTSTAMP:20260423T181900
CREATED:20260331T171810Z
LAST-MODIFIED:20260331T171812Z
UID:10004335-1840993200-1841000400@www.angierchamber.org
SUMMARY:Music Bingo at Wingin' It Angier
DESCRIPTION:
URL:https://www.angierchamber.org/event/music-bingo-at-wingin-it-angier-15/2028-05-03/
ATTACH;FMTTYPE=image/jpeg:https://www.angierchamber.org/wp-content/uploads/2026/03/605521972_752695044536569_1332439597071758233_n.jpg
END:VEVENT
BEGIN:VEVENT
DTSTART;TZID=UTC:20280503T193000
DTEND;TZID=UTC:20280503T210000
DTSTAMP:20260423T181900
CREATED:20260324T143507Z
LAST-MODIFIED:20260324T143509Z
UID:10001730-1840995000-1841000400@www.angierchamber.org
SUMMARY:Music Bingo with Napper Tandy's
DESCRIPTION:
URL:https://www.angierchamber.org/event/music-bingo-with-napper-tandys-31/2028-05-03/
LOCATION:Napper Tandy’s Public House and Restaurant\, 27 South Broad Street East\, Angier\, NC\, 27501\, United States
ATTACH;FMTTYPE=image/jpeg:https://www.angierchamber.org/wp-content/uploads/2026/03/650037872_122154752276655911_6133479155675057403_n-1.jpg
END:VEVENT
BEGIN:VEVENT
DTSTART;TZID=UTC:20280504T100000
DTEND;TZID=UTC:20280504T110000
DTSTAMP:20260423T181900
CREATED:20260324T152952Z
LAST-MODIFIED:20260324T152953Z
UID:10003289-1841047200-1841050800@www.angierchamber.org
SUMMARY:Kinder Jam with Ellington Studios
DESCRIPTION:
URL:https://www.angierchamber.org/event/kinder-jam-with-ellington-studios-11/2028-05-04/
LOCATION:Ellington Studios\, 54 South Raleigh Street\, Angier\, NC\, 27501\, United States
ATTACH;FMTTYPE=image/jpeg:https://www.angierchamber.org/wp-content/uploads/2026/03/639801297_1513474750784835_8899907419205944968_n.jpg
END:VEVENT
BEGIN:VEVENT
DTSTART;TZID=UTC:20280504T150000
DTEND;TZID=UTC:20280504T160000
DTSTAMP:20260423T181900
CREATED:20260324T153839Z
LAST-MODIFIED:20260324T153847Z
UID:10003809-1841065200-1841068800@www.angierchamber.org
SUMMARY:The Groove Lab with Ellington Studios
DESCRIPTION:
URL:https://www.angierchamber.org/event/the-groove-lab-with-ellington-studios-5/2028-05-04/
END:VEVENT
BEGIN:VEVENT
DTSTART;TZID=UTC:20280504T181500
DTEND;TZID=UTC:20280504T190000
DTSTAMP:20260423T181900
CREATED:20260324T153156Z
LAST-MODIFIED:20260324T153206Z
UID:10003549-1841076900-1841079600@www.angierchamber.org
SUMMARY:SYNC with Ellington Studios
DESCRIPTION:
URL:https://www.angierchamber.org/event/sync-with-ellington-studios-9/2028-05-04/
ATTACH;FMTTYPE=image/jpeg:https://www.angierchamber.org/wp-content/uploads/2026/03/641447150_1513474977451479_3178505079463523577_n.jpg
END:VEVENT
BEGIN:VEVENT
DTSTART;TZID=UTC:20280504T190000
DTEND;TZID=UTC:20280504T200000
DTSTAMP:20260423T181900
CREATED:20260324T150258Z
LAST-MODIFIED:20260324T150259Z
UID:10002517-1841079600-1841083200@www.angierchamber.org
SUMMARY:Cardio Dance Class with HC Nutrition
DESCRIPTION:
URL:https://www.angierchamber.org/event/cardio-dance-class-with-hc-nutrition-6/2028-05-04/
LOCATION:HC Nutrition\, 559 N. Raleigh St.\, Suite A\, Angier\, NC\, 27501
ATTACH;FMTTYPE=image/jpeg:https://www.angierchamber.org/wp-content/uploads/2026/03/639508671_17914701927306163_5314855391373256172_n.jpg
END:VEVENT
BEGIN:VEVENT
DTSTART;TZID=UTC:20280505T203000
DTEND;TZID=UTC:20280505T233000
DTSTAMP:20260423T181900
CREATED:20260324T143803Z
LAST-MODIFIED:20260324T143835Z
UID:10001990-1841171400-1841182200@www.angierchamber.org
SUMMARY:DJ Night with Napper Tandy's
DESCRIPTION:
URL:https://www.angierchamber.org/event/dj-night-with-napper-tandys/2028-05-05/
ATTACH;FMTTYPE=image/jpeg:https://www.angierchamber.org/wp-content/uploads/2026/03/647242600_122154372038655911_4692375131809390416_n.jpg
END:VEVENT
BEGIN:VEVENT
DTSTART;TZID=UTC:20280506T210000
DTEND;TZID=UTC:20280506T233000
DTSTAMP:20260423T181900
CREATED:20260331T170507Z
LAST-MODIFIED:20260331T170656Z
UID:10004074-1841259600-1841268600@www.angierchamber.org
SUMMARY:Live Music at Napper Tandy's Public House & Restaurant
DESCRIPTION:
URL:https://www.angierchamber.org/event/live-music-at-napper-tandys-public-house-restaurant-66/2028-05-06/
ATTACH;FMTTYPE=image/jpeg:https://www.angierchamber.org/wp-content/uploads/2025/07/live-music-header-1.jpg
END:VEVENT
BEGIN:VEVENT
DTSTART;TZID=UTC:20280508T180000
DTEND;TZID=UTC:20280508T190000
DTSTAMP:20260423T181900
CREATED:20260324T151013Z
LAST-MODIFIED:20260324T151013Z
UID:10002879-1841421600-1841425200@www.angierchamber.org
SUMMARY:Pilates at the ACOC with Michelle Moore Fitness Nutrition and Wellness
DESCRIPTION:
URL:https://www.angierchamber.org/event/pilates-at-the-acoc-with-michelle-moore-fitness-nutrition-and-wellness-33/2028-05-08/
LOCATION:Angier Chamber of Commerce\, United States
ATTACH;FMTTYPE=image/jpeg:https://www.angierchamber.org/wp-content/uploads/2026/01/617088567_904447205625246_9066359168838215526_n.jpg
ORGANIZER;CN="Michelle Moore Fitness%2C Nutrition%2C and Wellness":MAILTO:Mmooreblessed@gmail.com
END:VEVENT
BEGIN:VEVENT
DTSTART;TZID=UTC:20280508T183000
DTEND;TZID=UTC:20280508T200000
DTSTAMP:20260423T181900
CREATED:20260324T142223Z
LAST-MODIFIED:20260324T142225Z
UID:10001470-1841423400-1841428800@www.angierchamber.org
SUMMARY:Trivia Night at Napper Tandy's
DESCRIPTION:
URL:https://www.angierchamber.org/event/trivia-night-at-napper-tandys-35/2028-05-08/
LOCATION:Napper Tandy’s Public House and Restaurant\, 27 South Broad Street East\, Angier\, NC\, 27501\, United States
ATTACH;FMTTYPE=image/jpeg:https://www.angierchamber.org/wp-content/uploads/2026/03/657271056_122155671776655911_2309681187732823349_n.jpg
END:VEVENT
BEGIN:VEVENT
DTSTART;TZID=UTC:20280509T203000
DTEND;TZID=UTC:20280509T233000
DTSTAMP:20260423T181900
CREATED:20260324T144321Z
LAST-MODIFIED:20260324T144322Z
UID:10002250-1841517000-1841527800@www.angierchamber.org
SUMMARY:Karaoke with Napper Tandy's
DESCRIPTION:
URL:https://www.angierchamber.org/event/karaoke-with-napper-tandys-27/2028-05-09/
LOCATION:Napper Tandy’s Public House and Restaurant\, 27 South Broad Street East\, Angier\, NC\, 27501\, United States
ATTACH;FMTTYPE=image/jpeg:https://www.angierchamber.org/wp-content/uploads/2026/03/641291512_122153514836655911_8995511338422010505_n.jpg
END:VEVENT
BEGIN:VEVENT
DTSTART;TZID=UTC:20280510T180000
DTEND;TZID=UTC:20280510T190000
DTSTAMP:20260423T181900
CREATED:20260324T151013Z
LAST-MODIFIED:20260324T151013Z
UID:10002880-1841594400-1841598000@www.angierchamber.org
SUMMARY:Pilates at the ACOC with Michelle Moore Fitness Nutrition and Wellness
DESCRIPTION:
URL:https://www.angierchamber.org/event/pilates-at-the-acoc-with-michelle-moore-fitness-nutrition-and-wellness-33/2028-05-10/
LOCATION:Angier Chamber of Commerce\, United States
ATTACH;FMTTYPE=image/jpeg:https://www.angierchamber.org/wp-content/uploads/2026/01/617088567_904447205625246_9066359168838215526_n.jpg
ORGANIZER;CN="Michelle Moore Fitness%2C Nutrition%2C and Wellness":MAILTO:Mmooreblessed@gmail.com
END:VEVENT
BEGIN:VEVENT
DTSTART;TZID=UTC:20280510T190000
DTEND;TZID=UTC:20280510T210000
DTSTAMP:20260423T181900
CREATED:20260331T171810Z
LAST-MODIFIED:20260331T171812Z
UID:10004336-1841598000-1841605200@www.angierchamber.org
SUMMARY:Music Bingo at Wingin' It Angier
DESCRIPTION:
URL:https://www.angierchamber.org/event/music-bingo-at-wingin-it-angier-15/2028-05-10/
ATTACH;FMTTYPE=image/jpeg:https://www.angierchamber.org/wp-content/uploads/2026/03/605521972_752695044536569_1332439597071758233_n.jpg
END:VEVENT
BEGIN:VEVENT
DTSTART;TZID=UTC:20280510T193000
DTEND;TZID=UTC:20280510T210000
DTSTAMP:20260423T181900
CREATED:20260324T143507Z
LAST-MODIFIED:20260324T143509Z
UID:10001731-1841599800-1841605200@www.angierchamber.org
SUMMARY:Music Bingo with Napper Tandy's
DESCRIPTION:
URL:https://www.angierchamber.org/event/music-bingo-with-napper-tandys-31/2028-05-10/
LOCATION:Napper Tandy’s Public House and Restaurant\, 27 South Broad Street East\, Angier\, NC\, 27501\, United States
ATTACH;FMTTYPE=image/jpeg:https://www.angierchamber.org/wp-content/uploads/2026/03/650037872_122154752276655911_6133479155675057403_n-1.jpg
END:VEVENT
BEGIN:VEVENT
DTSTART;TZID=UTC:20280511T100000
DTEND;TZID=UTC:20280511T110000
DTSTAMP:20260423T181900
CREATED:20260324T152952Z
LAST-MODIFIED:20260324T152953Z
UID:10003290-1841652000-1841655600@www.angierchamber.org
SUMMARY:Kinder Jam with Ellington Studios
DESCRIPTION:
URL:https://www.angierchamber.org/event/kinder-jam-with-ellington-studios-11/2028-05-11/
LOCATION:Ellington Studios\, 54 South Raleigh Street\, Angier\, NC\, 27501\, United States
ATTACH;FMTTYPE=image/jpeg:https://www.angierchamber.org/wp-content/uploads/2026/03/639801297_1513474750784835_8899907419205944968_n.jpg
END:VEVENT
BEGIN:VEVENT
DTSTART;TZID=UTC:20280511T150000
DTEND;TZID=UTC:20280511T160000
DTSTAMP:20260423T181900
CREATED:20260324T153839Z
LAST-MODIFIED:20260324T153847Z
UID:10003810-1841670000-1841673600@www.angierchamber.org
SUMMARY:The Groove Lab with Ellington Studios
DESCRIPTION:
URL:https://www.angierchamber.org/event/the-groove-lab-with-ellington-studios-5/2028-05-11/
END:VEVENT
BEGIN:VEVENT
DTSTART;TZID=UTC:20280511T181500
DTEND;TZID=UTC:20280511T190000
DTSTAMP:20260423T181901
CREATED:20260324T153156Z
LAST-MODIFIED:20260324T153206Z
UID:10003550-1841681700-1841684400@www.angierchamber.org
SUMMARY:SYNC with Ellington Studios
DESCRIPTION:
URL:https://www.angierchamber.org/event/sync-with-ellington-studios-9/2028-05-11/
ATTACH;FMTTYPE=image/jpeg:https://www.angierchamber.org/wp-content/uploads/2026/03/641447150_1513474977451479_3178505079463523577_n.jpg
END:VEVENT
BEGIN:VEVENT
DTSTART;TZID=UTC:20280511T190000
DTEND;TZID=UTC:20280511T200000
DTSTAMP:20260423T181901
CREATED:20260324T150258Z
LAST-MODIFIED:20260324T150259Z
UID:10002518-1841684400-1841688000@www.angierchamber.org
SUMMARY:Cardio Dance Class with HC Nutrition
DESCRIPTION:
URL:https://www.angierchamber.org/event/cardio-dance-class-with-hc-nutrition-6/2028-05-11/
LOCATION:HC Nutrition\, 559 N. Raleigh St.\, Suite A\, Angier\, NC\, 27501
ATTACH;FMTTYPE=image/jpeg:https://www.angierchamber.org/wp-content/uploads/2026/03/639508671_17914701927306163_5314855391373256172_n.jpg
END:VEVENT
BEGIN:VEVENT
DTSTART;TZID=UTC:20280512T203000
DTEND;TZID=UTC:20280512T233000
DTSTAMP:20260423T181901
CREATED:20260324T143803Z
LAST-MODIFIED:20260324T143835Z
UID:10001991-1841776200-1841787000@www.angierchamber.org
SUMMARY:DJ Night with Napper Tandy's
DESCRIPTION:
URL:https://www.angierchamber.org/event/dj-night-with-napper-tandys/2028-05-12/
ATTACH;FMTTYPE=image/jpeg:https://www.angierchamber.org/wp-content/uploads/2026/03/647242600_122154372038655911_4692375131809390416_n.jpg
END:VEVENT
BEGIN:VEVENT
DTSTART;TZID=UTC:20280513T210000
DTEND;TZID=UTC:20280513T233000
DTSTAMP:20260423T181901
CREATED:20260331T170507Z
LAST-MODIFIED:20260331T170656Z
UID:10004075-1841864400-1841873400@www.angierchamber.org
SUMMARY:Live Music at Napper Tandy's Public House & Restaurant
DESCRIPTION:
URL:https://www.angierchamber.org/event/live-music-at-napper-tandys-public-house-restaurant-66/2028-05-13/
ATTACH;FMTTYPE=image/jpeg:https://www.angierchamber.org/wp-content/uploads/2025/07/live-music-header-1.jpg
END:VEVENT
END:VCALENDAR