BEGIN:VCALENDAR
VERSION:2.0
PRODID:-//Angier Chamber of Commerce - ECPv6.15.18//NONSGML v1.0//EN
CALSCALE:GREGORIAN
METHOD:PUBLISH
X-WR-CALNAME:Angier Chamber of Commerce
X-ORIGINAL-URL:https://www.angierchamber.org
X-WR-CALDESC:Events for Angier Chamber of Commerce
REFRESH-INTERVAL;VALUE=DURATION:PT1H
X-Robots-Tag:noindex
X-PUBLISHED-TTL:PT1H
BEGIN:VTIMEZONE
TZID:UTC
BEGIN:STANDARD
TZOFFSETFROM:+0000
TZOFFSETTO:+0000
TZNAME:UTC
DTSTART:20240101T000000
END:STANDARD
END:VTIMEZONE
BEGIN:VEVENT
DTSTART;TZID=UTC:20251003T203000
DTEND;TZID=UTC:20251003T233000
DTSTAMP:20260425T152138
CREATED:20250826T204509Z
LAST-MODIFIED:20250826T204511Z
UID:10000767-1759523400-1759534200@www.angierchamber.org
SUMMARY:Live Music at Napper Tandy's
DESCRIPTION:
URL:https://www.angierchamber.org/event/live-music-at-napper-tandys-137/
LOCATION:Angier Chamber of Commerce\, United States
END:VEVENT
BEGIN:VEVENT
DTSTART;TZID=UTC:20251003T190000
DTEND;TZID=UTC:20251004T150000
DTSTAMP:20260425T152138
CREATED:20250929T163729Z
LAST-MODIFIED:20250929T163731Z
UID:10000864-1759518000-1759590000@www.angierchamber.org
SUMMARY:Demin Days Sponsored by the Erwin Chamber of Commerce
DESCRIPTION:
URL:https://www.angierchamber.org/event/demin-days-sponsored-by-the-erwin-chamber-of-commerce/
ATTACH;FMTTYPE=image/jpeg:https://www.angierchamber.org/wp-content/uploads/2025/09/548112526_813994584292383_4106462084216892558_n.jpg
END:VEVENT
BEGIN:VEVENT
DTSTART;TZID=UTC:20251003T180000
DTEND;TZID=UTC:20251003T200000
DTSTAMP:20260425T152138
CREATED:20250930T200443Z
LAST-MODIFIED:20250930T200445Z
UID:10000904-1759514400-1759521600@www.angierchamber.org
SUMMARY:Nightmare Before Christmas Jack And Sally Couples Workshop with GypsySoul
DESCRIPTION:
URL:https://www.angierchamber.org/event/nightmare-before-christmas-jack-and-sally-couples-workshop-with-gypsysoul/
LOCATION:GypsySoul Boutique\, 1179 N Main Street\, Lillington\, NC\, 27546
ATTACH;FMTTYPE=image/jpeg:https://www.angierchamber.org/wp-content/uploads/2025/09/549257444_807301118650525_7572242292358357370_n.jpg
END:VEVENT
BEGIN:VEVENT
DTSTART;TZID=UTC:20251003T180000
DTEND;TZID=UTC:20251003T193000
DTSTAMP:20260425T152139
CREATED:20250929T184447Z
LAST-MODIFIED:20250929T184449Z
UID:10000890-1759514400-1759519800@www.angierchamber.org
SUMMARY:Carolina Charter Academy Book Fair Family Night
DESCRIPTION:
URL:https://www.angierchamber.org/event/carolina-charter-academy-book-fair-family-night/
ATTACH;FMTTYPE=image/jpeg:https://www.angierchamber.org/wp-content/uploads/2025/09/555550115_122195415746349873_1898417852450765272_n.jpg
END:VEVENT
BEGIN:VEVENT
DTSTART;TZID=UTC:20251003T170000
DTEND;TZID=UTC:20251003T183000
DTSTAMP:20260425T152139
CREATED:20250929T142409Z
LAST-MODIFIED:20250929T142411Z
UID:10000829-1759510800-1759516200@www.angierchamber.org
SUMMARY:Angier Elementary School Book Fair Family Night
DESCRIPTION:
URL:https://www.angierchamber.org/event/angier-elementary-school-book-fair-family-night/
LOCATION:Angier Elementary School\, 130 E McIver St\,\, Angier\, NC\, 27501
END:VEVENT
BEGIN:VEVENT
DTSTART;TZID=UTC:20251003T120000
DTEND;TZID=UTC:20251003T130000
DTSTAMP:20260425T152139
CREATED:20250826T203607Z
LAST-MODIFIED:20250826T203610Z
UID:10000759-1759492800-1759496400@www.angierchamber.org
SUMMARY:KB Expo Showroom Ribbon Cutting
DESCRIPTION:
URL:https://www.angierchamber.org/event/kb-expo-showroom-ribbon-cutting/
LOCATION:Luxury Kitchen Bath Express\, 162 W. Smithfield Street\, Angier\, NC\, 27501
END:VEVENT
BEGIN:VEVENT
DTSTART;VALUE=DATE:20251003
DTEND;VALUE=DATE:20251006
DTSTAMP:20260425T152139
CREATED:20250827T182821Z
LAST-MODIFIED:20250827T182822Z
UID:10000781-1759449600-1759708799@www.angierchamber.org
SUMMARY:Men's Hike with Church of the Resurrection
DESCRIPTION:
URL:https://www.angierchamber.org/event/mens-hike-with-church-of-the-resurrection/
END:VEVENT
BEGIN:VEVENT
DTSTART;TZID=UTC:20251002T180000
DTEND;TZID=UTC:20251002T190000
DTSTAMP:20260425T152139
CREATED:20250929T205643Z
LAST-MODIFIED:20250929T205646Z
UID:10000903-1759428000-1759431600@www.angierchamber.org
SUMMARY:One Year Anniversary Celebration with Michelle Moore Fitness Nutrition and Wellness
DESCRIPTION:
URL:https://www.angierchamber.org/event/one-year-anniversary-celebration-with-michelle-moore-fitness-nutrition-and-wellness/
LOCATION:Angier Chamber of Commerce\, United States
ATTACH;FMTTYPE=image/jpeg:https://www.angierchamber.org/wp-content/uploads/2025/09/Pilates-at-the-Chamber-Anniversary-Instagram-Post_page-0001.jpg
ORGANIZER;CN="Michelle Moore Fitness%2C Nutrition%2C and Wellness":MAILTO:Mmooreblessed@gmail.com
END:VEVENT
BEGIN:VEVENT
DTSTART;TZID=UTC:20251002T180000
DTEND;TZID=UTC:20251002T190000
DTSTAMP:20260425T152139
CREATED:20250929T160958Z
LAST-MODIFIED:20250929T161000Z
UID:10000851-1759428000-1759431600@www.angierchamber.org
SUMMARY:Pilates at the ACOC with Michelle Moore Fitness Nutrition and Wellness
DESCRIPTION:
URL:https://www.angierchamber.org/event/pilates-at-the-acoc-with-michelle-moore-fitness-nutrition-and-wellness/
LOCATION:Angier Chamber of Commerce\, United States
ATTACH;FMTTYPE=image/jpeg:https://www.angierchamber.org/wp-content/uploads/2025/09/550682253_807746458628655_466220101978638418_n.jpg
ORGANIZER;CN="Michelle Moore Fitness%2C Nutrition%2C and Wellness":MAILTO:Mmooreblessed@gmail.com
END:VEVENT
BEGIN:VEVENT
DTSTART;TZID=UTC:20251002T170000
DTEND;TZID=UTC:20251002T200000
DTSTAMP:20260425T152139
CREATED:20250929T151728Z
LAST-MODIFIED:20250929T151729Z
UID:10000834-1759424400-1759435200@www.angierchamber.org
SUMMARY:Ellington Studios Performing Live at Napper Tandy's
DESCRIPTION:
URL:https://www.angierchamber.org/event/ellington-studios-performing-live-at-napper-tandys/
LOCATION:Napper Tandy’s Public House and Restaurant\, 27 South Broad Street East\, Angier\, NC\, 27501\, United States
ATTACH;FMTTYPE=image/jpeg:https://www.angierchamber.org/wp-content/uploads/2025/09/555507378_1377267637738881_2345086366517475002_n.jpg
END:VEVENT
BEGIN:VEVENT
DTSTART;TZID=UTC:20251002T130000
DTEND;TZID=UTC:20251002T170000
DTSTAMP:20260425T152139
CREATED:20250929T164149Z
LAST-MODIFIED:20250929T164151Z
UID:10000866-1759410000-1759424400@www.angierchamber.org
SUMMARY:Golf Tournament hosted by the Coats Chamber of Commerce
DESCRIPTION:
URL:https://www.angierchamber.org/event/golf-tournament-hosted-by-the-coats-chamber-of-commerce/
LOCATION:Chicora Golf Club\, 495 Chicora Club Dr\, Dunn\, NC\, 28334\, United States
ATTACH;FMTTYPE=image/jpeg:https://www.angierchamber.org/wp-content/uploads/2025/09/549084251_1096426796030661_1946801984706754180_n.jpg
END:VEVENT
BEGIN:VEVENT
DTSTART;TZID=UTC:20251002T100000
DTEND;TZID=UTC:20251002T110000
DTSTAMP:20260425T152139
CREATED:20250731T152008Z
LAST-MODIFIED:20250731T152010Z
UID:10000708-1759399200-1759402800@www.angierchamber.org
SUMMARY:Kinderjam Music Class with Ellington Studios
DESCRIPTION:
URL:https://www.angierchamber.org/event/kinderjam-music-class-with-ellington-studios-9/
LOCATION:Ellington Studios\, 54 South Raleigh Street\, Angier\, NC\, 27501\, United States
END:VEVENT
BEGIN:VEVENT
DTSTART;TZID=UTC:20251002T090000
DTEND;TZID=UTC:20251002T100000
DTSTAMP:20260425T152139
CREATED:20250513T201932Z
LAST-MODIFIED:20250513T201933Z
UID:10000426-1759395600-1759399200@www.angierchamber.org
SUMMARY:Angier Chamber of Commerce Ambassador Meeting
DESCRIPTION:
URL:https://www.angierchamber.org/event/angier-chamber-of-commerce-ambassador-meeting-5/
LOCATION:Angier Chamber of Commerce\, United States
ATTACH;FMTTYPE=image/jpeg:https://www.angierchamber.org/wp-content/uploads/2025/05/492743731_1090399029773961_7986808581438224843_n.jpg
ORGANIZER;CN="Angier Chamber of Commerce":MAILTO:angiercc@angierchamber.org
END:VEVENT
BEGIN:VEVENT
DTSTART;TZID=UTC:20251001T190000
DTEND;TZID=UTC:20251001T210000
DTSTAMP:20260425T152139
CREATED:20250929T181258Z
LAST-MODIFIED:20250929T181301Z
UID:10000880-1759345200-1759352400@www.angierchamber.org
SUMMARY:Music Bingo with Wingin' It Angier
DESCRIPTION:
URL:https://www.angierchamber.org/event/music-bingo-with-wingin-it-angier/
LOCATION:Wingin’ It-Angier\, 546 W Church Street\, Angier\, NC\, 27501
ATTACH;FMTTYPE=image/jpeg:https://www.angierchamber.org/wp-content/uploads/2025/09/552014835_674956008977140_4877556687178227209_n.jpg
END:VEVENT
BEGIN:VEVENT
DTSTART;TZID=UTC:20251001T190000
DTEND;TZID=UTC:20251001T210000
DTSTAMP:20260425T152139
CREATED:20250826T205926Z
LAST-MODIFIED:20250826T205928Z
UID:10000780-1759345200-1759352400@www.angierchamber.org
SUMMARY:Music Bingo with Napper Tandy's
DESCRIPTION:
URL:https://www.angierchamber.org/event/music-bingo-with-napper-tandys-5/
LOCATION:Napper Tandy’s Public House and Restaurant\, 27 South Broad Street East\, Angier\, NC\, 27501\, United States
END:VEVENT
BEGIN:VEVENT
DTSTART;TZID=UTC:20251001T183000
DTEND;TZID=UTC:20251001T203000
DTSTAMP:20260425T152139
CREATED:20250827T185640Z
LAST-MODIFIED:20250827T185641Z
UID:10000802-1759343400-1759350600@www.angierchamber.org
SUMMARY:DivorceCare with Church of the Resurrection
DESCRIPTION:
URL:https://www.angierchamber.org/event/divorcecare-with-church-of-the-resurrection-2/
LOCATION:Church of the Resurrection\, 171 West Depot Street\, Angier\, NC\, 27501\, United States
END:VEVENT
BEGIN:VEVENT
DTSTART;TZID=UTC:20251001T180000
DTEND;TZID=UTC:20251001T190000
DTSTAMP:20260425T152139
CREATED:20250926T201712Z
LAST-MODIFIED:20250926T201715Z
UID:10000825-1759341600-1759345200@www.angierchamber.org
SUMMARY:Michelle Moore Fitness Nutrition and Wellness Anniversary Celebration
DESCRIPTION:
URL:https://www.angierchamber.org/event/michelle-moore-fitness-nutrition-and-wellness-anniversary-celebration/
LOCATION:Angier Chamber of Commerce\, United States
END:VEVENT
BEGIN:VEVENT
DTSTART;TZID=UTC:20251001T180000
DTEND;TZID=UTC:20251001T190000
DTSTAMP:20260425T152139
CREATED:20250826T202450Z
LAST-MODIFIED:20250826T202451Z
UID:10000753-1759341600-1759345200@www.angierchamber.org
SUMMARY:Pilates with Michelle Moore Fitness Nutrition and Wellness
DESCRIPTION:
URL:https://www.angierchamber.org/event/pilates-with-michelle-moore-fitness-nutrition-and-wellness-11/
LOCATION:Angier Chamber of Commerce\, United States
END:VEVENT
BEGIN:VEVENT
DTSTART;TZID=UTC:20251001T080000
DTEND;TZID=UTC:20251001T100000
DTSTAMP:20260425T152139
CREATED:20250926T201530Z
LAST-MODIFIED:20250926T201532Z
UID:10000824-1759305600-1759312800@www.angierchamber.org
SUMMARY:Coffee with a Cop (Angier PD)
DESCRIPTION:
URL:https://www.angierchamber.org/event/coffee-with-a-cop-angier-pd/
END:VEVENT
BEGIN:VEVENT
DTSTART;TZID=UTC:20250930T203000
DTEND;TZID=UTC:20250930T223000
DTSTAMP:20260425T152139
CREATED:20250827T183440Z
LAST-MODIFIED:20250827T183442Z
UID:10000786-1759264200-1759271400@www.angierchamber.org
SUMMARY:Karaoke at Napper Tandy's
DESCRIPTION:
URL:https://www.angierchamber.org/event/karaoke-at-napper-tandys-65/
LOCATION:Napper Tandy’s Public House and Restaurant\, 27 South Broad Street East\, Angier\, NC\, 27501\, United States
END:VEVENT
BEGIN:VEVENT
DTSTART;TZID=UTC:20250930T190000
DTEND;TZID=UTC:20250930T210000
DTSTAMP:20260425T152139
CREATED:20250827T183941Z
LAST-MODIFIED:20250827T183942Z
UID:10000791-1759258800-1759266000@www.angierchamber.org
SUMMARY:Music Trivia at Wingin' It Angier
DESCRIPTION:
URL:https://www.angierchamber.org/event/music-trivia-at-wingin-it-angier-14/
LOCATION:Wingin’ It-Angier\, 546 W Church Street\, Angier\, NC\, 27501
END:VEVENT
BEGIN:VEVENT
DTSTART;TZID=UTC:20250930T080000
DTEND;TZID=UTC:20251003T140000
DTSTAMP:20260425T152139
CREATED:20250929T142259Z
LAST-MODIFIED:20250929T142318Z
UID:10000828-1759219200-1759500000@www.angierchamber.org
SUMMARY:Angier Elementary School Book Fair
DESCRIPTION:
URL:https://www.angierchamber.org/event/angier-elementary-school-book-fair/
LOCATION:Angier Elementary School\, 130 E McIver St\,\, Angier\, NC\, 27501
END:VEVENT
BEGIN:VEVENT
DTSTART;TZID=UTC:20250929T183000
DTEND;TZID=UTC:20250929T203000
DTSTAMP:20260425T152139
CREATED:20250826T205452Z
LAST-MODIFIED:20250826T205453Z
UID:10000775-1759170600-1759177800@www.angierchamber.org
SUMMARY:Music Trivia with Napper Tandy's
DESCRIPTION:
URL:https://www.angierchamber.org/event/music-trivia-with-napper-tandys-5/
LOCATION:Napper Tandy’s Public House and Restaurant\, 27 South Broad Street East\, Angier\, NC\, 27501\, United States
END:VEVENT
BEGIN:VEVENT
DTSTART;TZID=UTC:20250929T180000
DTEND;TZID=UTC:20250929T190000
DTSTAMP:20260425T152139
CREATED:20250826T202005Z
LAST-MODIFIED:20250826T202006Z
UID:10000748-1759168800-1759172400@www.angierchamber.org
SUMMARY:Pilates with Michelle Moore Fitness Nutrition and Wellness
DESCRIPTION:
URL:https://www.angierchamber.org/event/pilates-with-michelle-moore-fitness-nutrition-and-wellness-6/
LOCATION:Angier Chamber of Commerce\, United States
END:VEVENT
BEGIN:VEVENT
DTSTART;VALUE=DATE:20250929
DTEND;VALUE=DATE:20251004
DTSTAMP:20260425T152139
CREATED:20250929T184215Z
LAST-MODIFIED:20250929T184217Z
UID:10000889-1759104000-1759535999@www.angierchamber.org
SUMMARY:Carolina Charter Academy Book Fair
DESCRIPTION:
URL:https://www.angierchamber.org/event/carolina-charter-academy-book-fair/
ATTACH;FMTTYPE=image/jpeg:https://www.angierchamber.org/wp-content/uploads/2025/09/555550115_122195415746349873_1898417852450765272_n.jpg
END:VEVENT
BEGIN:VEVENT
DTSTART;TZID=UTC:20250928T140000
DTEND;TZID=UTC:20250928T180000
DTSTAMP:20260425T152139
CREATED:20250827T184626Z
LAST-MODIFIED:20250827T184627Z
UID:10000797-1759068000-1759082400@www.angierchamber.org
SUMMARY:JoCo Community Market
DESCRIPTION:
URL:https://www.angierchamber.org/event/joco-community-market-2/
LOCATION:Ronnie’s Berry Farm\, 18409 NC-210\, Angier\, NC\, 27501
END:VEVENT
BEGIN:VEVENT
DTSTART;TZID=UTC:20250927T113000
DTEND;TZID=UTC:20250927T190000
DTSTAMP:20260425T152139
CREATED:20250827T190320Z
LAST-MODIFIED:20250827T190322Z
UID:10000808-1758972600-1758999600@www.angierchamber.org
SUMMARY:Bake Sale Fundraiser with Providence Presbyterian Church
DESCRIPTION:
URL:https://www.angierchamber.org/event/bake-sale-fundraiser-with-providence-presbyterian-church/
LOCATION:Providence Presbyterian Church\, 14664 NC-210\, Angier\, 27501\, United States
END:VEVENT
BEGIN:VEVENT
DTSTART;TZID=UTC:20250927T090000
DTEND;TZID=UTC:20250927T160000
DTSTAMP:20260425T152139
CREATED:20250715T202808Z
LAST-MODIFIED:20250715T202828Z
UID:10000671-1758963600-1758988800@www.angierchamber.org
SUMMARY:Beer and Wine Festival
DESCRIPTION:
URL:https://www.angierchamber.org/event/wine-and-beer-festival/
LOCATION:Angier Depot Square/R.H. Ellington Grounds\, United States
ATTACH;FMTTYPE=image/jpeg:https://www.angierchamber.org/wp-content/uploads/2025/07/518273795_1042992711345417_4639931190658274384_n.jpg
END:VEVENT
BEGIN:VEVENT
DTSTART;TZID=UTC:20250926T203000
DTEND;TZID=UTC:20250926T233000
DTSTAMP:20260425T152139
CREATED:20250826T204337Z
LAST-MODIFIED:20250826T204339Z
UID:10000766-1758918600-1758929400@www.angierchamber.org
SUMMARY:Live Music at Napper Tandy's
DESCRIPTION:
URL:https://www.angierchamber.org/event/live-music-at-napper-tandys-136/
LOCATION:Angier Chamber of Commerce\, United States
END:VEVENT
BEGIN:VEVENT
DTSTART;TZID=UTC:20250926T163000
DTEND;TZID=UTC:20250926T180000
DTSTAMP:20260425T152139
CREATED:20250826T200809Z
LAST-MODIFIED:20250826T200811Z
UID:10000739-1758904200-1758909600@www.angierchamber.org
SUMMARY:Ellington Studios Community Choir
DESCRIPTION:
URL:https://www.angierchamber.org/event/ellington-studios-community-choir-8/
LOCATION:Ellington Studios\, 54 South Raleigh Street\, Angier\, NC\, 27501\, United States
END:VEVENT
END:VCALENDAR