BEGIN:VCALENDAR
VERSION:2.0
PRODID:-//Angier Chamber of Commerce - ECPv6.15.18//NONSGML v1.0//EN
CALSCALE:GREGORIAN
METHOD:PUBLISH
X-ORIGINAL-URL:https://www.angierchamber.org
X-WR-CALDESC:Events for Angier Chamber of Commerce
REFRESH-INTERVAL;VALUE=DURATION:PT1H
X-Robots-Tag:noindex
X-PUBLISHED-TTL:PT1H
BEGIN:VTIMEZONE
TZID:UTC
BEGIN:STANDARD
TZOFFSETFROM:+0000
TZOFFSETTO:+0000
TZNAME:UTC
DTSTART:20240101T000000
END:STANDARD
END:VTIMEZONE
BEGIN:VEVENT
DTSTART;VALUE=DATE:20251001
DTEND;VALUE=DATE:20251220
DTSTAMP:20260425T013002
CREATED:20251010T172921Z
LAST-MODIFIED:20251010T172923Z
UID:10000912-1759276800-1766188799@www.angierchamber.org
SUMMARY:To Make a Child Smile Food Drive
DESCRIPTION:To Make A Child Smile Holiday Food Drive \nTo Make a Child Smile is partnering with local Harnett County schools to identify children and families in need. On Sunday\, December 21st\, volunteers will take these children Christmas shopping\, and the goal is to provide each family with a box of food so they can enjoy a warm holiday meal together. \nWe’re accepting non-perishable food donations such as canned goods\, instant potatoes\, rice\, pasta\, and other pantry staples.
URL:https://www.angierchamber.org/event/to-make-a-child-smile-food-drive/
LOCATION:NC
ATTACH;FMTTYPE=image/jpeg:https://www.angierchamber.org/wp-content/uploads/2025/10/559155723_1209783644502165_5867660157540676353_n.jpg
END:VEVENT
BEGIN:VEVENT
DTSTART;VALUE=DATE:20251101
DTEND;VALUE=DATE:20260101
DTSTAMP:20260425T013002
CREATED:20251021T163513Z
LAST-MODIFIED:20251021T163514Z
UID:10001029-1761955200-1767225599@www.angierchamber.org
SUMMARY:ACOC 2026/2028 Board Member Nominations being accepted
DESCRIPTION:Any member of the Angier Chamber of Commerce in good standing may be nominated for a seat on the Board of Directors. Directors serve a three-year term with a maximum of two consecutive terms. Any current director who has not served two consecutive terms\, may be re-nominated for another three-year term. There are (4) available seats for the 2026/2028 term. \nVacancies created by Angier Chamber of Commerce Board of Directors expiring terms this year are as follows: \nDiana Lischin – Angier Family Pharmacy (end of 2nd term)\nTom Wilson – C & D Insurance (end of 2nd term)\nAddison Allgood – The Shop Community Space\nKim Causer – Simply Said Gifts & Decor (end of 1st term\, but can serve a 2nd term) \nPLEASE NOTE:\n1. Board meetings will be held at the Angier Chamber of Commerce located at 24 East Depot Street\, Angier the second Tuesday of every month at 8:30 am.\n2. If the nominee is on a Committee (Annual Banquet Committee\, Crepe Myrtle Committee\, Christmas Committee\, etc.)\, there will be meetings scheduled outside of the regular Board meetings that they will be expected to attend.\n3. The nominee must be available to volunteer at the Annual Banquet\, Crepe Myrtle Celebration\, Christmas events\, and any other events the Chamber may host throughout the year. It takes\, us as a team\, working together to make these community events successful.\n4. There will be ribbon cuttings scheduled throughout the year that the nominee will be expected to attend.\n5. There will be networking events scheduled throughout the year that the nominee will be expected to attend. \nThe current Board of Directors will vote on the new members based on the nominations made by the membership in accordance with the Angier Chamber of Commerce Bylaws. \nNOTE: The Board of Directors of the Corporation shall consist of not less than ten (10) persons nor more than fifteen (15) persons. \nClick here for the nomination form (link will not work until November 1st\, 2025).
URL:https://www.angierchamber.org/event/acoc-2026-2028-board-member-nominations-being-accepted/
LOCATION:NC
ATTACH;FMTTYPE=image/png:https://www.angierchamber.org/wp-content/uploads/2025/10/Welcome-Autumn-Instagram-Post-1-1.png
END:VEVENT
BEGIN:VEVENT
DTSTART;TZID=UTC:20251122T100000
DTEND;TZID=UTC:20251122T150000
DTSTAMP:20260425T013002
CREATED:20251029T165547Z
LAST-MODIFIED:20251029T165549Z
UID:10001042-1763805600-1763823600@www.angierchamber.org
SUMMARY:Toy Drive Hosted by Red Dirt Customs
DESCRIPTION:
URL:https://www.angierchamber.org/event/toy-drive-hosted-by-red-dirt-customs/
LOCATION:NC
ATTACH;FMTTYPE=image/jpeg:https://www.angierchamber.org/wp-content/uploads/2025/10/2025-Toy-Drive-Benefit_page-0001.jpg
END:VEVENT
BEGIN:VEVENT
DTSTART;TZID=UTC:20251122T110000
DTEND;TZID=UTC:20251122T150000
DTSTAMP:20260425T013002
CREATED:20250707T194219Z
LAST-MODIFIED:20250707T194220Z
UID:10000598-1763809200-1763823600@www.angierchamber.org
SUMMARY:Fall Vendor Event with Gregory Vineyards
DESCRIPTION:
URL:https://www.angierchamber.org/event/fall-vendor-event-with-gregory-vineyards/
LOCATION:Gregory Vineyards\, 275 Bowling Spring Dr\, Angier\, NC\, 27501\, United States
END:VEVENT
BEGIN:VEVENT
DTSTART;TZID=UTC:20251122T110000
DTEND;TZID=UTC:20251122T150000
DTSTAMP:20260425T013002
CREATED:20250827T191554Z
LAST-MODIFIED:20250827T191555Z
UID:10000815-1763809200-1763823600@www.angierchamber.org
SUMMARY:Town of Angier Vendor Market and Holiday Fair
DESCRIPTION:
URL:https://www.angierchamber.org/event/town-of-angier-vendor-market-and-holiday-fair/
LOCATION:Jack Marley Park\, 249 East Williams Street\, Angier\, NC\, 27501\, United States
END:VEVENT
BEGIN:VEVENT
DTSTART;TZID=UTC:20251122T210000
DTEND;TZID=UTC:20251122T233000
DTSTAMP:20260425T013002
CREATED:20251013T174757Z
LAST-MODIFIED:20251013T174758Z
UID:10000951-1763845200-1763854200@www.angierchamber.org
SUMMARY:Live Music at Napper Tandy's
DESCRIPTION:
URL:https://www.angierchamber.org/event/live-music-at-napper-tandys-152/
LOCATION:Napper Tandy’s Public House and Restaurant\, 27 South Broad Street East\, Angier\, NC\, 27501\, United States
ATTACH;FMTTYPE=image/jpeg:https://www.angierchamber.org/wp-content/uploads/2025/07/live-music-header-1.jpg
END:VEVENT
BEGIN:VEVENT
DTSTART;TZID=UTC:20251124T180000
DTEND;TZID=UTC:20251124T190000
DTSTAMP:20260425T013002
CREATED:20251015T204416Z
LAST-MODIFIED:20251015T204417Z
UID:10001014-1764007200-1764010800@www.angierchamber.org
SUMMARY:Pilates at the ACOC with Michelle Moore Fitness Nutrition and Wellness
DESCRIPTION:
URL:https://www.angierchamber.org/event/pilates-at-the-acoc-with-michelle-moore-fitness-nutrition-and-wellness-22/
LOCATION:Angier Chamber of Commerce\, United States
ATTACH;FMTTYPE=image/jpeg:https://www.angierchamber.org/wp-content/uploads/2025/10/514349429_744509598285675_8990023049703001348_n.jpg
ORGANIZER;CN="Michelle Moore Fitness%2C Nutrition%2C and Wellness":MAILTO:Mmooreblessed@gmail.com
END:VEVENT
BEGIN:VEVENT
DTSTART;TZID=UTC:20251124T183000
DTEND;TZID=UTC:20251124T203000
DTSTAMP:20260425T013002
CREATED:20251013T171923Z
LAST-MODIFIED:20251013T171924Z
UID:10000922-1764009000-1764016200@www.angierchamber.org
SUMMARY:Music Trivia with Napper Tandy's
DESCRIPTION:
URL:https://www.angierchamber.org/event/music-trivia-with-napper-tandys-13/
LOCATION:Napper Tandy’s Public House and Restaurant\, 27 South Broad Street East\, Angier\, NC\, 27501\, United States
ATTACH;FMTTYPE=image/jpeg:https://www.angierchamber.org/wp-content/uploads/2025/09/trivia.jpg
END:VEVENT
BEGIN:VEVENT
DTSTART;TZID=UTC:20251125T190000
DTEND;TZID=UTC:20251125T210000
DTSTAMP:20260425T013002
CREATED:20251013T191634Z
LAST-MODIFIED:20251013T191634Z
UID:10000996-1764097200-1764104400@www.angierchamber.org
SUMMARY:Music Trivia with Wingin' It Angier
DESCRIPTION:
URL:https://www.angierchamber.org/event/music-trivia-with-wingin-it-angier-8/
LOCATION:Wingin’ It-Angier\, 546 W Church Street\, Angier\, NC\, 27501
ATTACH;FMTTYPE=image/jpeg:https://www.angierchamber.org/wp-content/uploads/2025/09/548547170_668666322939442_6083147841179008915_n.jpg
END:VEVENT
BEGIN:VEVENT
DTSTART;TZID=UTC:20251125T191000
DTEND;TZID=UTC:20251125T201000
DTSTAMP:20260425T013002
CREATED:20251013T181917Z
LAST-MODIFIED:20251013T181918Z
UID:10000968-1764097800-1764101400@www.angierchamber.org
SUMMARY:Boxing for Fitness with Forrest Fitness
DESCRIPTION:
URL:https://www.angierchamber.org/event/boxing-for-fitness-with-forrest-fitness-49/
LOCATION:Forrest Fitness\, 34 N. Broad Street E.\, Angier\, NC\, 27501
ATTACH;FMTTYPE=image/jpeg:https://www.angierchamber.org/wp-content/uploads/2025/10/560059000_25852210781045708_6358960948692611289_n.jpg
END:VEVENT
BEGIN:VEVENT
DTSTART;TZID=UTC:20251125T203000
DTEND;TZID=UTC:20251125T223000
DTSTAMP:20260425T013002
CREATED:20251013T173553Z
LAST-MODIFIED:20251013T173555Z
UID:10000940-1764102600-1764109800@www.angierchamber.org
SUMMARY:Karaoke with Napper Tandy's
DESCRIPTION:
URL:https://www.angierchamber.org/event/karaoke-with-napper-tandys-8/
LOCATION:Napper Tandy’s Public House and Restaurant\, 27 South Broad Street East\, Angier\, NC\, 27501\, United States
ATTACH;FMTTYPE=image/jpeg:https://www.angierchamber.org/wp-content/uploads/2025/09/552833982_122139454610655911_5150142279370209398_n.jpg
END:VEVENT
BEGIN:VEVENT
DTSTART;TZID=UTC:20251126T180000
DTEND;TZID=UTC:20251126T190000
DTSTAMP:20260425T013002
CREATED:20251015T204515Z
LAST-MODIFIED:20251015T204518Z
UID:10001015-1764180000-1764183600@www.angierchamber.org
SUMMARY:Pilates at the ACOC with Michelle Moore Fitness Nutrition and Wellness
DESCRIPTION:
URL:https://www.angierchamber.org/event/pilates-at-the-acoc-with-michelle-moore-fitness-nutrition-and-wellness-23/
LOCATION:Angier Chamber of Commerce\, United States
ATTACH;FMTTYPE=image/jpeg:https://www.angierchamber.org/wp-content/uploads/2025/10/514349429_744509598285675_8990023049703001348_n.jpg
ORGANIZER;CN="Michelle Moore Fitness%2C Nutrition%2C and Wellness":MAILTO:Mmooreblessed@gmail.com
END:VEVENT
BEGIN:VEVENT
DTSTART;TZID=UTC:20251126T183000
DTEND;TZID=UTC:20251126T203000
DTSTAMP:20260425T013002
CREATED:20251016T142818Z
LAST-MODIFIED:20251016T142819Z
UID:10001021-1764181800-1764189000@www.angierchamber.org
SUMMARY:Divorce Care with Church of the Resurrection
DESCRIPTION:
URL:https://www.angierchamber.org/event/divorce-care-with-church-of-the-resurrection-4/
LOCATION:Church of the Resurrection\, 171 West Depot Street\, Angier\, NC\, 27501\, United States
ATTACH;FMTTYPE=image/jpeg:https://www.angierchamber.org/wp-content/uploads/2025/10/558293276_1212162367618153_2181329549627526149_n-1.jpg
END:VEVENT
BEGIN:VEVENT
DTSTART;TZID=UTC:20251126T190000
DTEND;TZID=UTC:20251126T210000
DTSTAMP:20260425T013002
CREATED:20251013T172709Z
LAST-MODIFIED:20251013T172711Z
UID:10000931-1764183600-1764190800@www.angierchamber.org
SUMMARY:Music Bingo with Napper Tandy's
DESCRIPTION:
URL:https://www.angierchamber.org/event/music-bingo-with-napper-tandys-13/
LOCATION:Napper Tandy’s Public House and Restaurant\, 27 South Broad Street East\, Angier\, NC\, 27501\, United States
ATTACH;FMTTYPE=image/jpeg:https://www.angierchamber.org/wp-content/uploads/2025/09/552987763_122139538448655911_4267199439917595027_n.jpg
END:VEVENT
BEGIN:VEVENT
DTSTART;TZID=UTC:20251126T190000
DTEND;TZID=UTC:20251126T210000
DTSTAMP:20260425T013002
CREATED:20251013T183651Z
LAST-MODIFIED:20251013T183653Z
UID:10000987-1764183600-1764190800@www.angierchamber.org
SUMMARY:Music Bingo with Wingin' It Angier
DESCRIPTION:
URL:https://www.angierchamber.org/event/music-bingo-with-wingin-it-angier-9/
LOCATION:Forrest Fitness\, 34 N. Broad Street E.\, Angier\, NC\, 27501
ATTACH;FMTTYPE=image/jpeg:https://www.angierchamber.org/wp-content/uploads/2025/10/560059000_25852210781045708_6358960948692611289_n.jpg
END:VEVENT
BEGIN:VEVENT
DTSTART;TZID=UTC:20251127T100000
DTEND;TZID=UTC:20251127T110000
DTSTAMP:20260425T013002
CREATED:20250731T153754Z
LAST-MODIFIED:20250731T153755Z
UID:10000716-1764237600-1764241200@www.angierchamber.org
SUMMARY:Kinderjam Music Class with Ellington Studios
DESCRIPTION:
URL:https://www.angierchamber.org/event/kinderjam-music-class-with-ellington-studios-17/
LOCATION:Ellington Studios\, 54 South Raleigh Street\, Angier\, NC\, 27501\, United States
END:VEVENT
BEGIN:VEVENT
DTSTART;TZID=UTC:20251127T191000
DTEND;TZID=UTC:20251127T201000
DTSTAMP:20260425T013002
CREATED:20251013T182836Z
LAST-MODIFIED:20251013T182837Z
UID:10000980-1764270600-1764274200@www.angierchamber.org
SUMMARY:Boxing for Fitness with Forrest Fitness
DESCRIPTION:
URL:https://www.angierchamber.org/event/boxing-for-fitness-with-forrest-fitness-61/
LOCATION:Forrest Fitness\, 34 N. Broad Street E.\, Angier\, NC\, 27501
ATTACH;FMTTYPE=image/jpeg:https://www.angierchamber.org/wp-content/uploads/2025/10/560059000_25852210781045708_6358960948692611289_n.jpg
END:VEVENT
BEGIN:VEVENT
DTSTART;TZID=UTC:20251128T210000
DTEND;TZID=UTC:20251128T233000
DTSTAMP:20260425T013002
CREATED:20251013T174845Z
LAST-MODIFIED:20251013T174846Z
UID:10000952-1764363600-1764372600@www.angierchamber.org
SUMMARY:Live Music at Napper Tandy's
DESCRIPTION:
URL:https://www.angierchamber.org/event/live-music-at-napper-tandys-153/
LOCATION:Napper Tandy’s Public House and Restaurant\, 27 South Broad Street East\, Angier\, NC\, 27501\, United States
ATTACH;FMTTYPE=image/jpeg:https://www.angierchamber.org/wp-content/uploads/2025/07/live-music-header-1.jpg
END:VEVENT
BEGIN:VEVENT
DTSTART;VALUE=DATE:20251129
DTEND;VALUE=DATE:20251130
DTSTAMP:20260425T013002
CREATED:20250410T123146Z
LAST-MODIFIED:20250717T194747Z
UID:10000348-1764374400-1764460799@www.angierchamber.org
SUMMARY:Small Business Saturday
DESCRIPTION:
URL:https://www.angierchamber.org/event/small-business-saturday-3/
LOCATION:NC
END:VEVENT
BEGIN:VEVENT
DTSTART;TZID=UTC:20251129T210000
DTEND;TZID=UTC:20251129T233000
DTSTAMP:20260425T013002
CREATED:20251013T174931Z
LAST-MODIFIED:20251013T174933Z
UID:10000953-1764450000-1764459000@www.angierchamber.org
SUMMARY:Live Music at Napper Tandy's
DESCRIPTION:
URL:https://www.angierchamber.org/event/live-music-at-napper-tandys-154/
LOCATION:Napper Tandy’s Public House and Restaurant\, 27 South Broad Street East\, Angier\, NC\, 27501\, United States
ATTACH;FMTTYPE=image/jpeg:https://www.angierchamber.org/wp-content/uploads/2025/07/live-music-header-1.jpg
END:VEVENT
BEGIN:VEVENT
DTSTART;TZID=UTC:20251201T183000
DTEND;TZID=UTC:20251201T203000
DTSTAMP:20260425T013002
CREATED:20251013T172006Z
LAST-MODIFIED:20251013T172009Z
UID:10000923-1764613800-1764621000@www.angierchamber.org
SUMMARY:Music Trivia with Napper Tandy's
DESCRIPTION:
URL:https://www.angierchamber.org/event/music-trivia-with-napper-tandys-14/
LOCATION:Napper Tandy’s Public House and Restaurant\, 27 South Broad Street East\, Angier\, NC\, 27501\, United States
ATTACH;FMTTYPE=image/jpeg:https://www.angierchamber.org/wp-content/uploads/2025/09/trivia.jpg
END:VEVENT
BEGIN:VEVENT
DTSTART;TZID=UTC:20251202T190000
DTEND;TZID=UTC:20251202T210000
DTSTAMP:20260425T013002
CREATED:20251013T191754Z
LAST-MODIFIED:20251013T191755Z
UID:10000997-1764702000-1764709200@www.angierchamber.org
SUMMARY:Music Trivia with Wingin' It Angier
DESCRIPTION:
URL:https://www.angierchamber.org/event/music-trivia-with-wingin-it-angier-9/
LOCATION:Wingin’ It-Angier\, 546 W Church Street\, Angier\, NC\, 27501
ATTACH;FMTTYPE=image/jpeg:https://www.angierchamber.org/wp-content/uploads/2025/09/548547170_668666322939442_6083147841179008915_n.jpg
END:VEVENT
BEGIN:VEVENT
DTSTART;TZID=UTC:20251202T191000
DTEND;TZID=UTC:20251202T201000
DTSTAMP:20260425T013002
CREATED:20251013T182003Z
LAST-MODIFIED:20251013T182006Z
UID:10000969-1764702600-1764706200@www.angierchamber.org
SUMMARY:Boxing for Fitness with Forrest Fitness
DESCRIPTION:
URL:https://www.angierchamber.org/event/boxing-for-fitness-with-forrest-fitness-50/
LOCATION:Forrest Fitness\, 34 N. Broad Street E.\, Angier\, NC\, 27501
ATTACH;FMTTYPE=image/jpeg:https://www.angierchamber.org/wp-content/uploads/2025/10/560059000_25852210781045708_6358960948692611289_n.jpg
END:VEVENT
BEGIN:VEVENT
DTSTART;TZID=UTC:20251202T203000
DTEND;TZID=UTC:20251202T223000
DTSTAMP:20260425T013002
CREATED:20251013T173657Z
LAST-MODIFIED:20251013T173658Z
UID:10000941-1764707400-1764714600@www.angierchamber.org
SUMMARY:Karaoke with Napper Tandy's
DESCRIPTION:
URL:https://www.angierchamber.org/event/karaoke-with-napper-tandys-9/
LOCATION:Napper Tandy’s Public House and Restaurant\, 27 South Broad Street East\, Angier\, NC\, 27501\, United States
ATTACH;FMTTYPE=image/jpeg:https://www.angierchamber.org/wp-content/uploads/2025/09/552833982_122139454610655911_5150142279370209398_n.jpg
END:VEVENT
BEGIN:VEVENT
DTSTART;TZID=UTC:20251203T183000
DTEND;TZID=UTC:20251203T203000
DTSTAMP:20260425T013002
CREATED:20251016T142929Z
LAST-MODIFIED:20251016T142931Z
UID:10001022-1764786600-1764793800@www.angierchamber.org
SUMMARY:Divorce Care with Church of the Resurrection
DESCRIPTION:
URL:https://www.angierchamber.org/event/divorce-care-with-church-of-the-resurrection-5/
LOCATION:Church of the Resurrection\, 171 West Depot Street\, Angier\, NC\, 27501\, United States
ATTACH;FMTTYPE=image/jpeg:https://www.angierchamber.org/wp-content/uploads/2025/10/558293276_1212162367618153_2181329549627526149_n-1.jpg
END:VEVENT
BEGIN:VEVENT
DTSTART;TZID=UTC:20251203T190000
DTEND;TZID=UTC:20251203T210000
DTSTAMP:20260425T013002
CREATED:20251013T172816Z
LAST-MODIFIED:20251013T172817Z
UID:10000932-1764788400-1764795600@www.angierchamber.org
SUMMARY:Music Bingo with Napper Tandy's
DESCRIPTION:
URL:https://www.angierchamber.org/event/music-bingo-with-napper-tandys-14/
LOCATION:Napper Tandy’s Public House and Restaurant\, 27 South Broad Street East\, Angier\, NC\, 27501\, United States
ATTACH;FMTTYPE=image/jpeg:https://www.angierchamber.org/wp-content/uploads/2025/09/552987763_122139538448655911_4267199439917595027_n.jpg
END:VEVENT
BEGIN:VEVENT
DTSTART;TZID=UTC:20251203T190000
DTEND;TZID=UTC:20251203T210000
DTSTAMP:20260425T013002
CREATED:20251013T190843Z
LAST-MODIFIED:20251013T190846Z
UID:10000988-1764788400-1764795600@www.angierchamber.org
SUMMARY:Music Bingo with Wingin' It Angier
DESCRIPTION:
URL:https://www.angierchamber.org/event/music-bingo-with-wingin-it-angier-10/
LOCATION:Wingin’ It-Angier\, 546 W Church Street\, Angier\, NC\, 27501
ATTACH;FMTTYPE=image/jpeg:https://www.angierchamber.org/wp-content/uploads/2025/09/552014835_674956008977140_4877556687178227209_n.jpg
END:VEVENT
BEGIN:VEVENT
DTSTART;TZID=UTC:20251204T090000
DTEND;TZID=UTC:20251204T100000
DTSTAMP:20260425T013002
CREATED:20250513T202243Z
LAST-MODIFIED:20250513T202244Z
UID:10000428-1764838800-1764842400@www.angierchamber.org
SUMMARY:Angier Chamber of Commerce Ambassador Meeting
DESCRIPTION:
URL:https://www.angierchamber.org/event/angier-chamber-of-commerce-ambassador-meeting-7/
LOCATION:Angier Chamber of Commerce\, United States
ATTACH;FMTTYPE=image/jpeg:https://www.angierchamber.org/wp-content/uploads/2025/05/492743731_1090399029773961_7986808581438224843_n.jpg
ORGANIZER;CN="Angier Chamber of Commerce":MAILTO:angiercc@angierchamber.org
END:VEVENT
BEGIN:VEVENT
DTSTART;TZID=UTC:20251204T100000
DTEND;TZID=UTC:20251204T110000
DTSTAMP:20260425T013002
CREATED:20250731T153912Z
LAST-MODIFIED:20250731T153913Z
UID:10000717-1764842400-1764846000@www.angierchamber.org
SUMMARY:Kinderjam Music Class with Ellington Studios
DESCRIPTION:
URL:https://www.angierchamber.org/event/kinderjam-music-class-with-ellington-studios-18/
LOCATION:Ellington Studios\, 54 South Raleigh Street\, Angier\, NC\, 27501\, United States
END:VEVENT
BEGIN:VEVENT
DTSTART;TZID=UTC:20251204T191000
DTEND;TZID=UTC:20251204T201000
DTSTAMP:20260425T013002
CREATED:20251013T182926Z
LAST-MODIFIED:20251013T182949Z
UID:10000981-1764875400-1764879000@www.angierchamber.org
SUMMARY:Boxing for Fitness with Forrest Fitness
DESCRIPTION:
URL:https://www.angierchamber.org/event/boxing-for-fitness-with-forrest-fitness-62/
LOCATION:Forrest Fitness\, 34 N. Broad Street E.\, Angier\, NC\, 27501
ATTACH;FMTTYPE=image/jpeg:https://www.angierchamber.org/wp-content/uploads/2025/10/560059000_25852210781045708_6358960948692611289_n.jpg
END:VEVENT
END:VCALENDAR