BEGIN:VCALENDAR
VERSION:2.0
PRODID:-//Angier Chamber of Commerce - ECPv6.15.18//NONSGML v1.0//EN
CALSCALE:GREGORIAN
METHOD:PUBLISH
X-ORIGINAL-URL:https://www.angierchamber.org
X-WR-CALDESC:Events for Angier Chamber of Commerce
REFRESH-INTERVAL;VALUE=DURATION:PT1H
X-Robots-Tag:noindex
X-PUBLISHED-TTL:PT1H
BEGIN:VTIMEZONE
TZID:UTC
BEGIN:STANDARD
TZOFFSETFROM:+0000
TZOFFSETTO:+0000
TZNAME:UTC
DTSTART:20240101T000000
END:STANDARD
END:VTIMEZONE
BEGIN:VEVENT
DTSTART;VALUE=DATE:20251001
DTEND;VALUE=DATE:20251220
DTSTAMP:20260425T000411
CREATED:20251010T172921Z
LAST-MODIFIED:20251010T172923Z
UID:10000912-1759276800-1766188799@www.angierchamber.org
SUMMARY:To Make a Child Smile Food Drive
DESCRIPTION:To Make A Child Smile Holiday Food Drive \nTo Make a Child Smile is partnering with local Harnett County schools to identify children and families in need. On Sunday\, December 21st\, volunteers will take these children Christmas shopping\, and the goal is to provide each family with a box of food so they can enjoy a warm holiday meal together. \nWe’re accepting non-perishable food donations such as canned goods\, instant potatoes\, rice\, pasta\, and other pantry staples.
URL:https://www.angierchamber.org/event/to-make-a-child-smile-food-drive/
LOCATION:NC
ATTACH;FMTTYPE=image/jpeg:https://www.angierchamber.org/wp-content/uploads/2025/10/559155723_1209783644502165_5867660157540676353_n.jpg
END:VEVENT
BEGIN:VEVENT
DTSTART;VALUE=DATE:20251101
DTEND;VALUE=DATE:20260101
DTSTAMP:20260425T000411
CREATED:20251021T163513Z
LAST-MODIFIED:20251021T163514Z
UID:10001029-1761955200-1767225599@www.angierchamber.org
SUMMARY:ACOC 2026/2028 Board Member Nominations being accepted
DESCRIPTION:Any member of the Angier Chamber of Commerce in good standing may be nominated for a seat on the Board of Directors. Directors serve a three-year term with a maximum of two consecutive terms. Any current director who has not served two consecutive terms\, may be re-nominated for another three-year term. There are (4) available seats for the 2026/2028 term. \nVacancies created by Angier Chamber of Commerce Board of Directors expiring terms this year are as follows: \nDiana Lischin – Angier Family Pharmacy (end of 2nd term)\nTom Wilson – C & D Insurance (end of 2nd term)\nAddison Allgood – The Shop Community Space\nKim Causer – Simply Said Gifts & Decor (end of 1st term\, but can serve a 2nd term) \nPLEASE NOTE:\n1. Board meetings will be held at the Angier Chamber of Commerce located at 24 East Depot Street\, Angier the second Tuesday of every month at 8:30 am.\n2. If the nominee is on a Committee (Annual Banquet Committee\, Crepe Myrtle Committee\, Christmas Committee\, etc.)\, there will be meetings scheduled outside of the regular Board meetings that they will be expected to attend.\n3. The nominee must be available to volunteer at the Annual Banquet\, Crepe Myrtle Celebration\, Christmas events\, and any other events the Chamber may host throughout the year. It takes\, us as a team\, working together to make these community events successful.\n4. There will be ribbon cuttings scheduled throughout the year that the nominee will be expected to attend.\n5. There will be networking events scheduled throughout the year that the nominee will be expected to attend. \nThe current Board of Directors will vote on the new members based on the nominations made by the membership in accordance with the Angier Chamber of Commerce Bylaws. \nNOTE: The Board of Directors of the Corporation shall consist of not less than ten (10) persons nor more than fifteen (15) persons. \nClick here for the nomination form (link will not work until November 1st\, 2025).
URL:https://www.angierchamber.org/event/acoc-2026-2028-board-member-nominations-being-accepted/
LOCATION:NC
ATTACH;FMTTYPE=image/png:https://www.angierchamber.org/wp-content/uploads/2025/10/Welcome-Autumn-Instagram-Post-1-1.png
END:VEVENT
BEGIN:VEVENT
DTSTART;TZID=UTC:20251107T130000
DTEND;TZID=UTC:20251109T170000
DTSTAMP:20260425T000412
CREATED:20251027T202507Z
LAST-MODIFIED:20251027T202509Z
UID:10001037-1762520400-1762707600@www.angierchamber.org
SUMMARY:Jabez Floristry Christmas Open House
DESCRIPTION:
URL:https://www.angierchamber.org/event/jabez-floristry-christmas-open-house-2/
LOCATION:Jabez Floristry\, 47 S Broad St E\, A\, Angier\, NC\, 27501
ATTACH;FMTTYPE=image/jpeg:https://www.angierchamber.org/wp-content/uploads/2025/10/569605749_1424000819438740_5641455781277117497_n.jpg
END:VEVENT
BEGIN:VEVENT
DTSTART;TZID=UTC:20251109T110000
DTEND;TZID=UTC:20251109T120000
DTSTAMP:20260425T000412
CREATED:20251023T142214Z
LAST-MODIFIED:20251023T142215Z
UID:10001033-1762686000-1762689600@www.angierchamber.org
SUMMARY:Veteran's Day Service with ABC
DESCRIPTION:
URL:https://www.angierchamber.org/event/veterans-day-service-with-abc/
LOCATION:Angier Baptist Church\, 155 South Hickory Street\, Angier\, NC\, 27501\, United States
ATTACH;FMTTYPE=image/jpeg:https://www.angierchamber.org/wp-content/uploads/2025/10/557796201_1120182683595469_3440218156308082279_n.jpg
END:VEVENT
BEGIN:VEVENT
DTSTART;TZID=UTC:20251110T180000
DTEND;TZID=UTC:20251110T190000
DTSTAMP:20260425T000412
CREATED:20251015T203245Z
LAST-MODIFIED:20251015T203247Z
UID:10001008-1762797600-1762801200@www.angierchamber.org
SUMMARY:Pilates at the ACOC with Michelle Moore Fitness Nutrition and Wellness
DESCRIPTION:
URL:https://www.angierchamber.org/event/pilates-at-the-acoc-with-michelle-moore-fitness-nutrition-and-wellness-16/
LOCATION:Angier Chamber of Commerce\, United States
ATTACH;FMTTYPE=image/jpeg:https://www.angierchamber.org/wp-content/uploads/2025/10/514349429_744509598285675_8990023049703001348_n.jpg
ORGANIZER;CN="Michelle Moore Fitness%2C Nutrition%2C and Wellness":MAILTO:Mmooreblessed@gmail.com
END:VEVENT
BEGIN:VEVENT
DTSTART;TZID=UTC:20251110T183000
DTEND;TZID=UTC:20251110T203000
DTSTAMP:20260425T000412
CREATED:20251013T171734Z
LAST-MODIFIED:20251013T171737Z
UID:10000920-1762799400-1762806600@www.angierchamber.org
SUMMARY:Music Trivia with Napper Tandy's
DESCRIPTION:
URL:https://www.angierchamber.org/event/music-trivia-with-napper-tandys-11/
LOCATION:Napper Tandy’s Public House and Restaurant\, 27 South Broad Street East\, Angier\, NC\, 27501\, United States
ATTACH;FMTTYPE=image/jpeg:https://www.angierchamber.org/wp-content/uploads/2025/09/trivia.jpg
END:VEVENT
BEGIN:VEVENT
DTSTART;VALUE=DATE:20251111
DTEND;VALUE=DATE:20251112
DTSTAMP:20260425T000412
CREATED:20251027T180527Z
LAST-MODIFIED:20251027T180529Z
UID:10001035-1762819200-1762905599@www.angierchamber.org
SUMMARY:Veteran's Day (ACOC and DMV Closed)
DESCRIPTION:
URL:https://www.angierchamber.org/event/veterans-day-acoc-and-dmv-closed/
LOCATION:NC
ATTACH;FMTTYPE=image/png:https://www.angierchamber.org/wp-content/uploads/2025/10/veterans-day-closed.png
END:VEVENT
BEGIN:VEVENT
DTSTART;TZID=UTC:20251111T181500
DTEND;TZID=UTC:20251111T201500
DTSTAMP:20260425T000412
CREATED:20251023T141310Z
LAST-MODIFIED:20251027T175631Z
UID:10001031-1762884900-1762892100@www.angierchamber.org
SUMMARY:NYRDA Annual Veteran's Day Event
DESCRIPTION:
URL:https://www.angierchamber.org/event/nyrda-annual-veterans-day-event/
LOCATION:NYRDA\, 123 E Depot St.\, Angier\, NC\, 27501
ATTACH;FMTTYPE=image/jpeg:https://www.angierchamber.org/wp-content/uploads/2025/10/570320017_10230189560191492_4338892735508709779_n-1.jpg
END:VEVENT
BEGIN:VEVENT
DTSTART;TZID=UTC:20251111T190000
DTEND;TZID=UTC:20251111T210000
DTSTAMP:20260425T000412
CREATED:20251013T191445Z
LAST-MODIFIED:20251013T191446Z
UID:10000994-1762887600-1762894800@www.angierchamber.org
SUMMARY:Music Trivia with Wingin' It Angier
DESCRIPTION:
URL:https://www.angierchamber.org/event/music-trivia-with-wingin-it-angier-6/
LOCATION:Wingin’ It-Angier\, 546 W Church Street\, Angier\, NC\, 27501
ATTACH;FMTTYPE=image/jpeg:https://www.angierchamber.org/wp-content/uploads/2025/09/548547170_668666322939442_6083147841179008915_n.jpg
END:VEVENT
BEGIN:VEVENT
DTSTART;TZID=UTC:20251111T191000
DTEND;TZID=UTC:20251111T201000
DTSTAMP:20260425T000412
CREATED:20251013T181736Z
LAST-MODIFIED:20251013T181738Z
UID:10000966-1762888200-1762891800@www.angierchamber.org
SUMMARY:Boxing for Fitness with Forrest Fitness
DESCRIPTION:
URL:https://www.angierchamber.org/event/boxing-for-fitness-with-forrest-fitness-47/
LOCATION:Forrest Fitness\, 34 N. Broad Street E.\, Angier\, NC\, 27501
ATTACH;FMTTYPE=image/jpeg:https://www.angierchamber.org/wp-content/uploads/2025/10/560059000_25852210781045708_6358960948692611289_n.jpg
END:VEVENT
BEGIN:VEVENT
DTSTART;TZID=UTC:20251111T203000
DTEND;TZID=UTC:20251111T223000
DTSTAMP:20260425T000412
CREATED:20251013T173406Z
LAST-MODIFIED:20251013T173407Z
UID:10000938-1762893000-1762900200@www.angierchamber.org
SUMMARY:Karaoke with Napper Tandy's
DESCRIPTION:
URL:https://www.angierchamber.org/event/karaoke-with-napper-tandys-6/
LOCATION:Napper Tandy’s Public House and Restaurant\, 27 South Broad Street East\, Angier\, NC\, 27501\, United States
ATTACH;FMTTYPE=image/jpeg:https://www.angierchamber.org/wp-content/uploads/2025/09/552833982_122139454610655911_5150142279370209398_n.jpg
END:VEVENT
BEGIN:VEVENT
DTSTART;TZID=UTC:20251112T090000
DTEND;TZID=UTC:20251112T100000
DTSTAMP:20260425T000412
CREATED:20251016T143537Z
LAST-MODIFIED:20251016T143541Z
UID:10001027-1762938000-1762941600@www.angierchamber.org
SUMMARY:Yoga with Church of the Resurrection
DESCRIPTION:
URL:https://www.angierchamber.org/event/yoga-with-church-of-the-resurrection/
LOCATION:Church of the Resurrection\, 171 West Depot Street\, Angier\, NC\, 27501\, United States
ATTACH;FMTTYPE=image/jpeg:https://www.angierchamber.org/wp-content/uploads/2025/10/556141527_1206025128231877_9182610708957024283_n.jpg
END:VEVENT
BEGIN:VEVENT
DTSTART;TZID=UTC:20251112T180000
DTEND;TZID=UTC:20251112T190000
DTSTAMP:20260425T000412
CREATED:20251015T203519Z
LAST-MODIFIED:20251015T203523Z
UID:10001009-1762970400-1762974000@www.angierchamber.org
SUMMARY:Pilates at the ACOC with Michelle Moore Fitness Nutrition and Wellness
DESCRIPTION:
URL:https://www.angierchamber.org/event/pilates-at-the-acoc-with-michelle-moore-fitness-nutrition-and-wellness-17/
LOCATION:Angier Chamber of Commerce\, United States
ATTACH;FMTTYPE=image/jpeg:https://www.angierchamber.org/wp-content/uploads/2025/10/514349429_744509598285675_8990023049703001348_n.jpg
ORGANIZER;CN="Michelle Moore Fitness%2C Nutrition%2C and Wellness":MAILTO:Mmooreblessed@gmail.com
END:VEVENT
BEGIN:VEVENT
DTSTART;TZID=UTC:20251112T183000
DTEND;TZID=UTC:20251112T203000
DTSTAMP:20260425T000412
CREATED:20251016T142647Z
LAST-MODIFIED:20251016T142649Z
UID:10001019-1762972200-1762979400@www.angierchamber.org
SUMMARY:Divorce Care with Church of the Resurrection
DESCRIPTION:
URL:https://www.angierchamber.org/event/divorce-care-with-church-of-the-resurrection-2/
LOCATION:Church of the Resurrection\, 171 West Depot Street\, Angier\, NC\, 27501\, United States
ATTACH;FMTTYPE=image/jpeg:https://www.angierchamber.org/wp-content/uploads/2025/10/558293276_1212162367618153_2181329549627526149_n-1.jpg
END:VEVENT
BEGIN:VEVENT
DTSTART;TZID=UTC:20251112T190000
DTEND;TZID=UTC:20251112T210000
DTSTAMP:20260425T000412
CREATED:20251013T172522Z
LAST-MODIFIED:20251013T172523Z
UID:10000929-1762974000-1762981200@www.angierchamber.org
SUMMARY:Music Bingo with Napper Tandy's
DESCRIPTION:
URL:https://www.angierchamber.org/event/music-bingo-with-napper-tandys-11/
LOCATION:Napper Tandy’s Public House and Restaurant\, 27 South Broad Street East\, Angier\, NC\, 27501\, United States
ATTACH;FMTTYPE=image/jpeg:https://www.angierchamber.org/wp-content/uploads/2025/09/552987763_122139538448655911_4267199439917595027_n.jpg
END:VEVENT
BEGIN:VEVENT
DTSTART;TZID=UTC:20251112T190000
DTEND;TZID=UTC:20251112T210000
DTSTAMP:20260425T000412
CREATED:20251013T183439Z
LAST-MODIFIED:20251013T183440Z
UID:10000985-1762974000-1762981200@www.angierchamber.org
SUMMARY:Music Bingo with Wingin' It Angier
DESCRIPTION:
URL:https://www.angierchamber.org/event/music-bingo-with-wingin-it-angier-7/
LOCATION:Wingin’ It-Angier\, 546 W Church Street\, Angier\, NC\, 27501
ATTACH;FMTTYPE=image/jpeg:https://www.angierchamber.org/wp-content/uploads/2025/09/552014835_674956008977140_4877556687178227209_n.jpg
END:VEVENT
BEGIN:VEVENT
DTSTART;TZID=UTC:20251113T100000
DTEND;TZID=UTC:20251113T110000
DTSTAMP:20260425T000412
CREATED:20250731T153550Z
LAST-MODIFIED:20250731T153551Z
UID:10000714-1763028000-1763031600@www.angierchamber.org
SUMMARY:Kinderjam Music Class with Ellington Studios
DESCRIPTION:
URL:https://www.angierchamber.org/event/kinderjam-music-class-with-ellington-studios-15/
LOCATION:Ellington Studios\, 54 South Raleigh Street\, Angier\, NC\, 27501\, United States
END:VEVENT
BEGIN:VEVENT
DTSTART;TZID=UTC:20251113T170000
DTEND;TZID=UTC:20251113T190000
DTSTAMP:20260425T000412
CREATED:20251031T171808Z
LAST-MODIFIED:20251031T171853Z
UID:10001043-1763053200-1763060400@www.angierchamber.org
SUMMARY:Girls Night Out with One Life Natural Market
DESCRIPTION:
URL:https://www.angierchamber.org/event/girls-night-out-with-one-life-natural-market-2/
LOCATION:One Life Natural Market\, 108 W Edgerton Street\, Dunn\, NC\, 28334
ATTACH;FMTTYPE=image/jpeg:https://www.angierchamber.org/wp-content/uploads/2025/10/572928300_18532004665060844_3578507743347174785_n.jpg
END:VEVENT
BEGIN:VEVENT
DTSTART;TZID=UTC:20251113T170000
DTEND;TZID=UTC:20251113T210000
DTSTAMP:20260425T000412
CREATED:20251028T165506Z
LAST-MODIFIED:20251028T165508Z
UID:10001040-1763053200-1763067600@www.angierchamber.org
SUMMARY:Tip a Cop with the Angier Police Department
DESCRIPTION:
URL:https://www.angierchamber.org/event/tip-a-cop-with-the-angier-police-department/
LOCATION:Napper Tandy’s Public House and Restaurant\, 27 South Broad Street East\, Angier\, NC\, 27501\, United States
ATTACH;FMTTYPE=image/jpeg:https://www.angierchamber.org/wp-content/uploads/2025/10/573066134_122142498584655911_8391278566410895289_n.jpg
END:VEVENT
BEGIN:VEVENT
DTSTART;TZID=UTC:20251113T180000
DTEND;TZID=UTC:20251113T190000
DTSTAMP:20260425T000412
CREATED:20250929T180856Z
LAST-MODIFIED:20250929T180858Z
UID:10000878-1763056800-1763060400@www.angierchamber.org
SUMMARY:Chamber Business After Hours
DESCRIPTION:
URL:https://www.angierchamber.org/event/chamber-business-after-hours/
LOCATION:Angier Family Pharmacy\, 50 East Depot Street\, Angier\, United States
ATTACH;FMTTYPE=image/jpeg:https://www.angierchamber.org/wp-content/uploads/2025/09/487064659_1055729036574294_8627814640075220847_n-_1_.jpg
ORGANIZER;CN="Angier Chamber of Commerce":MAILTO:angiercc@angierchamber.org
END:VEVENT
BEGIN:VEVENT
DTSTART;TZID=UTC:20251113T191000
DTEND;TZID=UTC:20251113T201000
DTSTAMP:20260425T000412
CREATED:20251013T182706Z
LAST-MODIFIED:20251013T182709Z
UID:10000978-1763061000-1763064600@www.angierchamber.org
SUMMARY:Boxing for Fitness with Forrest Fitness
DESCRIPTION:
URL:https://www.angierchamber.org/event/boxing-for-fitness-with-forrest-fitness-59/
LOCATION:Forrest Fitness\, 34 N. Broad Street E.\, Angier\, NC\, 27501
ATTACH;FMTTYPE=image/jpeg:https://www.angierchamber.org/wp-content/uploads/2025/10/560059000_25852210781045708_6358960948692611289_n.jpg
END:VEVENT
BEGIN:VEVENT
DTSTART;TZID=UTC:20251114T120000
DTEND;TZID=UTC:20251114T130000
DTSTAMP:20260425T000412
CREATED:20250925T195812Z
LAST-MODIFIED:20251113T171851Z
UID:10000820-1763121600-1763125200@www.angierchamber.org
SUMMARY:Quilt Kits and Cuts Ribbon Cutting
DESCRIPTION:
URL:https://www.angierchamber.org/event/quilt-kits-and-cuts-ribbon-cutting/
LOCATION:Quilts Kits and Cuts\, 6503 King Lawrence Road\, Raleigh\, NC
ATTACH;FMTTYPE=image/jpeg:https://www.angierchamber.org/wp-content/uploads/2025/09/581868936_1238798918267304_463659596496664468_n-3.jpg
ORGANIZER;CN="Angier Chamber of Commerce":MAILTO:angiercc@angierchamber.org
END:VEVENT
BEGIN:VEVENT
DTSTART;TZID=UTC:20251114T210000
DTEND;TZID=UTC:20251114T233000
DTSTAMP:20260425T000412
CREATED:20251013T174513Z
LAST-MODIFIED:20251013T174515Z
UID:10000948-1763154000-1763163000@www.angierchamber.org
SUMMARY:Live Music at Napper Tandy's
DESCRIPTION:
URL:https://www.angierchamber.org/event/live-music-at-napper-tandys-149/
LOCATION:Napper Tandy’s Public House and Restaurant\, 27 South Broad Street East\, Angier\, NC\, 27501\, United States
ATTACH;FMTTYPE=image/jpeg:https://www.angierchamber.org/wp-content/uploads/2025/07/live-music-header-1.jpg
END:VEVENT
BEGIN:VEVENT
DTSTART;VALUE=DATE:20251115
DTEND;VALUE=DATE:20251116
DTSTAMP:20260425T000412
CREATED:20250827T191334Z
LAST-MODIFIED:20250827T191335Z
UID:10000814-1763164800-1763251199@www.angierchamber.org
SUMMARY:Hiester Cares Walk
DESCRIPTION:
URL:https://www.angierchamber.org/event/hiester-cares-walk/
LOCATION:NC
END:VEVENT
BEGIN:VEVENT
DTSTART;TZID=UTC:20251115T110000
DTEND;TZID=UTC:20251115T150000
DTSTAMP:20260425T000412
CREATED:20251016T142323Z
LAST-MODIFIED:20251016T142325Z
UID:10001017-1763204400-1763218800@www.angierchamber.org
SUMMARY:Christmas Wander Fest hosted by GypsySoul
DESCRIPTION:
URL:https://www.angierchamber.org/event/christmas-wander-fest-hosted-by-gypsysoul/
LOCATION:GypsySoul Boutique\, 1179 N Main Street\, Lillington\, NC\, 27546
ATTACH;FMTTYPE=image/jpeg:https://www.angierchamber.org/wp-content/uploads/2025/10/561289889_792021683722692_8673033368865432243_n-1.jpg
END:VEVENT
BEGIN:VEVENT
DTSTART;TZID=UTC:20251115T130000
DTEND;TZID=UTC:20251115T160000
DTSTAMP:20260425T000412
CREATED:20251014T121409Z
LAST-MODIFIED:20251014T121410Z
UID:10001002-1763211600-1763222400@www.angierchamber.org
SUMMARY:Caregivers Support Seminar hosted by Angier Rotary
DESCRIPTION:
URL:https://www.angierchamber.org/event/caregivers-support-seminar-hosted-by-angier-rotary/
LOCATION:Angier Baptist Church\, 155 South Hickory Street\, Angier\, NC\, 27501\, United States
ATTACH;FMTTYPE=image/jpeg:https://www.angierchamber.org/wp-content/uploads/2025/10/Nov-15-Caregivers-Support-Seminar.jpg
END:VEVENT
BEGIN:VEVENT
DTSTART;TZID=UTC:20251115T210000
DTEND;TZID=UTC:20251115T233000
DTSTAMP:20260425T000412
CREATED:20251013T174623Z
LAST-MODIFIED:20251013T174624Z
UID:10000949-1763240400-1763249400@www.angierchamber.org
SUMMARY:Live Music at Napper Tandy's
DESCRIPTION:
URL:https://www.angierchamber.org/event/live-music-at-napper-tandys-150/
LOCATION:Napper Tandy’s Public House and Restaurant\, 27 South Broad Street East\, Angier\, NC\, 27501\, United States
ATTACH;FMTTYPE=image/jpeg:https://www.angierchamber.org/wp-content/uploads/2025/07/live-music-header-1.jpg
END:VEVENT
BEGIN:VEVENT
DTSTART;TZID=UTC:20251116T140000
DTEND;TZID=UTC:20251116T180000
DTSTAMP:20260425T000412
CREATED:20250929T181022Z
LAST-MODIFIED:20250929T181025Z
UID:10000879-1763301600-1763316000@www.angierchamber.org
SUMMARY:Pecan Fest at Ronnie's Berry Farm
DESCRIPTION:
URL:https://www.angierchamber.org/event/pecan-fest-at-ronnies-berry-farm/
LOCATION:Ronnie’s Berry Farm\, 18409 NC-210\, Angier\, NC\, 27501
ATTACH;FMTTYPE=image/jpeg:https://www.angierchamber.org/wp-content/uploads/2025/09/540506996_1397276199070138_3672675763130056886_n.jpg
END:VEVENT
BEGIN:VEVENT
DTSTART;TZID=UTC:20251117T180000
DTEND;TZID=UTC:20251117T190000
DTSTAMP:20260425T000412
CREATED:20251015T203819Z
LAST-MODIFIED:20251015T203822Z
UID:10001011-1763402400-1763406000@www.angierchamber.org
SUMMARY:Pilates at the ACOC with Michelle Moore Fitness Nutrition and Wellness
DESCRIPTION:
URL:https://www.angierchamber.org/event/pilates-at-the-acoc-with-michelle-moore-fitness-nutrition-and-wellness-19/
LOCATION:Angier Chamber of Commerce\, United States
ATTACH;FMTTYPE=image/jpeg:https://www.angierchamber.org/wp-content/uploads/2025/10/514349429_744509598285675_8990023049703001348_n.jpg
ORGANIZER;CN="Michelle Moore Fitness%2C Nutrition%2C and Wellness":MAILTO:Mmooreblessed@gmail.com
END:VEVENT
BEGIN:VEVENT
DTSTART;TZID=UTC:20251117T183000
DTEND;TZID=UTC:20251117T203000
DTSTAMP:20260425T000412
CREATED:20251013T171819Z
LAST-MODIFIED:20251013T171823Z
UID:10000921-1763404200-1763411400@www.angierchamber.org
SUMMARY:Music Trivia with Napper Tandy's
DESCRIPTION:
URL:https://www.angierchamber.org/event/music-trivia-with-napper-tandys-12/
LOCATION:Napper Tandy’s Public House and Restaurant\, 27 South Broad Street East\, Angier\, NC\, 27501\, United States
ATTACH;FMTTYPE=image/jpeg:https://www.angierchamber.org/wp-content/uploads/2025/09/trivia.jpg
END:VEVENT
END:VCALENDAR