BEGIN:VCALENDAR
VERSION:2.0
PRODID:-//Angier Chamber of Commerce - ECPv6.15.18//NONSGML v1.0//EN
CALSCALE:GREGORIAN
METHOD:PUBLISH
X-WR-CALNAME:Angier Chamber of Commerce
X-ORIGINAL-URL:https://www.angierchamber.org
X-WR-CALDESC:Events for Angier Chamber of Commerce
REFRESH-INTERVAL;VALUE=DURATION:PT1H
X-Robots-Tag:noindex
X-PUBLISHED-TTL:PT1H
BEGIN:VTIMEZONE
TZID:UTC
BEGIN:STANDARD
TZOFFSETFROM:+0000
TZOFFSETTO:+0000
TZNAME:UTC
DTSTART:20240101T000000
END:STANDARD
END:VTIMEZONE
BEGIN:VEVENT
DTSTART;VALUE=DATE:20251001
DTEND;VALUE=DATE:20251220
DTSTAMP:20260425T014615
CREATED:20251010T172921Z
LAST-MODIFIED:20251010T172923Z
UID:10000912-1759276800-1766188799@www.angierchamber.org
SUMMARY:To Make a Child Smile Food Drive
DESCRIPTION:To Make A Child Smile Holiday Food Drive \nTo Make a Child Smile is partnering with local Harnett County schools to identify children and families in need. On Sunday\, December 21st\, volunteers will take these children Christmas shopping\, and the goal is to provide each family with a box of food so they can enjoy a warm holiday meal together. \nWe’re accepting non-perishable food donations such as canned goods\, instant potatoes\, rice\, pasta\, and other pantry staples.
URL:https://www.angierchamber.org/event/to-make-a-child-smile-food-drive/
LOCATION:NC
ATTACH;FMTTYPE=image/jpeg:https://www.angierchamber.org/wp-content/uploads/2025/10/559155723_1209783644502165_5867660157540676353_n.jpg
END:VEVENT
BEGIN:VEVENT
DTSTART;VALUE=DATE:20251101
DTEND;VALUE=DATE:20260101
DTSTAMP:20260425T014615
CREATED:20251021T163513Z
LAST-MODIFIED:20251021T163514Z
UID:10001029-1761955200-1767225599@www.angierchamber.org
SUMMARY:ACOC 2026/2028 Board Member Nominations being accepted
DESCRIPTION:Any member of the Angier Chamber of Commerce in good standing may be nominated for a seat on the Board of Directors. Directors serve a three-year term with a maximum of two consecutive terms. Any current director who has not served two consecutive terms\, may be re-nominated for another three-year term. There are (4) available seats for the 2026/2028 term. \nVacancies created by Angier Chamber of Commerce Board of Directors expiring terms this year are as follows: \nDiana Lischin – Angier Family Pharmacy (end of 2nd term)\nTom Wilson – C & D Insurance (end of 2nd term)\nAddison Allgood – The Shop Community Space\nKim Causer – Simply Said Gifts & Decor (end of 1st term\, but can serve a 2nd term) \nPLEASE NOTE:\n1. Board meetings will be held at the Angier Chamber of Commerce located at 24 East Depot Street\, Angier the second Tuesday of every month at 8:30 am.\n2. If the nominee is on a Committee (Annual Banquet Committee\, Crepe Myrtle Committee\, Christmas Committee\, etc.)\, there will be meetings scheduled outside of the regular Board meetings that they will be expected to attend.\n3. The nominee must be available to volunteer at the Annual Banquet\, Crepe Myrtle Celebration\, Christmas events\, and any other events the Chamber may host throughout the year. It takes\, us as a team\, working together to make these community events successful.\n4. There will be ribbon cuttings scheduled throughout the year that the nominee will be expected to attend.\n5. There will be networking events scheduled throughout the year that the nominee will be expected to attend. \nThe current Board of Directors will vote on the new members based on the nominations made by the membership in accordance with the Angier Chamber of Commerce Bylaws. \nNOTE: The Board of Directors of the Corporation shall consist of not less than ten (10) persons nor more than fifteen (15) persons. \nClick here for the nomination form (link will not work until November 1st\, 2025).
URL:https://www.angierchamber.org/event/acoc-2026-2028-board-member-nominations-being-accepted/
LOCATION:NC
ATTACH;FMTTYPE=image/png:https://www.angierchamber.org/wp-content/uploads/2025/10/Welcome-Autumn-Instagram-Post-1-1.png
END:VEVENT
BEGIN:VEVENT
DTSTART;TZID=UTC:20251212T210000
DTEND;TZID=UTC:20251212T233000
DTSTAMP:20260425T014615
CREATED:20251013T175206Z
LAST-MODIFIED:20251013T175207Z
UID:10000956-1765573200-1765582200@www.angierchamber.org
SUMMARY:Live Music at Napper Tandy's
DESCRIPTION:
URL:https://www.angierchamber.org/event/live-music-at-napper-tandys-157/
LOCATION:Napper Tandy’s Public House and Restaurant\, 27 South Broad Street East\, Angier\, NC\, 27501\, United States
ATTACH;FMTTYPE=image/jpeg:https://www.angierchamber.org/wp-content/uploads/2025/07/live-music-header-1.jpg
END:VEVENT
BEGIN:VEVENT
DTSTART;TZID=UTC:20251213T130000
DTEND;TZID=UTC:20251213T133000
DTSTAMP:20260425T014615
CREATED:20251202T141702Z
LAST-MODIFIED:20251202T141705Z
UID:10001048-1765630800-1765632600@www.angierchamber.org
SUMMARY:Hydration Lounge and Wellness Joint Ribbon Cutting
DESCRIPTION:
URL:https://www.angierchamber.org/event/hydration-lounge-and-wellness-joint-ribbon-cutting/
LOCATION:Hydration Lounge & Wellness\, 133 W. Cornelius Harnett Blvd.\, Suite E\, Lillington\, NC\, 27546
ATTACH;FMTTYPE=image/jpeg:https://www.angierchamber.org/wp-content/uploads/2025/12/587334762_1247954594018403_8728403733701250901_n-1.jpg
END:VEVENT
BEGIN:VEVENT
DTSTART;TZID=UTC:20251213T170000
DTEND;TZID=UTC:20251213T220000
DTSTAMP:20260425T014615
CREATED:20250827T184957Z
LAST-MODIFIED:20250827T184958Z
UID:10000800-1765645200-1765663200@www.angierchamber.org
SUMMARY:Drive-In Movie with Ronnie's Berry Farm
DESCRIPTION:
URL:https://www.angierchamber.org/event/drive-in-movie-with-ronnies-berry-farm-2/
LOCATION:Ronnie’s Berry Farm\, 18409 NC-210\, Angier\, NC\, 27501
END:VEVENT
BEGIN:VEVENT
DTSTART;TZID=UTC:20251213T210000
DTEND;TZID=UTC:20251213T233000
DTSTAMP:20260425T014615
CREATED:20251013T175251Z
LAST-MODIFIED:20251013T175252Z
UID:10000957-1765659600-1765668600@www.angierchamber.org
SUMMARY:Live Music at Napper Tandy's
DESCRIPTION:
URL:https://www.angierchamber.org/event/live-music-at-napper-tandys-158/
LOCATION:Napper Tandy’s Public House and Restaurant\, 27 South Broad Street East\, Angier\, NC\, 27501\, United States
ATTACH;FMTTYPE=image/jpeg:https://www.angierchamber.org/wp-content/uploads/2025/07/live-music-header-1.jpg
END:VEVENT
BEGIN:VEVENT
DTSTART;TZID=UTC:20251215T130000
DTEND;TZID=UTC:20251215T170000
DTSTAMP:20260425T014615
CREATED:20251211T195714Z
LAST-MODIFIED:20251211T195716Z
UID:10001055-1765803600-1765818000@www.angierchamber.org
SUMMARY:SECU Blood Drive
DESCRIPTION:
URL:https://www.angierchamber.org/event/secu-blood-drive-4/
LOCATION:State Employees Credit Union\, 1305 North Raleigh Street\, Angier\, NC\, 27501\, United States
ATTACH;FMTTYPE=image/jpeg:https://www.angierchamber.org/wp-content/uploads/2025/12/40_Rewards_Flyer-_1__page-0001.jpg
END:VEVENT
BEGIN:VEVENT
DTSTART;TZID=UTC:20251215T183000
DTEND;TZID=UTC:20251215T203000
DTSTAMP:20260425T014615
CREATED:20251013T172145Z
LAST-MODIFIED:20251013T172147Z
UID:10000925-1765823400-1765830600@www.angierchamber.org
SUMMARY:Music Trivia with Napper Tandy's
DESCRIPTION:
URL:https://www.angierchamber.org/event/music-trivia-with-napper-tandys-16/
LOCATION:Napper Tandy’s Public House and Restaurant\, 27 South Broad Street East\, Angier\, NC\, 27501\, United States
ATTACH;FMTTYPE=image/jpeg:https://www.angierchamber.org/wp-content/uploads/2025/09/trivia.jpg
END:VEVENT
BEGIN:VEVENT
DTSTART;TZID=UTC:20251216T180000
DTEND;TZID=UTC:20251216T190000
DTSTAMP:20260425T014615
CREATED:20250925T201141Z
LAST-MODIFIED:20251208T180237Z
UID:10000821-1765908000-1765911600@www.angierchamber.org
SUMMARY:Christmas Open House & Networking Night
DESCRIPTION:
URL:https://www.angierchamber.org/event/christmas-open-house-networking-night/
LOCATION:Angier Chamber of Commerce\, United States
ATTACH;FMTTYPE=image/png:https://www.angierchamber.org/wp-content/uploads/2025/09/Christmas-on-the-Square-3.png
ORGANIZER;CN="Angier Chamber of Commerce":MAILTO:angiercc@angierchamber.org
END:VEVENT
BEGIN:VEVENT
DTSTART;TZID=UTC:20251216T190000
DTEND;TZID=UTC:20251216T210000
DTSTAMP:20260425T014615
CREATED:20251013T192026Z
LAST-MODIFIED:20251013T192029Z
UID:10000999-1765911600-1765918800@www.angierchamber.org
SUMMARY:Music Trivia with Wingin' It Angier
DESCRIPTION:
URL:https://www.angierchamber.org/event/music-trivia-with-wingin-it-angier-11/
LOCATION:Wingin’ It-Angier\, 546 W Church Street\, Angier\, NC\, 27501
ATTACH;FMTTYPE=image/jpeg:https://www.angierchamber.org/wp-content/uploads/2025/09/548547170_668666322939442_6083147841179008915_n.jpg
END:VEVENT
BEGIN:VEVENT
DTSTART;TZID=UTC:20251216T191000
DTEND;TZID=UTC:20251216T201000
DTSTAMP:20260425T014615
CREATED:20251013T182139Z
LAST-MODIFIED:20251013T182141Z
UID:10000971-1765912200-1765915800@www.angierchamber.org
SUMMARY:Boxing for Fitness with Forrest Fitness
DESCRIPTION:
URL:https://www.angierchamber.org/event/boxing-for-fitness-with-forrest-fitness-52/
LOCATION:Forrest Fitness\, 34 N. Broad Street E.\, Angier\, NC\, 27501
ATTACH;FMTTYPE=image/jpeg:https://www.angierchamber.org/wp-content/uploads/2025/10/560059000_25852210781045708_6358960948692611289_n.jpg
END:VEVENT
BEGIN:VEVENT
DTSTART;TZID=UTC:20251216T203000
DTEND;TZID=UTC:20251216T223000
DTSTAMP:20260425T014615
CREATED:20251013T173826Z
LAST-MODIFIED:20251013T173828Z
UID:10000943-1765917000-1765924200@www.angierchamber.org
SUMMARY:Karaoke with Napper Tandy's
DESCRIPTION:
URL:https://www.angierchamber.org/event/karaoke-with-napper-tandys-11/
LOCATION:Napper Tandy’s Public House and Restaurant\, 27 South Broad Street East\, Angier\, NC\, 27501\, United States
ATTACH;FMTTYPE=image/jpeg:https://www.angierchamber.org/wp-content/uploads/2025/09/552833982_122139454610655911_5150142279370209398_n.jpg
END:VEVENT
BEGIN:VEVENT
DTSTART;TZID=UTC:20251217T100000
DTEND;TZID=UTC:20251217T110000
DTSTAMP:20260425T014615
CREATED:20251028T174656Z
LAST-MODIFIED:20251028T174658Z
UID:10001041-1765965600-1765969200@www.angierchamber.org
SUMMARY:Coffee with a Angier First Responder
DESCRIPTION:
URL:https://www.angierchamber.org/event/coffee-with-a-angier-first-responder/
LOCATION:Oak Hill Assisted Living\, 9767 NC 210 North\, Angier\, NC\, 27501\, United States
ATTACH;FMTTYPE=image/jpeg:https://www.angierchamber.org/wp-content/uploads/2025/10/571334282_847510831134612_7469718464783344723_n.jpg
END:VEVENT
BEGIN:VEVENT
DTSTART;TZID=UTC:20251217T183000
DTEND;TZID=UTC:20251217T203000
DTSTAMP:20260425T014615
CREATED:20251016T143116Z
LAST-MODIFIED:20251016T143120Z
UID:10001024-1765996200-1766003400@www.angierchamber.org
SUMMARY:Divorce Care with Church of the Resurrection
DESCRIPTION:
URL:https://www.angierchamber.org/event/divorce-care-with-church-of-the-resurrection-7/
LOCATION:Church of the Resurrection\, 171 West Depot Street\, Angier\, NC\, 27501\, United States
ATTACH;FMTTYPE=image/jpeg:https://www.angierchamber.org/wp-content/uploads/2025/10/558293276_1212162367618153_2181329549627526149_n-1.jpg
END:VEVENT
BEGIN:VEVENT
DTSTART;TZID=UTC:20251217T190000
DTEND;TZID=UTC:20251217T210000
DTSTAMP:20260425T014615
CREATED:20251013T173009Z
LAST-MODIFIED:20251013T173010Z
UID:10000934-1765998000-1766005200@www.angierchamber.org
SUMMARY:Music Bingo with Napper Tandy's
DESCRIPTION:
URL:https://www.angierchamber.org/event/music-bingo-with-napper-tandys-16/
LOCATION:Napper Tandy’s Public House and Restaurant\, 27 South Broad Street East\, Angier\, NC\, 27501\, United States
END:VEVENT
BEGIN:VEVENT
DTSTART;TZID=UTC:20251217T190000
DTEND;TZID=UTC:20251217T210000
DTSTAMP:20260425T014615
CREATED:20251013T191017Z
LAST-MODIFIED:20251013T191018Z
UID:10000990-1765998000-1766005200@www.angierchamber.org
SUMMARY:Music Bingo with Wingin' It Angier
DESCRIPTION:
URL:https://www.angierchamber.org/event/music-bingo-with-wingin-it-angier-12/
LOCATION:Wingin’ It-Angier\, 546 W Church Street\, Angier\, NC\, 27501
ATTACH;FMTTYPE=image/jpeg:https://www.angierchamber.org/wp-content/uploads/2025/09/552014835_674956008977140_4877556687178227209_n.jpg
END:VEVENT
BEGIN:VEVENT
DTSTART;TZID=UTC:20251218T100000
DTEND;TZID=UTC:20251218T110000
DTSTAMP:20260425T014615
CREATED:20250731T154040Z
LAST-MODIFIED:20250731T154041Z
UID:10000719-1766052000-1766055600@www.angierchamber.org
SUMMARY:Kinderjam Music Class with Ellington Studios
DESCRIPTION:
URL:https://www.angierchamber.org/event/kinderjam-music-class-with-ellington-studios-20/
LOCATION:Ellington Studios\, 54 South Raleigh Street\, Angier\, NC\, 27501\, United States
END:VEVENT
BEGIN:VEVENT
DTSTART;TZID=UTC:20251218T191000
DTEND;TZID=UTC:20251218T201000
DTSTAMP:20260425T014615
CREATED:20251013T183135Z
LAST-MODIFIED:20251013T183136Z
UID:10000983-1766085000-1766088600@www.angierchamber.org
SUMMARY:Boxing for Fitness with Forrest Fitness
DESCRIPTION:
URL:https://www.angierchamber.org/event/boxing-for-fitness-with-forrest-fitness-64/
LOCATION:Forrest Fitness\, 34 N. Broad Street E.\, Angier\, NC\, 27501
ATTACH;FMTTYPE=image/jpeg:https://www.angierchamber.org/wp-content/uploads/2025/10/560059000_25852210781045708_6358960948692611289_n.jpg
END:VEVENT
BEGIN:VEVENT
DTSTART;TZID=UTC:20251219T210000
DTEND;TZID=UTC:20251219T233000
DTSTAMP:20260425T014615
CREATED:20251013T175343Z
LAST-MODIFIED:20251013T175343Z
UID:10000958-1766178000-1766187000@www.angierchamber.org
SUMMARY:Live Music at Napper Tandy's
DESCRIPTION:
URL:https://www.angierchamber.org/event/live-music-at-napper-tandys-159/
LOCATION:Napper Tandy’s Public House and Restaurant\, 27 South Broad Street East\, Angier\, NC\, 27501\, United States
ATTACH;FMTTYPE=image/jpeg:https://www.angierchamber.org/wp-content/uploads/2025/07/live-music-header-1.jpg
END:VEVENT
BEGIN:VEVENT
DTSTART;TZID=UTC:20251220T210000
DTEND;TZID=UTC:20251220T233000
DTSTAMP:20260425T014615
CREATED:20251013T175427Z
LAST-MODIFIED:20251013T175428Z
UID:10000959-1766264400-1766273400@www.angierchamber.org
SUMMARY:Live Music at Napper Tandy's
DESCRIPTION:
URL:https://www.angierchamber.org/event/live-music-at-napper-tandys-160/
LOCATION:Napper Tandy’s Public House and Restaurant\, 27 South Broad Street East\, Angier\, NC\, 27501\, United States
ATTACH;FMTTYPE=image/jpeg:https://www.angierchamber.org/wp-content/uploads/2025/07/live-music-header-1.jpg
END:VEVENT
BEGIN:VEVENT
DTSTART;TZID=UTC:20251221T170000
DTEND;TZID=UTC:20251221T233000
DTSTAMP:20260425T014615
CREATED:20251218T211029Z
LAST-MODIFIED:20251218T211144Z
UID:10001065-1766336400-1766359800@www.angierchamber.org
SUMMARY:Napper Tandy's Christmas Party
DESCRIPTION:
URL:https://www.angierchamber.org/event/napper-tandys-christmas-party/
LOCATION:Napper Tandy’s Public House and Restaurant\, 27 South Broad Street East\, Angier\, NC\, 27501\, United States
ATTACH;FMTTYPE=image/jpeg:https://www.angierchamber.org/wp-content/uploads/2025/12/598618317_122147277008655911_2488544968233799937_n.jpg
END:VEVENT
BEGIN:VEVENT
DTSTART;TZID=UTC:20251222T183000
DTEND;TZID=UTC:20251222T203000
DTSTAMP:20260425T014615
CREATED:20251013T172230Z
LAST-MODIFIED:20251013T172230Z
UID:10000926-1766428200-1766435400@www.angierchamber.org
SUMMARY:Music Trivia with Napper Tandy's
DESCRIPTION:
URL:https://www.angierchamber.org/event/music-trivia-with-napper-tandys-17/
LOCATION:Napper Tandy’s Public House and Restaurant\, 27 South Broad Street East\, Angier\, NC\, 27501\, United States
ATTACH;FMTTYPE=image/jpeg:https://www.angierchamber.org/wp-content/uploads/2025/09/trivia.jpg
END:VEVENT
BEGIN:VEVENT
DTSTART;TZID=UTC:20251223T190000
DTEND;TZID=UTC:20251223T210000
DTSTAMP:20260425T014615
CREATED:20251013T192121Z
LAST-MODIFIED:20251013T192124Z
UID:10001000-1766516400-1766523600@www.angierchamber.org
SUMMARY:Music Trivia with Wingin' It Angier
DESCRIPTION:
URL:https://www.angierchamber.org/event/music-trivia-with-wingin-it-angier-12/
LOCATION:Wingin’ It-Angier\, 546 W Church Street\, Angier\, NC\, 27501
ATTACH;FMTTYPE=image/jpeg:https://www.angierchamber.org/wp-content/uploads/2025/09/548547170_668666322939442_6083147841179008915_n.jpg
END:VEVENT
BEGIN:VEVENT
DTSTART;TZID=UTC:20251223T191000
DTEND;TZID=UTC:20251223T201000
DTSTAMP:20260425T014615
CREATED:20251013T182224Z
LAST-MODIFIED:20251013T182226Z
UID:10000972-1766517000-1766520600@www.angierchamber.org
SUMMARY:Boxing for Fitness with Forrest Fitness
DESCRIPTION:
URL:https://www.angierchamber.org/event/boxing-for-fitness-with-forrest-fitness-53/
LOCATION:Forrest Fitness\, 34 N. Broad Street E.\, Angier\, NC\, 27501
ATTACH;FMTTYPE=image/jpeg:https://www.angierchamber.org/wp-content/uploads/2025/10/560059000_25852210781045708_6358960948692611289_n.jpg
END:VEVENT
BEGIN:VEVENT
DTSTART;TZID=UTC:20251223T203000
DTEND;TZID=UTC:20251223T223000
DTSTAMP:20260425T014615
CREATED:20251013T173909Z
LAST-MODIFIED:20251013T173910Z
UID:10000944-1766521800-1766529000@www.angierchamber.org
SUMMARY:Karaoke with Napper Tandy's
DESCRIPTION:
URL:https://www.angierchamber.org/event/karaoke-with-napper-tandys-12/
LOCATION:Napper Tandy’s Public House and Restaurant\, 27 South Broad Street East\, Angier\, NC\, 27501\, United States
ATTACH;FMTTYPE=image/jpeg:https://www.angierchamber.org/wp-content/uploads/2025/09/552833982_122139454610655911_5150142279370209398_n.jpg
END:VEVENT
BEGIN:VEVENT
DTSTART;TZID=UTC:20251224T183000
DTEND;TZID=UTC:20251224T203000
DTSTAMP:20260425T014615
CREATED:20251016T143201Z
LAST-MODIFIED:20251016T143203Z
UID:10001025-1766601000-1766608200@www.angierchamber.org
SUMMARY:Divorce Care with Church of the Resurrection
DESCRIPTION:
URL:https://www.angierchamber.org/event/divorce-care-with-church-of-the-resurrection-8/
LOCATION:Church of the Resurrection\, 171 West Depot Street\, Angier\, NC\, 27501\, United States
ATTACH;FMTTYPE=image/jpeg:https://www.angierchamber.org/wp-content/uploads/2025/10/558293276_1212162367618153_2181329549627526149_n-1.jpg
END:VEVENT
BEGIN:VEVENT
DTSTART;TZID=UTC:20251224T190000
DTEND;TZID=UTC:20251224T210000
DTSTAMP:20260425T014615
CREATED:20251013T173115Z
LAST-MODIFIED:20251013T173116Z
UID:10000935-1766602800-1766610000@www.angierchamber.org
SUMMARY:Music Bingo with Napper Tandy's
DESCRIPTION:
URL:https://www.angierchamber.org/event/music-bingo-with-napper-tandys-17/
LOCATION:Napper Tandy’s Public House and Restaurant\, 27 South Broad Street East\, Angier\, NC\, 27501\, United States
ATTACH;FMTTYPE=image/jpeg:https://www.angierchamber.org/wp-content/uploads/2025/09/552987763_122139538448655911_4267199439917595027_n.jpg
END:VEVENT
BEGIN:VEVENT
DTSTART;TZID=UTC:20251224T190000
DTEND;TZID=UTC:20251224T210000
DTSTAMP:20260425T014615
CREATED:20251013T191143Z
LAST-MODIFIED:20251013T191145Z
UID:10000991-1766602800-1766610000@www.angierchamber.org
SUMMARY:Music Bingo with Wingin' It Angier
DESCRIPTION:
URL:https://www.angierchamber.org/event/music-bingo-with-wingin-it-angier-13/
LOCATION:Wingin’ It-Angier\, 546 W Church Street\, Angier\, NC\, 27501
ATTACH;FMTTYPE=image/jpeg:https://www.angierchamber.org/wp-content/uploads/2025/09/552014835_674956008977140_4877556687178227209_n.jpg
END:VEVENT
BEGIN:VEVENT
DTSTART;TZID=UTC:20251226T210000
DTEND;TZID=UTC:20251226T233000
DTSTAMP:20260425T014615
CREATED:20251013T175514Z
LAST-MODIFIED:20251013T175517Z
UID:10000960-1766782800-1766791800@www.angierchamber.org
SUMMARY:Live Music at Napper Tandy's
DESCRIPTION:
URL:https://www.angierchamber.org/event/live-music-at-napper-tandys-161/
LOCATION:Napper Tandy’s Public House and Restaurant\, 27 South Broad Street East\, Angier\, NC\, 27501\, United States
ATTACH;FMTTYPE=image/jpeg:https://www.angierchamber.org/wp-content/uploads/2025/07/live-music-header-1.jpg
END:VEVENT
BEGIN:VEVENT
DTSTART;TZID=UTC:20251227T210000
DTEND;TZID=UTC:20251227T233000
DTSTAMP:20260425T014615
CREATED:20251013T175603Z
LAST-MODIFIED:20251013T175604Z
UID:10000961-1766869200-1766878200@www.angierchamber.org
SUMMARY:Live Music at Napper Tandy's
DESCRIPTION:
URL:https://www.angierchamber.org/event/live-music-at-napper-tandys-162/
LOCATION:Napper Tandy’s Public House and Restaurant\, 27 South Broad Street East\, Angier\, NC\, 27501\, United States
ATTACH;FMTTYPE=image/jpeg:https://www.angierchamber.org/wp-content/uploads/2025/07/live-music-header-1.jpg
END:VEVENT
END:VCALENDAR