BEGIN:VCALENDAR
VERSION:2.0
PRODID:-//Angier Chamber of Commerce - ECPv6.15.18//NONSGML v1.0//EN
CALSCALE:GREGORIAN
METHOD:PUBLISH
X-WR-CALNAME:Angier Chamber of Commerce
X-ORIGINAL-URL:https://www.angierchamber.org
X-WR-CALDESC:Events for Angier Chamber of Commerce
REFRESH-INTERVAL;VALUE=DURATION:PT1H
X-Robots-Tag:noindex
X-PUBLISHED-TTL:PT1H
BEGIN:VTIMEZONE
TZID:UTC
BEGIN:STANDARD
TZOFFSETFROM:+0000
TZOFFSETTO:+0000
TZNAME:UTC
DTSTART:20240101T000000
END:STANDARD
END:VTIMEZONE
BEGIN:VEVENT
DTSTART;TZID=UTC:20250911T180000
DTEND;TZID=UTC:20251106T210000
DTSTAMP:20260424T235650
CREATED:20250630T190822Z
LAST-MODIFIED:20250630T191023Z
UID:10000595-1757613600-1762462800@www.angierchamber.org
SUMMARY:Harnett Liftoff Lab
DESCRIPTION:
URL:https://www.angierchamber.org/event/harnett-liftoff-lab/
LOCATION:harnett health sciences center\, 51 Red Mulberry Way\, Lillington\, NC\, 27546\, United States
ATTACH;FMTTYPE=image/png:https://www.angierchamber.org/wp-content/uploads/2025/06/cccc-liftoff.png
END:VEVENT
BEGIN:VEVENT
DTSTART;VALUE=DATE:20251001
DTEND;VALUE=DATE:20251220
DTSTAMP:20260424T235650
CREATED:20251010T172921Z
LAST-MODIFIED:20251010T172923Z
UID:10000912-1759276800-1766188799@www.angierchamber.org
SUMMARY:To Make a Child Smile Food Drive
DESCRIPTION:To Make A Child Smile Holiday Food Drive \nTo Make a Child Smile is partnering with local Harnett County schools to identify children and families in need. On Sunday\, December 21st\, volunteers will take these children Christmas shopping\, and the goal is to provide each family with a box of food so they can enjoy a warm holiday meal together. \nWe’re accepting non-perishable food donations such as canned goods\, instant potatoes\, rice\, pasta\, and other pantry staples.
URL:https://www.angierchamber.org/event/to-make-a-child-smile-food-drive/
LOCATION:NC
ATTACH;FMTTYPE=image/jpeg:https://www.angierchamber.org/wp-content/uploads/2025/10/559155723_1209783644502165_5867660157540676353_n.jpg
END:VEVENT
BEGIN:VEVENT
DTSTART;VALUE=DATE:20251101
DTEND;VALUE=DATE:20260101
DTSTAMP:20260424T235650
CREATED:20251021T163513Z
LAST-MODIFIED:20251021T163514Z
UID:10001029-1761955200-1767225599@www.angierchamber.org
SUMMARY:ACOC 2026/2028 Board Member Nominations being accepted
DESCRIPTION:Any member of the Angier Chamber of Commerce in good standing may be nominated for a seat on the Board of Directors. Directors serve a three-year term with a maximum of two consecutive terms. Any current director who has not served two consecutive terms\, may be re-nominated for another three-year term. There are (4) available seats for the 2026/2028 term. \nVacancies created by Angier Chamber of Commerce Board of Directors expiring terms this year are as follows: \nDiana Lischin – Angier Family Pharmacy (end of 2nd term)\nTom Wilson – C & D Insurance (end of 2nd term)\nAddison Allgood – The Shop Community Space\nKim Causer – Simply Said Gifts & Decor (end of 1st term\, but can serve a 2nd term) \nPLEASE NOTE:\n1. Board meetings will be held at the Angier Chamber of Commerce located at 24 East Depot Street\, Angier the second Tuesday of every month at 8:30 am.\n2. If the nominee is on a Committee (Annual Banquet Committee\, Crepe Myrtle Committee\, Christmas Committee\, etc.)\, there will be meetings scheduled outside of the regular Board meetings that they will be expected to attend.\n3. The nominee must be available to volunteer at the Annual Banquet\, Crepe Myrtle Celebration\, Christmas events\, and any other events the Chamber may host throughout the year. It takes\, us as a team\, working together to make these community events successful.\n4. There will be ribbon cuttings scheduled throughout the year that the nominee will be expected to attend.\n5. There will be networking events scheduled throughout the year that the nominee will be expected to attend. \nThe current Board of Directors will vote on the new members based on the nominations made by the membership in accordance with the Angier Chamber of Commerce Bylaws. \nNOTE: The Board of Directors of the Corporation shall consist of not less than ten (10) persons nor more than fifteen (15) persons. \nClick here for the nomination form (link will not work until November 1st\, 2025).
URL:https://www.angierchamber.org/event/acoc-2026-2028-board-member-nominations-being-accepted/
LOCATION:NC
ATTACH;FMTTYPE=image/png:https://www.angierchamber.org/wp-content/uploads/2025/10/Welcome-Autumn-Instagram-Post-1-1.png
END:VEVENT
BEGIN:VEVENT
DTSTART;TZID=UTC:20251103T180000
DTEND;TZID=UTC:20251103T190000
DTSTAMP:20260424T235650
CREATED:20251015T202905Z
LAST-MODIFIED:20251015T202908Z
UID:10001005-1762192800-1762196400@www.angierchamber.org
SUMMARY:Pilates at the ACOC with Michelle Moore Fitness Nutrition and Wellness
DESCRIPTION:
URL:https://www.angierchamber.org/event/pilates-at-the-acoc-with-michelle-moore-fitness-nutrition-and-wellness-13/
LOCATION:Angier Chamber of Commerce\, United States
ATTACH;FMTTYPE=image/jpeg:https://www.angierchamber.org/wp-content/uploads/2025/10/514349429_744509598285675_8990023049703001348_n.jpg
ORGANIZER;CN="Michelle Moore Fitness%2C Nutrition%2C and Wellness":MAILTO:Mmooreblessed@gmail.com
END:VEVENT
BEGIN:VEVENT
DTSTART;TZID=UTC:20251103T183000
DTEND;TZID=UTC:20251103T203000
DTSTAMP:20260424T235650
CREATED:20251013T171637Z
LAST-MODIFIED:20251013T171640Z
UID:10000919-1762194600-1762201800@www.angierchamber.org
SUMMARY:Music Trivia with Napper Tandy's
DESCRIPTION:
URL:https://www.angierchamber.org/event/music-trivia-with-napper-tandys-10/
LOCATION:Napper Tandy’s Public House and Restaurant\, 27 South Broad Street East\, Angier\, NC\, 27501\, United States
ATTACH;FMTTYPE=image/jpeg:https://www.angierchamber.org/wp-content/uploads/2025/09/trivia.jpg
END:VEVENT
BEGIN:VEVENT
DTSTART;TZID=UTC:20251104T063000
DTEND;TZID=UTC:20251104T193000
DTSTAMP:20260424T235650
CREATED:20251014T184818Z
LAST-MODIFIED:20251014T184822Z
UID:10001004-1762237800-1762284600@www.angierchamber.org
SUMMARY:Election Day
DESCRIPTION:
URL:https://www.angierchamber.org/event/election-day-2/
LOCATION:NC
ATTACH;FMTTYPE=image/png:https://www.angierchamber.org/wp-content/uploads/2025/10/municipal-flyer-angier-coats-lillington-1.png
END:VEVENT
BEGIN:VEVENT
DTSTART;TZID=UTC:20251104T190000
DTEND;TZID=UTC:20251104T210000
DTSTAMP:20260424T235650
CREATED:20251013T191356Z
LAST-MODIFIED:20251013T191358Z
UID:10000993-1762282800-1762290000@www.angierchamber.org
SUMMARY:Music Trivia with Wingin' It Angier
DESCRIPTION:
URL:https://www.angierchamber.org/event/music-trivia-with-wingin-it-angier-5/
LOCATION:Wingin’ It-Angier\, 546 W Church Street\, Angier\, NC\, 27501
ATTACH;FMTTYPE=image/jpeg:https://www.angierchamber.org/wp-content/uploads/2025/09/548547170_668666322939442_6083147841179008915_n.jpg
END:VEVENT
BEGIN:VEVENT
DTSTART;TZID=UTC:20251104T191000
DTEND;TZID=UTC:20251104T201000
DTSTAMP:20260424T235650
CREATED:20251013T181648Z
LAST-MODIFIED:20251013T181649Z
UID:10000965-1762283400-1762287000@www.angierchamber.org
SUMMARY:Boxing for Fitness with Forrest Fitness
DESCRIPTION:
URL:https://www.angierchamber.org/event/boxing-for-fitness-with-forrest-fitness-46/
LOCATION:Forrest Fitness\, 34 N. Broad Street E.\, Angier\, NC\, 27501
ATTACH;FMTTYPE=image/jpeg:https://www.angierchamber.org/wp-content/uploads/2025/10/560059000_25852210781045708_6358960948692611289_n.jpg
END:VEVENT
BEGIN:VEVENT
DTSTART;TZID=UTC:20251104T203000
DTEND;TZID=UTC:20251104T223000
DTSTAMP:20260424T235650
CREATED:20251013T173326Z
LAST-MODIFIED:20251013T173327Z
UID:10000937-1762288200-1762295400@www.angierchamber.org
SUMMARY:Karaoke with Napper Tandy's
DESCRIPTION:
URL:https://www.angierchamber.org/event/karaoke-with-napper-tandys-5/
LOCATION:Napper Tandy’s Public House and Restaurant\, 27 South Broad Street East\, Angier\, NC\, 27501\, United States
ATTACH;FMTTYPE=image/jpeg:https://www.angierchamber.org/wp-content/uploads/2025/09/552833982_122139454610655911_5150142279370209398_n.jpg
END:VEVENT
BEGIN:VEVENT
DTSTART;TZID=UTC:20251105T090000
DTEND;TZID=UTC:20251105T100000
DTSTAMP:20260424T235650
CREATED:20250929T195326Z
LAST-MODIFIED:20250929T195328Z
UID:10000898-1762333200-1762336800@www.angierchamber.org
SUMMARY:Yoga with a Christian Twist with Church of the Resurrection
DESCRIPTION:
URL:https://www.angierchamber.org/event/yoga-with-a-christian-twist-with-church-of-the-resurrection-4/
LOCATION:Church of the Resurrection\, 171 West Depot Street\, Angier\, NC\, 27501\, United States
ATTACH;FMTTYPE=image/jpeg:https://www.angierchamber.org/wp-content/uploads/2025/09/549613155_1200002372167486_1300615836725979979_n.jpg
END:VEVENT
BEGIN:VEVENT
DTSTART;TZID=UTC:20251105T180000
DTEND;TZID=UTC:20251105T190000
DTSTAMP:20260424T235650
CREATED:20251015T203022Z
LAST-MODIFIED:20251015T203024Z
UID:10001006-1762365600-1762369200@www.angierchamber.org
SUMMARY:Pilates at the ACOC with Michelle Moore Fitness Nutrition and Wellness
DESCRIPTION:
URL:https://www.angierchamber.org/event/pilates-at-the-acoc-with-michelle-moore-fitness-nutrition-and-wellness-14/
LOCATION:Angier Chamber of Commerce\, United States
ATTACH;FMTTYPE=image/jpeg:https://www.angierchamber.org/wp-content/uploads/2025/10/514349429_744509598285675_8990023049703001348_n.jpg
ORGANIZER;CN="Michelle Moore Fitness%2C Nutrition%2C and Wellness":MAILTO:Mmooreblessed@gmail.com
END:VEVENT
BEGIN:VEVENT
DTSTART;TZID=UTC:20251105T183000
DTEND;TZID=UTC:20251105T203000
DTSTAMP:20260424T235650
CREATED:20251016T142555Z
LAST-MODIFIED:20251016T142557Z
UID:10001018-1762367400-1762374600@www.angierchamber.org
SUMMARY:Divorce Care with Church of the Resurrection
DESCRIPTION:
URL:https://www.angierchamber.org/event/divorce-care-with-church-of-the-resurrection/
LOCATION:Church of the Resurrection\, 171 West Depot Street\, Angier\, NC\, 27501\, United States
ATTACH;FMTTYPE=image/jpeg:https://www.angierchamber.org/wp-content/uploads/2025/10/558293276_1212162367618153_2181329549627526149_n-1.jpg
END:VEVENT
BEGIN:VEVENT
DTSTART;TZID=UTC:20251105T190000
DTEND;TZID=UTC:20251105T210000
DTSTAMP:20260424T235650
CREATED:20251013T172439Z
LAST-MODIFIED:20251013T172440Z
UID:10000928-1762369200-1762376400@www.angierchamber.org
SUMMARY:Music Bingo with Napper Tandy's
DESCRIPTION:
URL:https://www.angierchamber.org/event/music-bingo-with-napper-tandys-10/
LOCATION:Napper Tandy’s Public House and Restaurant\, 27 South Broad Street East\, Angier\, NC\, 27501\, United States
ATTACH;FMTTYPE=image/jpeg:https://www.angierchamber.org/wp-content/uploads/2025/09/552987763_122139538448655911_4267199439917595027_n.jpg
END:VEVENT
BEGIN:VEVENT
DTSTART;TZID=UTC:20251105T190000
DTEND;TZID=UTC:20251105T210000
DTSTAMP:20260424T235650
CREATED:20251013T183311Z
LAST-MODIFIED:20251013T183314Z
UID:10000984-1762369200-1762376400@www.angierchamber.org
SUMMARY:Music Bingo with Wingin' It Angier
DESCRIPTION:
URL:https://www.angierchamber.org/event/music-bingo-with-wingin-it-angier-6/
LOCATION:Wingin’ It-Angier\, 546 W Church Street\, Angier\, NC\, 27501
ATTACH;FMTTYPE=image/jpeg:https://www.angierchamber.org/wp-content/uploads/2025/09/552014835_674956008977140_4877556687178227209_n.jpg
END:VEVENT
BEGIN:VEVENT
DTSTART;TZID=UTC:20251106T090000
DTEND;TZID=UTC:20251106T100000
DTSTAMP:20260424T235650
CREATED:20250513T202149Z
LAST-MODIFIED:20250513T202151Z
UID:10000427-1762419600-1762423200@www.angierchamber.org
SUMMARY:Angier Chamber of Commerce Ambassador Meeting
DESCRIPTION:
URL:https://www.angierchamber.org/event/angier-chamber-of-commerce-ambassador-meeting-6/
LOCATION:Angier Chamber of Commerce\, United States
ATTACH;FMTTYPE=image/jpeg:https://www.angierchamber.org/wp-content/uploads/2025/05/492743731_1090399029773961_7986808581438224843_n.jpg
ORGANIZER;CN="Angier Chamber of Commerce":MAILTO:angiercc@angierchamber.org
END:VEVENT
BEGIN:VEVENT
DTSTART;TZID=UTC:20251106T100000
DTEND;TZID=UTC:20251106T110000
DTSTAMP:20260424T235650
CREATED:20250731T153457Z
LAST-MODIFIED:20250731T153459Z
UID:10000713-1762423200-1762426800@www.angierchamber.org
SUMMARY:Kinderjam Music Class with Ellington Studios
DESCRIPTION:
URL:https://www.angierchamber.org/event/kinderjam-music-class-with-ellington-studios-14/
LOCATION:Ellington Studios\, 54 South Raleigh Street\, Angier\, NC\, 27501\, United States
END:VEVENT
BEGIN:VEVENT
DTSTART;TZID=UTC:20251106T191000
DTEND;TZID=UTC:20251106T201000
DTSTAMP:20260424T235650
CREATED:20251013T182616Z
LAST-MODIFIED:20251013T182618Z
UID:10000977-1762456200-1762459800@www.angierchamber.org
SUMMARY:Boxing for Fitness with Forrest Fitness
DESCRIPTION:
URL:https://www.angierchamber.org/event/boxing-for-fitness-with-forrest-fitness-58/
LOCATION:Forrest Fitness\, 34 N. Broad Street E.\, Angier\, NC\, 27501
ATTACH;FMTTYPE=image/jpeg:https://www.angierchamber.org/wp-content/uploads/2025/10/560059000_25852210781045708_6358960948692611289_n.jpg
END:VEVENT
BEGIN:VEVENT
DTSTART;TZID=UTC:20251107T130000
DTEND;TZID=UTC:20251109T170000
DTSTAMP:20260424T235650
CREATED:20251027T202507Z
LAST-MODIFIED:20251027T202509Z
UID:10001037-1762520400-1762707600@www.angierchamber.org
SUMMARY:Jabez Floristry Christmas Open House
DESCRIPTION:
URL:https://www.angierchamber.org/event/jabez-floristry-christmas-open-house-2/
LOCATION:Jabez Floristry\, 47 S Broad St E\, A\, Angier\, NC\, 27501
ATTACH;FMTTYPE=image/jpeg:https://www.angierchamber.org/wp-content/uploads/2025/10/569605749_1424000819438740_5641455781277117497_n.jpg
END:VEVENT
BEGIN:VEVENT
DTSTART;TZID=UTC:20251107T210000
DTEND;TZID=UTC:20251107T233000
DTSTAMP:20260424T235650
CREATED:20251013T174316Z
LAST-MODIFIED:20251013T174318Z
UID:10000946-1762549200-1762558200@www.angierchamber.org
SUMMARY:Live Music at Napper Tandy's
DESCRIPTION:
URL:https://www.angierchamber.org/event/live-music-at-napper-tandys-147/
LOCATION:Napper Tandy’s Public House and Restaurant\, 27 South Broad Street East\, Angier\, NC\, 27501\, United States
ATTACH;FMTTYPE=image/jpeg:https://www.angierchamber.org/wp-content/uploads/2025/07/live-music-header-1.jpg
END:VEVENT
BEGIN:VEVENT
DTSTART;TZID=UTC:20251108T083000
DTEND;TZID=UTC:20251108T120000
DTSTAMP:20260424T235650
CREATED:20251103T202918Z
LAST-MODIFIED:20251103T202919Z
UID:10001044-1762590600-1762603200@www.angierchamber.org
SUMMARY:Ice Cream for Breakfast hosted by The Little Goat Soda Fountain
DESCRIPTION:
URL:https://www.angierchamber.org/event/ice-cream-for-breakfast-hosted-by-the-little-goat-soda-fountain/
LOCATION:The Little Goat Soda Fountain and Candy\, 28 East Depot Street\, Angier\, NC\, 27501
ATTACH;FMTTYPE=image/jpeg:https://www.angierchamber.org/wp-content/uploads/2025/11/574107523_122240853212086427_8728022256149551930_n-1.jpg
END:VEVENT
BEGIN:VEVENT
DTSTART;TZID=UTC:20251108T100000
DTEND;TZID=UTC:20251108T110000
DTSTAMP:20260424T235650
CREATED:20251023T140438Z
LAST-MODIFIED:20251023T140439Z
UID:10001030-1762596000-1762599600@www.angierchamber.org
SUMMARY:Veteran's and First Responders Memorial Ribbon Cutting
DESCRIPTION:
URL:https://www.angierchamber.org/event/veterans-and-first-responders-memorial-ribbon-cutting/
LOCATION:Jack Marley Park\, 249 East Williams Street\, Angier\, NC\, 27501\, United States
ATTACH;FMTTYPE=image/jpeg:https://www.angierchamber.org/wp-content/uploads/2025/10/568709187_1122247550086599_1056607698405625343_n-2.jpg
END:VEVENT
BEGIN:VEVENT
DTSTART;TZID=UTC:20251108T100000
DTEND;TZID=UTC:20251108T180000
DTSTAMP:20260424T235650
CREATED:20251027T175912Z
LAST-MODIFIED:20251027T175914Z
UID:10001034-1762596000-1762624800@www.angierchamber.org
SUMMARY:Muckalee Creek Boutique Birthday Bash
DESCRIPTION:
URL:https://www.angierchamber.org/event/muckalee-creek-boutique-birthday-bash-3/
LOCATION:Muckalee Creek Boutique\, 26 North Broad Street East\, Angier\, NC\, 27501
ATTACH;FMTTYPE=image/jpeg:https://www.angierchamber.org/wp-content/uploads/2025/10/571146185_1272136224926917_1969080061589237366_n-1.jpg
END:VEVENT
BEGIN:VEVENT
DTSTART;TZID=UTC:20251108T110000
DTEND;TZID=UTC:20251108T130000
DTSTAMP:20260424T235650
CREATED:20251027T203405Z
LAST-MODIFIED:20251027T203407Z
UID:10001039-1762599600-1762606800@www.angierchamber.org
SUMMARY:Christmas Greeting Card Making Event with GypsySoul
DESCRIPTION:
URL:https://www.angierchamber.org/event/christmas-greeting-card-making-event-with-gypsysoul-2/
LOCATION:GypsySoul Boutique\, 1179 N Main Street\, Lillington\, NC\, 27546
ATTACH;FMTTYPE=image/jpeg:https://www.angierchamber.org/wp-content/uploads/2025/10/565229723_830800769633893_6030977175387753466_n.jpg
END:VEVENT
BEGIN:VEVENT
DTSTART;TZID=UTC:20251108T210000
DTEND;TZID=UTC:20251108T233000
DTSTAMP:20260424T235650
CREATED:20251013T174418Z
LAST-MODIFIED:20251013T174420Z
UID:10000947-1762635600-1762644600@www.angierchamber.org
SUMMARY:Live Music at Napper Tandy's
DESCRIPTION:
URL:https://www.angierchamber.org/event/live-music-at-napper-tandys-148/
LOCATION:Napper Tandy’s Public House and Restaurant\, 27 South Broad Street East\, Angier\, NC\, 27501\, United States
ATTACH;FMTTYPE=image/jpeg:https://www.angierchamber.org/wp-content/uploads/2025/07/live-music-header-1.jpg
END:VEVENT
BEGIN:VEVENT
DTSTART;TZID=UTC:20251109T110000
DTEND;TZID=UTC:20251109T120000
DTSTAMP:20260424T235650
CREATED:20251023T142214Z
LAST-MODIFIED:20251023T142215Z
UID:10001033-1762686000-1762689600@www.angierchamber.org
SUMMARY:Veteran's Day Service with ABC
DESCRIPTION:
URL:https://www.angierchamber.org/event/veterans-day-service-with-abc/
LOCATION:Angier Baptist Church\, 155 South Hickory Street\, Angier\, NC\, 27501\, United States
ATTACH;FMTTYPE=image/jpeg:https://www.angierchamber.org/wp-content/uploads/2025/10/557796201_1120182683595469_3440218156308082279_n.jpg
END:VEVENT
BEGIN:VEVENT
DTSTART;TZID=UTC:20251110T180000
DTEND;TZID=UTC:20251110T190000
DTSTAMP:20260424T235650
CREATED:20251015T203245Z
LAST-MODIFIED:20251015T203247Z
UID:10001008-1762797600-1762801200@www.angierchamber.org
SUMMARY:Pilates at the ACOC with Michelle Moore Fitness Nutrition and Wellness
DESCRIPTION:
URL:https://www.angierchamber.org/event/pilates-at-the-acoc-with-michelle-moore-fitness-nutrition-and-wellness-16/
LOCATION:Angier Chamber of Commerce\, United States
ATTACH;FMTTYPE=image/jpeg:https://www.angierchamber.org/wp-content/uploads/2025/10/514349429_744509598285675_8990023049703001348_n.jpg
ORGANIZER;CN="Michelle Moore Fitness%2C Nutrition%2C and Wellness":MAILTO:Mmooreblessed@gmail.com
END:VEVENT
BEGIN:VEVENT
DTSTART;TZID=UTC:20251110T183000
DTEND;TZID=UTC:20251110T203000
DTSTAMP:20260424T235650
CREATED:20251013T171734Z
LAST-MODIFIED:20251013T171737Z
UID:10000920-1762799400-1762806600@www.angierchamber.org
SUMMARY:Music Trivia with Napper Tandy's
DESCRIPTION:
URL:https://www.angierchamber.org/event/music-trivia-with-napper-tandys-11/
LOCATION:Napper Tandy’s Public House and Restaurant\, 27 South Broad Street East\, Angier\, NC\, 27501\, United States
ATTACH;FMTTYPE=image/jpeg:https://www.angierchamber.org/wp-content/uploads/2025/09/trivia.jpg
END:VEVENT
BEGIN:VEVENT
DTSTART;VALUE=DATE:20251111
DTEND;VALUE=DATE:20251112
DTSTAMP:20260424T235650
CREATED:20251027T180527Z
LAST-MODIFIED:20251027T180529Z
UID:10001035-1762819200-1762905599@www.angierchamber.org
SUMMARY:Veteran's Day (ACOC and DMV Closed)
DESCRIPTION:
URL:https://www.angierchamber.org/event/veterans-day-acoc-and-dmv-closed/
LOCATION:NC
ATTACH;FMTTYPE=image/png:https://www.angierchamber.org/wp-content/uploads/2025/10/veterans-day-closed.png
END:VEVENT
BEGIN:VEVENT
DTSTART;TZID=UTC:20251111T181500
DTEND;TZID=UTC:20251111T201500
DTSTAMP:20260424T235650
CREATED:20251023T141310Z
LAST-MODIFIED:20251027T175631Z
UID:10001031-1762884900-1762892100@www.angierchamber.org
SUMMARY:NYRDA Annual Veteran's Day Event
DESCRIPTION:
URL:https://www.angierchamber.org/event/nyrda-annual-veterans-day-event/
LOCATION:NYRDA\, 123 E Depot St.\, Angier\, NC\, 27501
ATTACH;FMTTYPE=image/jpeg:https://www.angierchamber.org/wp-content/uploads/2025/10/570320017_10230189560191492_4338892735508709779_n-1.jpg
END:VEVENT
BEGIN:VEVENT
DTSTART;TZID=UTC:20251111T190000
DTEND;TZID=UTC:20251111T210000
DTSTAMP:20260424T235650
CREATED:20251013T191445Z
LAST-MODIFIED:20251013T191446Z
UID:10000994-1762887600-1762894800@www.angierchamber.org
SUMMARY:Music Trivia with Wingin' It Angier
DESCRIPTION:
URL:https://www.angierchamber.org/event/music-trivia-with-wingin-it-angier-6/
LOCATION:Wingin’ It-Angier\, 546 W Church Street\, Angier\, NC\, 27501
ATTACH;FMTTYPE=image/jpeg:https://www.angierchamber.org/wp-content/uploads/2025/09/548547170_668666322939442_6083147841179008915_n.jpg
END:VEVENT
END:VCALENDAR