BEGIN:VCALENDAR
VERSION:2.0
PRODID:-//Angier Chamber of Commerce - ECPv6.15.18//NONSGML v1.0//EN
CALSCALE:GREGORIAN
METHOD:PUBLISH
X-ORIGINAL-URL:https://www.angierchamber.org
X-WR-CALDESC:Events for Angier Chamber of Commerce
REFRESH-INTERVAL;VALUE=DURATION:PT1H
X-Robots-Tag:noindex
X-PUBLISHED-TTL:PT1H
BEGIN:VTIMEZONE
TZID:UTC
BEGIN:STANDARD
TZOFFSETFROM:+0000
TZOFFSETTO:+0000
TZNAME:UTC
DTSTART:20250101T000000
END:STANDARD
END:VTIMEZONE
BEGIN:VEVENT
DTSTART;TZID=UTC:20260721T180000
DTEND;TZID=UTC:20260721T200000
DTSTAMP:20260424T154028
CREATED:20251231T190645Z
LAST-MODIFIED:20260107T213230Z
UID:10001130-1784656800-1784664000@www.angierchamber.org
SUMMARY:Harnett County Chambers' Joint Networking
DESCRIPTION:Join the Angier\, Coats\, Dunn\, and Lillington Chambers of Commerce for another evening of connection and collaboration. It’s the perfect chance to meet fellow small business owners\, swap cards\, and grow your network across Harnett County.\n\n Bring a store-bought snack to share Don’t forget your business cards Beverages will be provided by the Chambers\n\nWe can’t wait to see you there as we keep building stronger ties – together! 
URL:https://www.angierchamber.org/event/harnett-county-chambers-joint-networking-3/
LOCATION:Coats Community Building\, 127 South McKinley Street\, Coats\, NC\, 27526
ATTACH;FMTTYPE=image/png:https://www.angierchamber.org/wp-content/uploads/2025/12/Add-a-little-bit-of-body-text-2.png
END:VEVENT
BEGIN:VEVENT
DTSTART;TZID=UTC:20260721T203000
DTEND;TZID=UTC:20260721T233000
DTSTAMP:20260424T154028
CREATED:20260324T144321Z
LAST-MODIFIED:20260324T144322Z
UID:10002156-1784665800-1784676600@www.angierchamber.org
SUMMARY:Karaoke with Napper Tandy's
DESCRIPTION:
URL:https://www.angierchamber.org/event/karaoke-with-napper-tandys-27/2026-07-21/
LOCATION:Napper Tandy’s Public House and Restaurant\, 27 South Broad Street East\, Angier\, NC\, 27501\, United States
ATTACH;FMTTYPE=image/jpeg:https://www.angierchamber.org/wp-content/uploads/2026/03/641291512_122153514836655911_8995511338422010505_n.jpg
END:VEVENT
END:VCALENDAR