BEGIN:VCALENDAR
VERSION:2.0
PRODID:-//Angier Chamber of Commerce - ECPv6.15.18//NONSGML v1.0//EN
CALSCALE:GREGORIAN
METHOD:PUBLISH
X-WR-CALNAME:Angier Chamber of Commerce
X-ORIGINAL-URL:https://www.angierchamber.org
X-WR-CALDESC:Events for Angier Chamber of Commerce
REFRESH-INTERVAL;VALUE=DURATION:PT1H
X-Robots-Tag:noindex
X-PUBLISHED-TTL:PT1H
BEGIN:VTIMEZONE
TZID:UTC
BEGIN:STANDARD
TZOFFSETFROM:+0000
TZOFFSETTO:+0000
TZNAME:UTC
DTSTART:20250101T000000
END:STANDARD
END:VTIMEZONE
BEGIN:VEVENT
DTSTART;TZID=UTC:20260709T100000
DTEND;TZID=UTC:20260709T110000
DTSTAMP:20260424T154701
CREATED:20260324T152952Z
LAST-MODIFIED:20260324T152953Z
UID:10003194-1783591200-1783594800@www.angierchamber.org
SUMMARY:Kinder Jam with Ellington Studios
DESCRIPTION:
URL:https://www.angierchamber.org/event/kinder-jam-with-ellington-studios-11/2026-07-09/
LOCATION:Ellington Studios\, 54 South Raleigh Street\, Angier\, NC\, 27501\, United States
ATTACH;FMTTYPE=image/jpeg:https://www.angierchamber.org/wp-content/uploads/2026/03/639801297_1513474750784835_8899907419205944968_n.jpg
END:VEVENT
BEGIN:VEVENT
DTSTART;TZID=UTC:20260709T150000
DTEND;TZID=UTC:20260709T160000
DTSTAMP:20260424T154701
CREATED:20260324T153839Z
LAST-MODIFIED:20260324T153847Z
UID:10003714-1783609200-1783612800@www.angierchamber.org
SUMMARY:The Groove Lab with Ellington Studios
DESCRIPTION:
URL:https://www.angierchamber.org/event/the-groove-lab-with-ellington-studios-5/2026-07-09/
LOCATION:NC
END:VEVENT
BEGIN:VEVENT
DTSTART;TZID=UTC:20260709T180000
DTEND;TZID=UTC:20260709T190000
DTSTAMP:20260424T154701
CREATED:20260206T153459Z
LAST-MODIFIED:20260206T153503Z
UID:10001238-1783620000-1783623600@www.angierchamber.org
SUMMARY:Business After Hours hosted by Ann Milton Realty
DESCRIPTION:
URL:https://www.angierchamber.org/event/business-after-hours-hosted-by-ann-milton-realty/
LOCATION:Ann Milton Realty\, 30 West Front Street\, Lillington\, NC\, 27546
ATTACH;FMTTYPE=image/png:https://www.angierchamber.org/wp-content/uploads/2026/02/Joint-Networking-with-Angier-and-Lillington.png
END:VEVENT
BEGIN:VEVENT
DTSTART;TZID=UTC:20260709T181500
DTEND;TZID=UTC:20260709T190000
DTSTAMP:20260424T154701
CREATED:20260324T153156Z
LAST-MODIFIED:20260324T153206Z
UID:10003454-1783620900-1783623600@www.angierchamber.org
SUMMARY:SYNC with Ellington Studios
DESCRIPTION:
URL:https://www.angierchamber.org/event/sync-with-ellington-studios-9/2026-07-09/
LOCATION:NC
ATTACH;FMTTYPE=image/jpeg:https://www.angierchamber.org/wp-content/uploads/2026/03/641447150_1513474977451479_3178505079463523577_n.jpg
END:VEVENT
BEGIN:VEVENT
DTSTART;TZID=UTC:20260709T190000
DTEND;TZID=UTC:20260709T200000
DTSTAMP:20260424T154701
CREATED:20260324T150258Z
LAST-MODIFIED:20260324T150259Z
UID:10002422-1783623600-1783627200@www.angierchamber.org
SUMMARY:Cardio Dance Class with HC Nutrition
DESCRIPTION:
URL:https://www.angierchamber.org/event/cardio-dance-class-with-hc-nutrition-6/2026-07-09/
LOCATION:HC Nutrition\, 559 N. Raleigh St.\, Suite A\, Angier\, NC\, 27501
ATTACH;FMTTYPE=image/jpeg:https://www.angierchamber.org/wp-content/uploads/2026/03/639508671_17914701927306163_5314855391373256172_n.jpg
END:VEVENT
END:VCALENDAR