BEGIN:VCALENDAR
VERSION:2.0
PRODID:-//Angier Chamber of Commerce - ECPv6.15.18//NONSGML v1.0//EN
CALSCALE:GREGORIAN
METHOD:PUBLISH
X-ORIGINAL-URL:https://www.angierchamber.org
X-WR-CALDESC:Events for Angier Chamber of Commerce
REFRESH-INTERVAL;VALUE=DURATION:PT1H
X-Robots-Tag:noindex
X-PUBLISHED-TTL:PT1H
BEGIN:VTIMEZONE
TZID:UTC
BEGIN:STANDARD
TZOFFSETFROM:+0000
TZOFFSETTO:+0000
TZNAME:UTC
DTSTART:20250101T000000
END:STANDARD
END:VTIMEZONE
BEGIN:VEVENT
DTSTART;VALUE=DATE:20260703
DTEND;VALUE=DATE:20260704
DTSTAMP:20260424T141426
CREATED:20260105T185730Z
LAST-MODIFIED:20260105T185732Z
UID:10001135-1783036800-1783123199@www.angierchamber.org
SUMMARY:Chamber and DMV Closed
DESCRIPTION:
URL:https://www.angierchamber.org/event/chamber-and-dmv-closed-5/
LOCATION:NC
ATTACH;FMTTYPE=image/png:https://www.angierchamber.org/wp-content/uploads/2026/01/Dates.png
END:VEVENT
BEGIN:VEVENT
DTSTART;TZID=UTC:20260703T203000
DTEND;TZID=UTC:20260703T233000
DTSTAMP:20260424T141426
CREATED:20260324T143803Z
LAST-MODIFIED:20260324T143835Z
UID:10001894-1783110600-1783121400@www.angierchamber.org
SUMMARY:DJ Night with Napper Tandy's
DESCRIPTION:
URL:https://www.angierchamber.org/event/dj-night-with-napper-tandys/2026-07-03/
LOCATION:NC
ATTACH;FMTTYPE=image/jpeg:https://www.angierchamber.org/wp-content/uploads/2026/03/647242600_122154372038655911_4692375131809390416_n.jpg
END:VEVENT
END:VCALENDAR