BEGIN:VCALENDAR
VERSION:2.0
PRODID:-//Angier Chamber of Commerce - ECPv6.15.18//NONSGML v1.0//EN
CALSCALE:GREGORIAN
METHOD:PUBLISH
X-WR-CALNAME:Angier Chamber of Commerce
X-ORIGINAL-URL:https://www.angierchamber.org
X-WR-CALDESC:Events for Angier Chamber of Commerce
REFRESH-INTERVAL;VALUE=DURATION:PT1H
X-Robots-Tag:noindex
X-PUBLISHED-TTL:PT1H
BEGIN:VTIMEZONE
TZID:UTC
BEGIN:STANDARD
TZOFFSETFROM:+0000
TZOFFSETTO:+0000
TZNAME:UTC
DTSTART:20250101T000000
END:STANDARD
END:VTIMEZONE
BEGIN:VEVENT
DTSTART;TZID=UTC:20260526T203000
DTEND;TZID=UTC:20260526T233000
DTSTAMP:20260424T141202
CREATED:20260324T144321Z
LAST-MODIFIED:20260324T144322Z
UID:10002148-1779827400-1779838200@www.angierchamber.org
SUMMARY:Karaoke with Napper Tandy's
DESCRIPTION:
URL:https://www.angierchamber.org/event/karaoke-with-napper-tandys-27/2026-05-26/
LOCATION:Napper Tandy’s Public House and Restaurant\, 27 South Broad Street East\, Angier\, NC\, 27501\, United States
ATTACH;FMTTYPE=image/jpeg:https://www.angierchamber.org/wp-content/uploads/2026/03/641291512_122153514836655911_8995511338422010505_n.jpg
END:VEVENT
END:VCALENDAR