BEGIN:VCALENDAR
VERSION:2.0
PRODID:-//Angier Chamber of Commerce - ECPv6.15.18//NONSGML v1.0//EN
CALSCALE:GREGORIAN
METHOD:PUBLISH
X-WR-CALNAME:Angier Chamber of Commerce
X-ORIGINAL-URL:https://www.angierchamber.org
X-WR-CALDESC:Events for Angier Chamber of Commerce
REFRESH-INTERVAL;VALUE=DURATION:PT1H
X-Robots-Tag:noindex
X-PUBLISHED-TTL:PT1H
BEGIN:VTIMEZONE
TZID:UTC
BEGIN:STANDARD
TZOFFSETFROM:+0000
TZOFFSETTO:+0000
TZNAME:UTC
DTSTART:20250101T000000
END:STANDARD
END:VTIMEZONE
BEGIN:VEVENT
DTSTART;TZID=UTC:20260521T090000
DTEND;TZID=UTC:20260521T133000
DTSTAMP:20260424T125813
CREATED:20260326T161714Z
LAST-MODIFIED:20260326T161750Z
UID:10003960-1779354000-1779370200@www.angierchamber.org
SUMMARY:Business Resource Summit
DESCRIPTION:Ready to grow your business and sharpen your marketing?\n\nJoin us for a high-impact half-day summit built for both new entrepreneurs and established small business owners.\n\nYou’ll hear from experienced speakers and walk away with practical tools you can start using right away.\n\nWHAT YOU’LL LEARN•Marketing Through Storytelling – Learn how to connect with your audience and build lasting relationships\n• What’s New in Social Media – Stay up to date on trends\, platform changes\, and strategies that work\n• Proven Marketing Tactics – Discover tools and techniques driving real results for businesses today\nCost: $35 (includes lunch)\n\nChamber Members receive a $10 discount with a promo code from their local Chamber.\n\nReach out to angiercc@angierchamber.org to request your code.\n\nClick here to register: https://business.dunnchamber.com/…/harnett-business…\n\nBrought to you by the Central Carolina Community College Small Business Center\, Angier\, Coats\, Dunn\, and Lillington Chambers of Commerce.
URL:https://www.angierchamber.org/event/business-resource-summit/
LOCATION:harnett health sciences center\, 51 Red Mulberry Way\, Lillington\, NC\, 27546\, United States
ATTACH;FMTTYPE=image/jpeg:https://www.angierchamber.org/wp-content/uploads/2026/03/Business-Resource-Summit-Flyer_page-0001.jpg
END:VEVENT
BEGIN:VEVENT
DTSTART;TZID=UTC:20260521T100000
DTEND;TZID=UTC:20260521T110000
DTSTAMP:20260424T125813
CREATED:20260324T152952Z
LAST-MODIFIED:20260324T152953Z
UID:10003187-1779357600-1779361200@www.angierchamber.org
SUMMARY:Kinder Jam with Ellington Studios
DESCRIPTION:
URL:https://www.angierchamber.org/event/kinder-jam-with-ellington-studios-11/2026-05-21/
LOCATION:Ellington Studios\, 54 South Raleigh Street\, Angier\, NC\, 27501\, United States
ATTACH;FMTTYPE=image/jpeg:https://www.angierchamber.org/wp-content/uploads/2026/03/639801297_1513474750784835_8899907419205944968_n.jpg
END:VEVENT
BEGIN:VEVENT
DTSTART;TZID=UTC:20260521T150000
DTEND;TZID=UTC:20260521T160000
DTSTAMP:20260424T125813
CREATED:20260324T153839Z
LAST-MODIFIED:20260324T153847Z
UID:10003707-1779375600-1779379200@www.angierchamber.org
SUMMARY:The Groove Lab with Ellington Studios
DESCRIPTION:
URL:https://www.angierchamber.org/event/the-groove-lab-with-ellington-studios-5/2026-05-21/
LOCATION:NC
END:VEVENT
BEGIN:VEVENT
DTSTART;TZID=UTC:20260521T181500
DTEND;TZID=UTC:20260521T190000
DTSTAMP:20260424T125813
CREATED:20260324T153156Z
LAST-MODIFIED:20260324T153206Z
UID:10003447-1779387300-1779390000@www.angierchamber.org
SUMMARY:SYNC with Ellington Studios
DESCRIPTION:
URL:https://www.angierchamber.org/event/sync-with-ellington-studios-9/2026-05-21/
LOCATION:NC
ATTACH;FMTTYPE=image/jpeg:https://www.angierchamber.org/wp-content/uploads/2026/03/641447150_1513474977451479_3178505079463523577_n.jpg
END:VEVENT
BEGIN:VEVENT
DTSTART;TZID=UTC:20260521T183000
DTEND;TZID=UTC:20260521T213000
DTSTAMP:20260424T125813
CREATED:20260122T201747Z
LAST-MODIFIED:20260122T201748Z
UID:10001202-1779388200-1779399000@www.angierchamber.org
SUMMARY:Town of Angier Concert Series
DESCRIPTION:
URL:https://www.angierchamber.org/event/town-of-angier-concert-series-10/
LOCATION:Angier Depot Square/R.H. Ellington Grounds\, United States
END:VEVENT
BEGIN:VEVENT
DTSTART;TZID=UTC:20260521T190000
DTEND;TZID=UTC:20260521T200000
DTSTAMP:20260424T125813
CREATED:20260324T150258Z
LAST-MODIFIED:20260324T150259Z
UID:10002415-1779390000-1779393600@www.angierchamber.org
SUMMARY:Cardio Dance Class with HC Nutrition
DESCRIPTION:
URL:https://www.angierchamber.org/event/cardio-dance-class-with-hc-nutrition-6/2026-05-21/
LOCATION:HC Nutrition\, 559 N. Raleigh St.\, Suite A\, Angier\, NC\, 27501
ATTACH;FMTTYPE=image/jpeg:https://www.angierchamber.org/wp-content/uploads/2026/03/639508671_17914701927306163_5314855391373256172_n.jpg
END:VEVENT
END:VCALENDAR