BEGIN:VCALENDAR
VERSION:2.0
PRODID:-//Angier Chamber of Commerce - ECPv6.15.18//NONSGML v1.0//EN
CALSCALE:GREGORIAN
METHOD:PUBLISH
X-ORIGINAL-URL:https://www.angierchamber.org
X-WR-CALDESC:Events for Angier Chamber of Commerce
REFRESH-INTERVAL;VALUE=DURATION:PT1H
X-Robots-Tag:noindex
X-PUBLISHED-TTL:PT1H
BEGIN:VTIMEZONE
TZID:UTC
BEGIN:STANDARD
TZOFFSETFROM:+0000
TZOFFSETTO:+0000
TZNAME:UTC
DTSTART:20250101T000000
END:STANDARD
END:VTIMEZONE
BEGIN:VEVENT
DTSTART;TZID=UTC:20260519T080000
DTEND;TZID=UTC:20260519T150000
DTSTAMP:20260424T142021
CREATED:20260326T163905Z
LAST-MODIFIED:20260326T163946Z
UID:10003962-1779177600-1779202800@www.angierchamber.org
SUMMARY:NC Notary Public Class (open to the community)
DESCRIPTION:The Angier Chamber of Commerce is offering a private Notary Public class. The class is 6.5 hours long\, including a 30-minute break\, and typically runs from 8:00 a.m. to 3:00 p.m. Tuition is $86 and must be paid in advance to Central Carolina Community College. Payment can be made by cash\, check\, debit\, or credit card (except American Express).\n\nStudents must bring the latest edition of the NC Notary Public Manual\, available at the CCCC bookstore in Lillington or from any source. To enroll\, students must be at least 18 years old\, have a high school diploma or GED\, live or work in North Carolina\, be able to read\, write\, and speak English\, and have no criminal background.\n\nTo register\, complete the Google form linked below. The PDF registration form will be emailed to the address you provide on the form\, and you must complete it as part of your registration. Students should bring a state or federal photo ID to class\, and may need to provide their Social Security number for the exam roster.\n\nPayment and registration can be completed over the phone by calling Central Carolina Community College Continuing Education Student Support at (919) 718-7500 or Latoya Brower at (919) 718-7073 or (919) 704-0446\, or in person at CCCC Harnett Main Campus Continuing Education Building in Lillington (1075 E. Cornelius Harnett Blvd.\, 10:30 a.m.–5:00 p.m.).\n\nGoogle Form: https://forms.gle/9u2PUwxzG9bxNyqZ7
URL:https://www.angierchamber.org/event/nc-notary-public-class-open-to-the-community/
LOCATION:Angier Chamber of Commerce\, United States
ATTACH;FMTTYPE=image/jpeg:https://www.angierchamber.org/wp-content/uploads/2026/03/657165159_1342854454528416_978253522165954698_n.jpg
ORGANIZER;CN="Angier Chamber of Commerce":MAILTO:angiercc@angierchamber.org
END:VEVENT
BEGIN:VEVENT
DTSTART;TZID=UTC:20260519T203000
DTEND;TZID=UTC:20260519T233000
DTSTAMP:20260424T142021
CREATED:20260324T144321Z
LAST-MODIFIED:20260324T144322Z
UID:10002147-1779222600-1779233400@www.angierchamber.org
SUMMARY:Karaoke with Napper Tandy's
DESCRIPTION:
URL:https://www.angierchamber.org/event/karaoke-with-napper-tandys-27/2026-05-19/
LOCATION:Napper Tandy’s Public House and Restaurant\, 27 South Broad Street East\, Angier\, NC\, 27501\, United States
ATTACH;FMTTYPE=image/jpeg:https://www.angierchamber.org/wp-content/uploads/2026/03/641291512_122153514836655911_8995511338422010505_n.jpg
END:VEVENT
END:VCALENDAR