BEGIN:VCALENDAR
VERSION:2.0
PRODID:-//Angier Chamber of Commerce - ECPv6.15.18//NONSGML v1.0//EN
CALSCALE:GREGORIAN
METHOD:PUBLISH
X-WR-CALNAME:Angier Chamber of Commerce
X-ORIGINAL-URL:https://www.angierchamber.org
X-WR-CALDESC:Events for Angier Chamber of Commerce
REFRESH-INTERVAL;VALUE=DURATION:PT1H
X-Robots-Tag:noindex
X-PUBLISHED-TTL:PT1H
BEGIN:VTIMEZONE
TZID:UTC
BEGIN:STANDARD
TZOFFSETFROM:+0000
TZOFFSETTO:+0000
TZNAME:UTC
DTSTART:20250101T000000
END:STANDARD
END:VTIMEZONE
BEGIN:VEVENT
DTSTART;VALUE=DATE:20260503
DTEND;VALUE=DATE:20260510
DTSTAMP:20260424T125810
CREATED:20251231T161129Z
LAST-MODIFIED:20251231T161130Z
UID:10001126-1777766400-1778371199@www.angierchamber.org
SUMMARY:National Small Business Week
DESCRIPTION:
URL:https://www.angierchamber.org/event/national-small-business-week-4/
LOCATION:NC
ATTACH;FMTTYPE=image/png:https://www.angierchamber.org/wp-content/uploads/2025/12/NOVEMBER-27-2021.png
END:VEVENT
BEGIN:VEVENT
DTSTART;TZID=UTC:20260507T090000
DTEND;TZID=UTC:20260507T100000
DTSTAMP:20260424T125810
CREATED:20251229T174232Z
LAST-MODIFIED:20251229T174234Z
UID:10001096-1778144400-1778148000@www.angierchamber.org
SUMMARY:ACOC Ambassador Meeting
DESCRIPTION:
URL:https://www.angierchamber.org/event/acoc-ambassador-meeting-4/
LOCATION:Angier Chamber of Commerce\, United States
ATTACH;FMTTYPE=image/png:https://www.angierchamber.org/wp-content/uploads/2025/12/2.png
END:VEVENT
BEGIN:VEVENT
DTSTART;TZID=UTC:20260507T100000
DTEND;TZID=UTC:20260507T110000
DTSTAMP:20260424T125810
CREATED:20260324T152952Z
LAST-MODIFIED:20260324T152953Z
UID:10003185-1778148000-1778151600@www.angierchamber.org
SUMMARY:Kinder Jam with Ellington Studios
DESCRIPTION:
URL:https://www.angierchamber.org/event/kinder-jam-with-ellington-studios-11/2026-05-07/
LOCATION:Ellington Studios\, 54 South Raleigh Street\, Angier\, NC\, 27501\, United States
ATTACH;FMTTYPE=image/jpeg:https://www.angierchamber.org/wp-content/uploads/2026/03/639801297_1513474750784835_8899907419205944968_n.jpg
END:VEVENT
BEGIN:VEVENT
DTSTART;TZID=UTC:20260507T110000
DTEND;TZID=UTC:20260507T140000
DTSTAMP:20260424T125810
CREATED:20260421T163433Z
LAST-MODIFIED:20260421T163438Z
UID:10004496-1778151600-1778162400@www.angierchamber.org
SUMMARY:Lunch & Game Day with the Angier Senior Citizens
DESCRIPTION:
URL:https://www.angierchamber.org/event/lunch-game-day-with-the-angier-senior-citizens/
LOCATION:Angier Senior Citizen Center\, 255 West Williams Street\, Angier\, NC\, 27501\, United States
ATTACH;FMTTYPE=image/jpeg:https://www.angierchamber.org/wp-content/uploads/2026/04/671554636_2011787849418869_7489249385944266795_n-1.jpg
END:VEVENT
BEGIN:VEVENT
DTSTART;TZID=UTC:20260507T150000
DTEND;TZID=UTC:20260507T160000
DTSTAMP:20260424T125810
CREATED:20260324T153839Z
LAST-MODIFIED:20260324T153847Z
UID:10003705-1778166000-1778169600@www.angierchamber.org
SUMMARY:The Groove Lab with Ellington Studios
DESCRIPTION:
URL:https://www.angierchamber.org/event/the-groove-lab-with-ellington-studios-5/2026-05-07/
LOCATION:NC
END:VEVENT
BEGIN:VEVENT
DTSTART;TZID=UTC:20260507T181500
DTEND;TZID=UTC:20260507T190000
DTSTAMP:20260424T125810
CREATED:20260324T153156Z
LAST-MODIFIED:20260324T153206Z
UID:10003445-1778177700-1778180400@www.angierchamber.org
SUMMARY:SYNC with Ellington Studios
DESCRIPTION:
URL:https://www.angierchamber.org/event/sync-with-ellington-studios-9/2026-05-07/
LOCATION:NC
ATTACH;FMTTYPE=image/jpeg:https://www.angierchamber.org/wp-content/uploads/2026/03/641447150_1513474977451479_3178505079463523577_n.jpg
END:VEVENT
BEGIN:VEVENT
DTSTART;TZID=UTC:20260507T183000
DTEND;TZID=UTC:20260507T203000
DTSTAMP:20260424T125810
CREATED:20260331T203708Z
LAST-MODIFIED:20260331T203712Z
UID:10004487-1778178600-1778185800@www.angierchamber.org
SUMMARY:Town of Angier Presents Chairmen of the Board
DESCRIPTION:
URL:https://www.angierchamber.org/event/town-of-angier-presents-chairmen-of-the-board/
LOCATION:Angier Depot Square/R.H. Ellington Grounds\, United States
ATTACH;FMTTYPE=image/jpeg:https://www.angierchamber.org/wp-content/uploads/2026/03/659148586_1245691801075506_2191784272711499927_n-1.jpg
END:VEVENT
BEGIN:VEVENT
DTSTART;TZID=UTC:20260507T183000
DTEND;TZID=UTC:20260507T213000
DTSTAMP:20260424T125810
CREATED:20260122T201704Z
LAST-MODIFIED:20260122T201706Z
UID:10001201-1778178600-1778189400@www.angierchamber.org
SUMMARY:Town of Angier Concert Series
DESCRIPTION:
URL:https://www.angierchamber.org/event/town-of-angier-concert-series-9/
LOCATION:Angier Depot Square/R.H. Ellington Grounds\, United States
ATTACH;FMTTYPE=image/jpeg:https://www.angierchamber.org/wp-content/uploads/2026/01/615350858_1184779773833376_4777147664336572515_n-1.jpg
END:VEVENT
BEGIN:VEVENT
DTSTART;TZID=UTC:20260507T190000
DTEND;TZID=UTC:20260507T200000
DTSTAMP:20260424T125810
CREATED:20260324T150258Z
LAST-MODIFIED:20260324T150259Z
UID:10002413-1778180400-1778184000@www.angierchamber.org
SUMMARY:Cardio Dance Class with HC Nutrition
DESCRIPTION:
URL:https://www.angierchamber.org/event/cardio-dance-class-with-hc-nutrition-6/2026-05-07/
LOCATION:HC Nutrition\, 559 N. Raleigh St.\, Suite A\, Angier\, NC\, 27501
ATTACH;FMTTYPE=image/jpeg:https://www.angierchamber.org/wp-content/uploads/2026/03/639508671_17914701927306163_5314855391373256172_n.jpg
END:VEVENT
END:VCALENDAR