BEGIN:VCALENDAR
VERSION:2.0
PRODID:-//Angier Chamber of Commerce - ECPv6.15.18//NONSGML v1.0//EN
CALSCALE:GREGORIAN
METHOD:PUBLISH
X-ORIGINAL-URL:https://www.angierchamber.org
X-WR-CALDESC:Events for Angier Chamber of Commerce
REFRESH-INTERVAL;VALUE=DURATION:PT1H
X-Robots-Tag:noindex
X-PUBLISHED-TTL:PT1H
BEGIN:VTIMEZONE
TZID:UTC
BEGIN:STANDARD
TZOFFSETFROM:+0000
TZOFFSETTO:+0000
TZNAME:UTC
DTSTART:20250101T000000
END:STANDARD
END:VTIMEZONE
BEGIN:VEVENT
DTSTART;TZID=UTC:20260425T070000
DTEND;TZID=UTC:20260425T120000
DTSTAMP:20260424T125228
CREATED:20260415T145333Z
LAST-MODIFIED:20260415T145340Z
UID:10004491-1777100400-1777118400@www.angierchamber.org
SUMMARY:Church of the Reresection Rummage and Plant Sale
DESCRIPTION:
URL:https://www.angierchamber.org/event/church-of-the-reresection-rummage-and-plant-sale/
LOCATION:Church of the Resurrection\, 171 West Depot Street\, Angier\, NC\, 27501\, United States
ATTACH;FMTTYPE=image/jpeg:https://www.angierchamber.org/wp-content/uploads/2026/04/670501609_1365186508982404_2578082301237973773_n.jpg
END:VEVENT
BEGIN:VEVENT
DTSTART;TZID=UTC:20260425T073000
DTEND;TZID=UTC:20260425T100000
DTSTAMP:20260424T125228
CREATED:20260324T150111Z
LAST-MODIFIED:20260324T150112Z
UID:10002407-1777102200-1777111200@www.angierchamber.org
SUMMARY:All you can eat pancakes with the Angier Kiwanis
DESCRIPTION:
URL:https://www.angierchamber.org/event/all-you-can-eat-pancakes-with-the-angier-kiwanis-2/
LOCATION:Angier Depot Square/R.H. Ellington Grounds\, United States
ATTACH;FMTTYPE=image/jpeg:https://www.angierchamber.org/wp-content/uploads/2026/03/624184322_1332637932235293_3326348467373188768_n.jpg
END:VEVENT
BEGIN:VEVENT
DTSTART;TZID=UTC:20260425T170000
DTEND;TZID=UTC:20260425T200000
DTSTAMP:20260424T125228
CREATED:20260206T162938Z
LAST-MODIFIED:20260206T162939Z
UID:10001250-1777136400-1777147200@www.angierchamber.org
SUMMARY:Drive in Movie with Ronnie's Berry Farm
DESCRIPTION:
URL:https://www.angierchamber.org/event/drive-in-movie-with-ronnies-berry-farm-4/
LOCATION:Ronnie’s Berry Farm\, 18409 NC-210\, Angier\, NC\, 27501
ATTACH;FMTTYPE=image/jpeg:https://www.angierchamber.org/wp-content/uploads/2026/02/624517470_1589878645260697_8221334281526195119_n.jpg
END:VEVENT
BEGIN:VEVENT
DTSTART;TZID=UTC:20260425T180000
DTEND;TZID=UTC:20260425T200000
DTSTAMP:20260424T125228
CREATED:20260324T145453Z
LAST-MODIFIED:20260324T145454Z
UID:10002404-1777140000-1777147200@www.angierchamber.org
SUMMARY:The Little Mermaid by Carolina Charter Academy
DESCRIPTION:
URL:https://www.angierchamber.org/event/the-little-mermaid-by-carolina-charter-academy-2/
LOCATION:Carolina Charter Academy\, 8529 Highway 55 S\,\, Angier\, NC\, 27501
ATTACH;FMTTYPE=image/png:https://www.angierchamber.org/wp-content/uploads/2026/03/sponsors-needed.png
END:VEVENT
BEGIN:VEVENT
DTSTART;TZID=UTC:20260425T210000
DTEND;TZID=UTC:20260425T233000
DTSTAMP:20260424T125228
CREATED:20260331T170507Z
LAST-MODIFIED:20260331T170656Z
UID:10003968-1777150800-1777159800@www.angierchamber.org
SUMMARY:Live Music at Napper Tandy's Public House & Restaurant
DESCRIPTION:
URL:https://www.angierchamber.org/event/live-music-at-napper-tandys-public-house-restaurant-66/2026-04-25/
LOCATION:NC
ATTACH;FMTTYPE=image/jpeg:https://www.angierchamber.org/wp-content/uploads/2025/07/live-music-header-1.jpg
END:VEVENT
END:VCALENDAR