BEGIN:VCALENDAR
VERSION:2.0
PRODID:-//Angier Chamber of Commerce - ECPv6.15.18//NONSGML v1.0//EN
CALSCALE:GREGORIAN
METHOD:PUBLISH
X-ORIGINAL-URL:https://www.angierchamber.org
X-WR-CALDESC:Events for Angier Chamber of Commerce
REFRESH-INTERVAL;VALUE=DURATION:PT1H
X-Robots-Tag:noindex
X-PUBLISHED-TTL:PT1H
BEGIN:VTIMEZONE
TZID:UTC
BEGIN:STANDARD
TZOFFSETFROM:+0000
TZOFFSETTO:+0000
TZNAME:UTC
DTSTART:20250101T000000
END:STANDARD
END:VTIMEZONE
BEGIN:VEVENT
DTSTART;TZID=UTC:20260331T110000
DTEND;TZID=UTC:20260331T120000
DTSTAMP:20260424T114545
CREATED:20260303T184921Z
LAST-MODIFIED:20260303T184923Z
UID:10001357-1774954800-1774958400@www.angierchamber.org
SUMMARY:FIERCE Networking Lunch
DESCRIPTION:
URL:https://www.angierchamber.org/event/fierce-networking-lunch/
LOCATION:Wingin’ It-Angier\, 546 W Church Street\, Angier\, NC\, 27501
ATTACH;FMTTYPE=image/png:https://www.angierchamber.org/wp-content/uploads/2026/03/April-29-2025-900-am-Wingin-It.png
END:VEVENT
BEGIN:VEVENT
DTSTART;TZID=UTC:20260331T113000
DTEND;TZID=UTC:20260331T133000
DTSTAMP:20260424T114545
CREATED:20260302T173131Z
LAST-MODIFIED:20260302T173153Z
UID:10001352-1774956600-1774963800@www.angierchamber.org
SUMMARY:Part 1: Money Management for Small Business (Five-Part Webinar Series)
DESCRIPTION:
URL:https://www.angierchamber.org/event/money-management-for-small-business-five-part-webinar-series/
LOCATION:Online
ATTACH;FMTTYPE=image/jpeg:https://www.angierchamber.org/wp-content/uploads/2026/03/Learn-Lab_page-0001.jpg
END:VEVENT
BEGIN:VEVENT
DTSTART;TZID=UTC:20260331T130000
DTEND;TZID=UTC:20260331T170000
DTSTAMP:20260424T114545
CREATED:20260304T163745Z
LAST-MODIFIED:20260304T163746Z
UID:10001358-1774962000-1774976400@www.angierchamber.org
SUMMARY:SECU Blood Drive
DESCRIPTION:
URL:https://www.angierchamber.org/event/secu-blood-drive-5/
LOCATION:State Employees Credit Union\, 1305 North Raleigh Street\, Angier\, NC\, 27501\, United States
ATTACH;FMTTYPE=image/jpeg:https://www.angierchamber.org/wp-content/uploads/2026/03/40_Rewards_Flyer-3_page-0001.jpg
END:VEVENT
BEGIN:VEVENT
DTSTART;TZID=UTC:20260331T203000
DTEND;TZID=UTC:20260331T233000
DTSTAMP:20260424T114545
CREATED:20260226T213229Z
LAST-MODIFIED:20260226T213231Z
UID:10001309-1774989000-1774999800@www.angierchamber.org
SUMMARY:Karaoke with Napper Tandy's
DESCRIPTION:
URL:https://www.angierchamber.org/event/karaoke-with-napper-tandys-26/
LOCATION:Napper Tandy’s Public House and Restaurant\, 27 South Broad Street East\, Angier\, NC\, 27501\, United States
ATTACH;FMTTYPE=image/jpeg:https://www.angierchamber.org/wp-content/uploads/2026/02/641291512_122153514836655911_8995511338422010505_n-1.jpg
END:VEVENT
END:VCALENDAR