BEGIN:VCALENDAR
VERSION:2.0
PRODID:-//Angier Chamber of Commerce - ECPv6.15.18//NONSGML v1.0//EN
CALSCALE:GREGORIAN
METHOD:PUBLISH
X-ORIGINAL-URL:https://www.angierchamber.org
X-WR-CALDESC:Events for Angier Chamber of Commerce
REFRESH-INTERVAL;VALUE=DURATION:PT1H
X-Robots-Tag:noindex
X-PUBLISHED-TTL:PT1H
BEGIN:VTIMEZONE
TZID:UTC
BEGIN:STANDARD
TZOFFSETFROM:+0000
TZOFFSETTO:+0000
TZNAME:UTC
DTSTART:20250101T000000
END:STANDARD
END:VTIMEZONE
BEGIN:VEVENT
DTSTART;TZID=UTC:20260329T120000
DTEND;TZID=UTC:20260329T160000
DTSTAMP:20260424T125944
CREATED:20260302T163239Z
LAST-MODIFIED:20260302T163241Z
UID:10001350-1774785600-1774800000@www.angierchamber.org
SUMMARY:Mama B's Bakehouse (Mobile Food Vendor) Location
DESCRIPTION:
URL:https://www.angierchamber.org/event/mama-bs-bakehouse-mobile-food-vendor-location-5/
LOCATION:NC
ATTACH;FMTTYPE=image/jpeg:https://www.angierchamber.org/wp-content/uploads/2026/03/643360099_847321118332365_1909534761773125131_n.jpg
END:VEVENT
BEGIN:VEVENT
DTSTART;TZID=UTC:20260329T130000
DTEND;TZID=UTC:20260329T160000
DTSTAMP:20260424T125944
CREATED:20260106T195444Z
LAST-MODIFIED:20260106T195446Z
UID:10001144-1774789200-1774800000@www.angierchamber.org
SUMMARY:Town of Angier Easter Egg Hunt
DESCRIPTION:
URL:https://www.angierchamber.org/event/town-of-angier-easter-egg-hunt-2/
LOCATION:Jack Marley Park\, 249 East Williams Street\, Angier\, NC\, 27501\, United States
ATTACH;FMTTYPE=image/jpeg:https://www.angierchamber.org/wp-content/uploads/2026/01/611656366_1179724004338953_422230605013512940_n.jpg
END:VEVENT
BEGIN:VEVENT
DTSTART;TZID=UTC:20260329T130000
DTEND;TZID=UTC:20260329T160000
DTSTAMP:20260424T125944
CREATED:20260122T201255Z
LAST-MODIFIED:20260122T201256Z
UID:10001197-1774789200-1774800000@www.angierchamber.org
SUMMARY:Town of Angier Easter Egg Hunt
DESCRIPTION:
URL:https://www.angierchamber.org/event/town-of-angier-easter-egg-hunt-3/
LOCATION:Jack Marley Park\, 249 East Williams Street\, Angier\, NC\, 27501\, United States
ATTACH;FMTTYPE=image/jpeg:https://www.angierchamber.org/wp-content/uploads/2026/01/615350858_1184779773833376_4777147664336572515_n-1.jpg
END:VEVENT
END:VCALENDAR