BEGIN:VCALENDAR
VERSION:2.0
PRODID:-//Angier Chamber of Commerce - ECPv6.15.18//NONSGML v1.0//EN
CALSCALE:GREGORIAN
METHOD:PUBLISH
X-ORIGINAL-URL:https://www.angierchamber.org
X-WR-CALDESC:Events for Angier Chamber of Commerce
REFRESH-INTERVAL;VALUE=DURATION:PT1H
X-Robots-Tag:noindex
X-PUBLISHED-TTL:PT1H
BEGIN:VTIMEZONE
TZID:UTC
BEGIN:STANDARD
TZOFFSETFROM:+0000
TZOFFSETTO:+0000
TZNAME:UTC
DTSTART:20250101T000000
END:STANDARD
END:VTIMEZONE
BEGIN:VEVENT
DTSTART;TZID=UTC:20260327T090000
DTEND;TZID=UTC:20260327T110000
DTSTAMP:20260424T154025
CREATED:20260226T140938Z
LAST-MODIFIED:20260226T140941Z
UID:10001263-1774602000-1774609200@www.angierchamber.org
SUMMARY:Jackie's Clothing Closet with Movement Church
DESCRIPTION:
URL:https://www.angierchamber.org/event/jackies-clothing-closet-with-movement-church-6/
LOCATION:Movement Church\, 100 Tippet Road\, Angier\, NC\, 27501
ATTACH;FMTTYPE=image/jpeg:https://www.angierchamber.org/wp-content/uploads/2026/02/642503878_1343660004456046_5511010929452018996_n.jpg
END:VEVENT
BEGIN:VEVENT
DTSTART;TZID=UTC:20260327T120000
DTEND;TZID=UTC:20260327T130000
DTSTAMP:20260424T154025
CREATED:20260227T143629Z
LAST-MODIFIED:20260227T143631Z
UID:10001324-1774612800-1774616400@www.angierchamber.org
SUMMARY:HC Nutrition Ribbon Cutting
DESCRIPTION:
URL:https://www.angierchamber.org/event/hc-nutrition-ribbon-cutting/
LOCATION:HC Nutrition\, 559 N. Raleigh St.\, Suite A\, Angier\, NC\, 27501
ATTACH;FMTTYPE=image/jpeg:https://www.angierchamber.org/wp-content/uploads/2026/02/HC-Nutrition-Ribbon-Cutting.jpg
END:VEVENT
END:VCALENDAR