BEGIN:VCALENDAR
VERSION:2.0
PRODID:-//Angier Chamber of Commerce - ECPv6.15.18//NONSGML v1.0//EN
CALSCALE:GREGORIAN
METHOD:PUBLISH
X-ORIGINAL-URL:https://www.angierchamber.org
X-WR-CALDESC:Events for Angier Chamber of Commerce
REFRESH-INTERVAL;VALUE=DURATION:PT1H
X-Robots-Tag:noindex
X-PUBLISHED-TTL:PT1H
BEGIN:VTIMEZONE
TZID:UTC
BEGIN:STANDARD
TZOFFSETFROM:+0000
TZOFFSETTO:+0000
TZNAME:UTC
DTSTART:20250101T000000
END:STANDARD
END:VTIMEZONE
BEGIN:VEVENT
DTSTART;TZID=UTC:20260326T100000
DTEND;TZID=UTC:20260326T104500
DTSTAMP:20260424T170744
CREATED:20260226T215512Z
LAST-MODIFIED:20260226T215514Z
UID:10001319-1774519200-1774521900@www.angierchamber.org
SUMMARY:Kinder Jam with Ellington Studios
DESCRIPTION:
URL:https://www.angierchamber.org/event/kinder-jam-with-ellington-studios-10/
LOCATION:Ellington Studios\, 54 South Raleigh Street\, Angier\, NC\, 27501\, United States
ATTACH;FMTTYPE=image/jpeg:https://www.angierchamber.org/wp-content/uploads/2026/02/639801297_1513474750784835_8899907419205944968_n.jpg
END:VEVENT
BEGIN:VEVENT
DTSTART;TZID=UTC:20260326T150000
DTEND;TZID=UTC:20260326T160000
DTSTAMP:20260424T170744
CREATED:20260226T215839Z
LAST-MODIFIED:20260226T215841Z
UID:10001323-1774537200-1774540800@www.angierchamber.org
SUMMARY:The Groove Lab with Ellington Studios
DESCRIPTION:
URL:https://www.angierchamber.org/event/the-groove-lab-with-ellington-studios-4/
LOCATION:Ellington Studios\, 54 South Raleigh Street\, Angier\, NC\, 27501\, United States
ATTACH;FMTTYPE=image/jpeg:https://www.angierchamber.org/wp-content/uploads/2026/02/641390733_1513474994118144_3140703227440537702_n.jpg
END:VEVENT
BEGIN:VEVENT
DTSTART;TZID=UTC:20260326T190000
DTEND;TZID=UTC:20260326T200000
DTSTAMP:20260424T170744
CREATED:20260206T161853Z
LAST-MODIFIED:20260206T161854Z
UID:10001245-1774551600-1774555200@www.angierchamber.org
SUMMARY:Cardio Dance Class with HC Nutrition
DESCRIPTION:
URL:https://www.angierchamber.org/event/cardio-dance-class-with-hc-nutrition-5/
LOCATION:HC Nutrition\, 559 N. Raleigh St.\, Suite A\, Angier\, NC\, 27501
ATTACH;FMTTYPE=image/jpeg:https://www.angierchamber.org/wp-content/uploads/2026/02/627002847_3873960966246287_8265385930268403143_n.jpg
END:VEVENT
BEGIN:VEVENT
DTSTART;TZID=UTC:20260326T190000
DTEND;TZID=UTC:20260326T210000
DTSTAMP:20260424T170744
CREATED:20260227T153226Z
LAST-MODIFIED:20260227T153227Z
UID:10001327-1774551600-1774558800@www.angierchamber.org
SUMMARY:Paige King Johnson Performing Live at Napper Tandy's
DESCRIPTION:
URL:https://www.angierchamber.org/event/paige-king-johnson-performing-live-at-napper-tandys-4/
LOCATION:Napper Tandy’s Public House and Restaurant\, 27 South Broad Street East\, Angier\, NC\, 27501\, United States
ATTACH;FMTTYPE=image/jpeg:https://www.angierchamber.org/wp-content/uploads/2026/02/643263940_122153721320655911_1888769703258714687_n.jpg
END:VEVENT
END:VCALENDAR