BEGIN:VCALENDAR
VERSION:2.0
PRODID:-//Angier Chamber of Commerce - ECPv6.15.18//NONSGML v1.0//EN
CALSCALE:GREGORIAN
METHOD:PUBLISH
X-WR-CALNAME:Angier Chamber of Commerce
X-ORIGINAL-URL:https://www.angierchamber.org
X-WR-CALDESC:Events for Angier Chamber of Commerce
REFRESH-INTERVAL;VALUE=DURATION:PT1H
X-Robots-Tag:noindex
X-PUBLISHED-TTL:PT1H
BEGIN:VTIMEZONE
TZID:UTC
BEGIN:STANDARD
TZOFFSETFROM:+0000
TZOFFSETTO:+0000
TZNAME:UTC
DTSTART:20250101T000000
END:STANDARD
END:VTIMEZONE
BEGIN:VEVENT
DTSTART;TZID=UTC:20260323T080000
DTEND;TZID=UTC:20260323T150000
DTSTAMP:20260424T210644
CREATED:20260212T221140Z
LAST-MODIFIED:20260212T221141Z
UID:10001258-1774252800-1774278000@www.angierchamber.org
SUMMARY:NC Notary Class for Chamber Members
DESCRIPTION:The Angier Chamber of Commerce is offering a private Notary Public class exclusively for Chamber members and their employees. The class is 6.5 hours long\, including a 30-minute break\, and typically runs from 8:00 a.m. to 3:00 p.m. Tuition is $86 and must be paid in advance to Central Carolina Community College. Payment can be made by cash\, check\, debit\, or credit card (except American Express).\n\nStudents must bring the latest edition of the NC Notary Public Manual\, available at the CCCC bookstore in Lillington or from any source. To enroll\, students must be at least 18 years old\, have a high school diploma or GED\, live or work in North Carolina\, be able to read\, write\, and speak English\, and have no criminal background.\n\nTo register\, complete the Google form linked below. The PDF registration form will be emailed to the address you provide on the form\, and you must complete it as part of your registration. Students should bring a state or federal photo ID to class\, and may need to provide their Social Security number for the exam roster.\n\nPayment and registration can be completed over the phone by calling Central Carolina Community College Continuing Education Student Support at (919) 718-7500 or Latoya Brower at (919) 718-7073 or (919) 704-0446\, or in person at CCCC Harnett Main Campus Continuing Education Building in Lillington (1075 E. Cornelius Harnett Blvd.\, 10:30 a.m.–5:00 p.m.).\n\nGoogle Form: https://forms.gle/5g8UYS6vLo4SSe9t8 
URL:https://www.angierchamber.org/event/nc-notary-class-for-chamber-members/
LOCATION:Angier Chamber of Commerce\, United States
ATTACH;FMTTYPE=image/jpeg:https://www.angierchamber.org/wp-content/uploads/2026/02/notary-public-for-web-page.jpg
END:VEVENT
BEGIN:VEVENT
DTSTART;TZID=UTC:20260323T180000
DTEND;TZID=UTC:20260323T190000
DTSTAMP:20260424T210644
CREATED:20260226T150250Z
LAST-MODIFIED:20260226T150252Z
UID:10001287-1774288800-1774292400@www.angierchamber.org
SUMMARY:Pilates with Michelle Moore Fitness Nutrition and Wellness
DESCRIPTION:
URL:https://www.angierchamber.org/event/pilates-with-michelle-moore-fitness-nutrition-and-wellness-35/
LOCATION:Angier Chamber of Commerce\, United States
ATTACH;FMTTYPE=image/jpeg:https://www.angierchamber.org/wp-content/uploads/2026/01/617088567_904447205625246_9066359168838215526_n.jpg
ORGANIZER;CN="Michelle Moore Fitness%2C Nutrition%2C and Wellness":MAILTO:Mmooreblessed@gmail.com
END:VEVENT
BEGIN:VEVENT
DTSTART;TZID=UTC:20260323T183000
DTEND;TZID=UTC:20260323T203000
DTSTAMP:20260424T210644
CREATED:20260226T214348Z
LAST-MODIFIED:20260226T214350Z
UID:10001313-1774290600-1774297800@www.angierchamber.org
SUMMARY:Music Trivia with Napper Tandy's
DESCRIPTION:
URL:https://www.angierchamber.org/event/music-trivia-with-napper-tandys-30/
LOCATION:Napper Tandy’s Public House and Restaurant\, 27 South Broad Street East\, Angier\, NC\, 27501\, United States
ATTACH;FMTTYPE=image/jpeg:https://www.angierchamber.org/wp-content/uploads/2026/02/608153982_122149118144655911_8371594348581162804_n.jpg
END:VEVENT
END:VCALENDAR